BEGIN:VCALENDAR
VERSION:2.0
PRODID:-//Ballethnic - ECPv6.15.17//NONSGML v1.0//EN
CALSCALE:GREGORIAN
METHOD:PUBLISH
X-ORIGINAL-URL:https://ballethnic.org
X-WR-CALDESC:Events for Ballethnic
REFRESH-INTERVAL;VALUE=DURATION:PT1H
X-Robots-Tag:noindex
X-PUBLISHED-TTL:PT1H
BEGIN:VTIMEZONE
TZID:America/New_York
BEGIN:DAYLIGHT
TZOFFSETFROM:-0500
TZOFFSETTO:-0400
TZNAME:EDT
DTSTART:20230312T070000
END:DAYLIGHT
BEGIN:STANDARD
TZOFFSETFROM:-0400
TZOFFSETTO:-0500
TZNAME:EST
DTSTART:20231105T060000
END:STANDARD
BEGIN:DAYLIGHT
TZOFFSETFROM:-0500
TZOFFSETTO:-0400
TZNAME:EDT
DTSTART:20240310T070000
END:DAYLIGHT
BEGIN:STANDARD
TZOFFSETFROM:-0400
TZOFFSETTO:-0500
TZNAME:EST
DTSTART:20241103T060000
END:STANDARD
BEGIN:DAYLIGHT
TZOFFSETFROM:-0500
TZOFFSETTO:-0400
TZNAME:EDT
DTSTART:20250309T070000
END:DAYLIGHT
BEGIN:STANDARD
TZOFFSETFROM:-0400
TZOFFSETTO:-0500
TZNAME:EST
DTSTART:20251102T060000
END:STANDARD
BEGIN:DAYLIGHT
TZOFFSETFROM:-0500
TZOFFSETTO:-0400
TZNAME:EDT
DTSTART:20260308T070000
END:DAYLIGHT
BEGIN:STANDARD
TZOFFSETFROM:-0400
TZOFFSETTO:-0500
TZNAME:EST
DTSTART:20261101T060000
END:STANDARD
END:VTIMEZONE
BEGIN:VEVENT
DTSTART;TZID=America/New_York:20250524T114500
DTEND;TZID=America/New_York:20250524T124500
DTSTAMP:20260419T150559
CREATED:20250108T024157Z
LAST-MODIFIED:20250108T024157Z
UID:10008528-1748087100-1748090700@ballethnic.org
SUMMARY:Kiddie Ballethnicize
DESCRIPTION:Studio B
URL:https://ballethnic.org/event/kiddie-ballethnicize-8/2025-05-24/
LOCATION:Ballethnic Dance Studio\, 2587 Ballethnic Way\, East Point\, GA\, 30344\, United States
CATEGORIES:Level IV and Kiddie,Young Men's Class
END:VEVENT
BEGIN:VEVENT
DTSTART;TZID=America/New_York:20250524T110000
DTEND;TZID=America/New_York:20250524T113000
DTSTAMP:20260419T150559
CREATED:20250108T031216Z
LAST-MODIFIED:20250108T031216Z
UID:10008724-1748084400-1748086200@ballethnic.org
SUMMARY:Level IV Jazz
DESCRIPTION:Studio A
URL:https://ballethnic.org/event/level-iv-jazz-3/2025-05-24/
LOCATION:Ballethnic Dance Studio\, 2587 Ballethnic Way\, East Point\, GA\, 30344\, United States
CATEGORIES:BAD - Jazz L-IV,Level IV and V,Young Men's Class
END:VEVENT
BEGIN:VEVENT
DTSTART;TZID=America/New_York:20250524T110000
DTEND;TZID=America/New_York:20250524T113000
DTSTAMP:20260419T150559
CREATED:20250108T031147Z
LAST-MODIFIED:20250108T031147Z
UID:10008757-1748084400-1748086200@ballethnic.org
SUMMARY:Level V Jazz
DESCRIPTION:Studio C
URL:https://ballethnic.org/event/level-v-jazz-4/2025-05-24/
LOCATION:Ballethnic Dance Studio\, 2587 Ballethnic Way\, East Point\, GA\, 30344\, United States
CATEGORIES:Level IV and V,Young Men's Class
END:VEVENT
BEGIN:VEVENT
DTSTART;TZID=America/New_York:20250524T100000
DTEND;TZID=America/New_York:20250524T110000
DTSTAMP:20260419T150559
CREATED:20250108T031642Z
LAST-MODIFIED:20250108T031642Z
UID:10008790-1748080800-1748084400@ballethnic.org
SUMMARY:Level VI Pre-Ballet
DESCRIPTION:Studio B
URL:https://ballethnic.org/event/level-vi-pre-ballet-3/2025-05-24/
LOCATION:Ballethnic Dance Studio\, 2587 Ballethnic Way\, East Point\, GA\, 30344\, United States
CATEGORIES:Level IV and V,Young Men's Class
END:VEVENT
BEGIN:VEVENT
DTSTART;TZID=America/New_York:20250524T093000
DTEND;TZID=America/New_York:20250524T110000
DTSTAMP:20260419T150559
CREATED:20250108T032118Z
LAST-MODIFIED:20250108T032118Z
UID:10008856-1748079000-1748084400@ballethnic.org
SUMMARY:Level V Ballet
DESCRIPTION:Studio C
URL:https://ballethnic.org/event/level-v-ballet-3/2025-05-24/
LOCATION:Ballethnic Dance Studio\, 2587 Ballethnic Way\, East Point\, GA\, 30344\, United States
CATEGORIES:Level IV and V,Young Men's Class
END:VEVENT
BEGIN:VEVENT
DTSTART;TZID=America/New_York:20250521T174500
DTEND;TZID=America/New_York:20250521T191500
DTSTAMP:20260419T150559
CREATED:20250108T041309Z
LAST-MODIFIED:20250108T041309Z
UID:10009144-1747849500-1747854900@ballethnic.org
SUMMARY:Young Men's Class
DESCRIPTION:Studio B
URL:https://ballethnic.org/event/young-mens-class-4/2025-05-21/
LOCATION:Ballethnic Dance Studio\, 2587 Ballethnic Way\, East Point\, GA\, 30344\, United States
CATEGORIES:Young Men's Class
END:VEVENT
BEGIN:VEVENT
DTSTART;VALUE=DATE:20240903
DTEND;VALUE=DATE:20240904
DTSTAMP:20260419T150559
CREATED:20240820T201436Z
LAST-MODIFIED:20240820T201436Z
UID:10006930-1725321600-1725407999@ballethnic.org
SUMMARY:Academy Fall Classes Begin!!
DESCRIPTION:All Ballethnic Academy Fall Classes Begin!!
URL:https://ballethnic.org/event/academy-fall-classes-begin/
LOCATION:Ballethnic Dance Studio\, 2587 Ballethnic Way\, East Point\, GA\, 30344\, United States
CATEGORIES:BYE,Community Event,Level IV and Kiddie,Level IV and V,Levels A,Levels II and III; Beginner/Intermediate,Levels, A, B, and I,Open Classes,Parent and Me,Special Classes,Young Men's Class
END:VEVENT
BEGIN:VEVENT
DTSTART;TZID=America/New_York:20240713T120000
DTEND;TZID=America/New_York:20240713T130000
DTSTAMP:20260419T150559
CREATED:20240416T032844Z
LAST-MODIFIED:20240620T122051Z
UID:10005943-1720872000-1720875600@ballethnic.org
SUMMARY:Academy Registration 2024
DESCRIPTION:Academy Registration for 2024\nNew Student Evaluation Class –  12:00 PM – 1:00 PM \nEarly Registration 12:00 PM – 1:00 PM
URL:https://ballethnic.org/event/academy-registration-2024/
LOCATION:Ballethnic Dance Studio\, 2587 Ballethnic Way\, East Point\, GA\, 30344\, United States
CATEGORIES:BAD - Jazz L-IV,Community Event,Level IV and Kiddie,Level IV and V,Levels A,Levels II and III; Beginner/Intermediate,Levels, A, B, and I,Open Classes,Parent and Me,Young Men's Class
END:VEVENT
BEGIN:VEVENT
DTSTART;TZID=America/New_York:20240507T164500
DTEND;TZID=America/New_York:20240507T173000
DTSTAMP:20260419T150559
CREATED:20231107T143655Z
LAST-MODIFIED:20240324T180748Z
UID:10004529-1715100300-1715103000@ballethnic.org
SUMMARY:Level IV\, V Ballet Foundations
DESCRIPTION:Studio C\nLevel IV:  Students progress to level IV after demonstrating the knowledge of the above. In this level students will learn basic barre\, which includes plie\, tendu degage\, rond de jamb\, frappe\, developpe\, battements and will be introduced to center floor exercises\, adagio\, and some petit allegro. Level IV is also an introduction to pirouettes\, 8 positions of the body\, pas de bourree. \n\n\n\n\nLevel V:  Concentration on 1st thru 5th positions\, tendus\, glissades\, temps lie\, sautes\, jetes\, and the introduction of pas de bourrees\, 1⁄4 pirouettes\, and piques.
URL:https://ballethnic.org/event/level-iv-v-ballet-foundations-2/2024-05-07/
LOCATION:Ballethnic Dance Studio\, 2587 Ballethnic Way\, East Point\, GA\, 30344\, United States
CATEGORIES:Level IV and V,Young Men's Class
END:VEVENT
END:VCALENDAR