BEGIN:VCALENDAR
VERSION:2.0
PRODID:-//Ballethnic - ECPv6.15.17//NONSGML v1.0//EN
CALSCALE:GREGORIAN
METHOD:PUBLISH
X-ORIGINAL-URL:https://ballethnic.org
X-WR-CALDESC:Events for Ballethnic
REFRESH-INTERVAL;VALUE=DURATION:PT1H
X-Robots-Tag:noindex
X-PUBLISHED-TTL:PT1H
BEGIN:VTIMEZONE
TZID:America/New_York
BEGIN:DAYLIGHT
TZOFFSETFROM:-0500
TZOFFSETTO:-0400
TZNAME:EDT
DTSTART:20230312T070000
END:DAYLIGHT
BEGIN:STANDARD
TZOFFSETFROM:-0400
TZOFFSETTO:-0500
TZNAME:EST
DTSTART:20231105T060000
END:STANDARD
BEGIN:DAYLIGHT
TZOFFSETFROM:-0500
TZOFFSETTO:-0400
TZNAME:EDT
DTSTART:20240310T070000
END:DAYLIGHT
BEGIN:STANDARD
TZOFFSETFROM:-0400
TZOFFSETTO:-0500
TZNAME:EST
DTSTART:20241103T060000
END:STANDARD
BEGIN:DAYLIGHT
TZOFFSETFROM:-0500
TZOFFSETTO:-0400
TZNAME:EDT
DTSTART:20250309T070000
END:DAYLIGHT
BEGIN:STANDARD
TZOFFSETFROM:-0400
TZOFFSETTO:-0500
TZNAME:EST
DTSTART:20251102T060000
END:STANDARD
BEGIN:DAYLIGHT
TZOFFSETFROM:-0500
TZOFFSETTO:-0400
TZNAME:EDT
DTSTART:20260308T070000
END:DAYLIGHT
BEGIN:STANDARD
TZOFFSETFROM:-0400
TZOFFSETTO:-0500
TZNAME:EST
DTSTART:20261101T060000
END:STANDARD
END:VTIMEZONE
BEGIN:VEVENT
DTSTART;TZID=America/New_York:20241001T173000
DTEND;TZID=America/New_York:20241001T181500
DTSTAMP:20260421T120155
CREATED:20240902T192901Z
LAST-MODIFIED:20240902T192901Z
UID:10006941-1727803800-1727806500@ballethnic.org
SUMMARY:Open Hip-Hop
DESCRIPTION:Studio B\nOpen Hip-Hop Class for all Levels
URL:https://ballethnic.org/event/open-hip-hop-3/2024-10-01/
LOCATION:Ballethnic Dance Studio\, 2587 Ballethnic Way\, East Point\, GA\, 30344\, United States
CATEGORIES:Open Classes
END:VEVENT
BEGIN:VEVENT
DTSTART;TZID=America/New_York:20241001T174500
DTEND;TZID=America/New_York:20241001T191500
DTSTAMP:20260421T120155
CREATED:20240902T192850Z
LAST-MODIFIED:20240903T212658Z
UID:10006957-1727804700-1727810100@ballethnic.org
SUMMARY:Open Ballet & Pre-Pointe to Int. Pointe
DESCRIPTION:Studio C\n 
URL:https://ballethnic.org/event/open-ballet-pre-pointe-intermediate-pointe/2024-10-01/
LOCATION:Ballethnic Dance Studio\, 2587 Ballethnic Way\, East Point\, GA\, 30344\, United States
CATEGORIES:Open Classes
END:VEVENT
BEGIN:VEVENT
DTSTART;TZID=America/New_York:20241001T181500
DTEND;TZID=America/New_York:20241001T190000
DTSTAMP:20260421T120155
CREATED:20240902T192840Z
LAST-MODIFIED:20240903T212249Z
UID:10007024-1727806500-1727809200@ballethnic.org
SUMMARY:Level IV/V Tap
DESCRIPTION:Studio B
URL:https://ballethnic.org/event/level-iv-v-tap-2/2024-10-01/
LOCATION:Ballethnic Dance Studio\, 2587 Ballethnic Way\, East Point\, GA\, 30344\, United States
CATEGORIES:Level IV and V
END:VEVENT
BEGIN:VEVENT
DTSTART;TZID=America/New_York:20241001T183000
DTEND;TZID=America/New_York:20241001T193000
DTSTAMP:20260421T120155
CREATED:20240902T192826Z
LAST-MODIFIED:20240902T192826Z
UID:10006983-1727807400-1727811000@ballethnic.org
SUMMARY:Open Adult Ballet
DESCRIPTION:Studio A
URL:https://ballethnic.org/event/open-adult-ballet/2024-10-01/
LOCATION:Ballethnic Dance Studio\, 2587 Ballethnic Way\, East Point\, GA\, 30344\, United States
CATEGORIES:Open Classes
END:VEVENT
BEGIN:VEVENT
DTSTART;TZID=America/New_York:20241001T190000
DTEND;TZID=America/New_York:20241001T200000
DTSTAMP:20260421T120155
CREATED:20240902T192812Z
LAST-MODIFIED:20240903T212401Z
UID:10007069-1727809200-1727812800@ballethnic.org
SUMMARY:Level IV/V African
DESCRIPTION:Studio B\nAfrican Class – Levels IV\, V
URL:https://ballethnic.org/event/level-iv-v-african-3/2024-10-01/
LOCATION:Ballethnic Dance Studio\, 2587 Ballethnic Way\, East Point\, GA\, 30344\, United States
CATEGORIES:Level IV and V
END:VEVENT
BEGIN:VEVENT
DTSTART;TZID=America/New_York:20241001T193000
DTEND;TZID=America/New_York:20241001T203000
DTSTAMP:20260421T120155
CREATED:20240902T192800Z
LAST-MODIFIED:20240902T192800Z
UID:10007003-1727811000-1727814600@ballethnic.org
SUMMARY:Open Adult Ballethnicize
DESCRIPTION:Studio A
URL:https://ballethnic.org/event/open-adult-ballethnicize/2024-10-01/
LOCATION:Ballethnic Dance Studio\, 2587 Ballethnic Way\, East Point\, GA\, 30344\, United States
CATEGORIES:Open Classes
END:VEVENT
BEGIN:VEVENT
DTSTART;TZID=America/New_York:20241002T174500
DTEND;TZID=America/New_York:20241002T191500
DTSTAMP:20260421T120155
CREATED:20240902T192708Z
LAST-MODIFIED:20240903T211803Z
UID:10007089-1727891100-1727896500@ballethnic.org
SUMMARY:Level II/III Pre-Pointe to Pointe
DESCRIPTION:Studio A
URL:https://ballethnic.org/event/level-a-b-i-ii-iii-ballet-pre-pointe-pointe/2024-10-02/
LOCATION:Ballethnic Dance Studio\, 2587 Ballethnic Way\, East Point\, GA\, 30344\, United States
CATEGORIES:Levels II and III; Beginner/Intermediate,Levels, A, B, and I
END:VEVENT
BEGIN:VEVENT
DTSTART;TZID=America/New_York:20241002T174500
DTEND;TZID=America/New_York:20241002T191500
DTSTAMP:20260421T120155
CREATED:20240902T192719Z
LAST-MODIFIED:20240902T192719Z
UID:10007172-1727891100-1727896500@ballethnic.org
SUMMARY:Young Men's Class
DESCRIPTION:Studio B
URL:https://ballethnic.org/event/young-mens-class-3/2024-10-02/
LOCATION:Ballethnic Dance Studio\, 2587 Ballethnic Way\, East Point\, GA\, 30344\, United States
CATEGORIES:Young Men's Class
END:VEVENT
BEGIN:VEVENT
DTSTART;TZID=America/New_York:20241002T174500
DTEND;TZID=America/New_York:20241002T191500
DTSTAMP:20260421T120155
CREATED:20240902T192732Z
LAST-MODIFIED:20240902T204615Z
UID:10007255-1727891100-1727896500@ballethnic.org
SUMMARY:Beginner/Intermediate Teen Ballet
DESCRIPTION:Studio C
URL:https://ballethnic.org/event/beginner-intermediate-teen-ballet-7/2024-10-02/
LOCATION:Ballethnic Dance Studio\, 2587 Ballethnic Way\, East Point\, GA\, 30344\, United States
CATEGORIES:Levels II and III; Beginner/Intermediate
END:VEVENT
BEGIN:VEVENT
DTSTART;TZID=America/New_York:20241002T191500
DTEND;TZID=America/New_York:20241002T203000
DTSTAMP:20260421T120155
CREATED:20240902T192747Z
LAST-MODIFIED:20240903T212909Z
UID:10008339-1727896500-1727901000@ballethnic.org
SUMMARY:Open Modern
DESCRIPTION:Studio A
URL:https://ballethnic.org/event/open-modern/2024-10-02/
LOCATION:Ballethnic Dance Studio\, 2587 Ballethnic Way\, East Point\, GA\, 30344\, United States
CATEGORIES:Open Classes
ATTACH;FMTTYPE=image/png:https://ballethnic.org/wp-content/uploads/2024/09/Image1-e1725391206159.png
END:VEVENT
BEGIN:VEVENT
DTSTART;TZID=America/New_York:20241002T191500
DTEND;TZID=America/New_York:20241002T204500
DTSTAMP:20260421T120155
CREATED:20240902T192654Z
LAST-MODIFIED:20240902T192654Z
UID:10007283-1727896500-1727901900@ballethnic.org
SUMMARY:Production Rehearsal
DESCRIPTION:Studio A
URL:https://ballethnic.org/event/production-rehearsal-3/2024-10-02/
LOCATION:Ballethnic Dance Studio\, 2587 Ballethnic Way\, East Point\, GA\, 30344\, United States
CATEGORIES:BYE,Levels, A, B, and I,Open Classes,Productions,Special Classes
END:VEVENT
BEGIN:VEVENT
DTSTART;TZID=America/New_York:20241003T174500
DTEND;TZID=America/New_York:20241003T184500
DTSTAMP:20260421T120155
CREATED:20240902T192623Z
LAST-MODIFIED:20240903T211528Z
UID:10007298-1727977500-1727981100@ballethnic.org
SUMMARY:Level II/III Pre-Pointe
DESCRIPTION:Studio B
URL:https://ballethnic.org/event/level-ii-iii-pre-pointe-5/2024-10-03/
LOCATION:Ballethnic Dance Studio\, 2587 Ballethnic Way\, East Point\, GA\, 30344\, United States
CATEGORIES:Levels II and III; Beginner/Intermediate
END:VEVENT
BEGIN:VEVENT
DTSTART;TZID=America/New_York:20241003T184500
DTEND;TZID=America/New_York:20241003T193000
DTSTAMP:20260421T120155
CREATED:20240902T192558Z
LAST-MODIFIED:20240903T211112Z
UID:10007440-1727981100-1727983800@ballethnic.org
SUMMARY:Level II/III Tap
DESCRIPTION:Studio B
URL:https://ballethnic.org/event/level-ii-iii-tap-2/2024-10-03/
LOCATION:Ballethnic Dance Studio\, 2587 Ballethnic Way\, East Point\, GA\, 30344\, United States
CATEGORIES:Levels II and III; Beginner/Intermediate
END:VEVENT
BEGIN:VEVENT
DTSTART;TZID=America/New_York:20241003T193000
DTEND;TZID=America/New_York:20241003T203000
DTSTAMP:20260421T120155
CREATED:20240902T192543Z
LAST-MODIFIED:20240903T211035Z
UID:10007523-1727983800-1727987400@ballethnic.org
SUMMARY:Level II/III African
DESCRIPTION:Studio B
URL:https://ballethnic.org/event/level-ii-iii-african-2/2024-10-03/
LOCATION:Ballethnic Dance Studio\, 2587 Ballethnic Way\, East Point\, GA\, 30344\, United States
CATEGORIES:Levels II and III; Beginner/Intermediate
END:VEVENT
BEGIN:VEVENT
DTSTART;TZID=America/New_York:20241005T093000
DTEND;TZID=America/New_York:20241005T110000
DTSTAMP:20260421T120155
CREATED:20240902T192504Z
LAST-MODIFIED:20240902T192504Z
UID:10007571-1728120600-1728126000@ballethnic.org
SUMMARY:Level IV Ballet
DESCRIPTION:Studio A
URL:https://ballethnic.org/event/level-iv-ballet-2/2024-10-05/
LOCATION:GA
CATEGORIES:Level IV and V
END:VEVENT
BEGIN:VEVENT
DTSTART;TZID=America/New_York:20241005T093000
DTEND;TZID=America/New_York:20241005T110000
DTSTAMP:20260421T120155
CREATED:20240902T192517Z
LAST-MODIFIED:20240902T192517Z
UID:10007616-1728120600-1728126000@ballethnic.org
SUMMARY:Level V Ballet
DESCRIPTION:Studio C
URL:https://ballethnic.org/event/level-v-ballet-2/2024-10-05/
LOCATION:Ballethnic Dance Studio\, 2587 Ballethnic Way\, East Point\, GA\, 30344\, United States
CATEGORIES:Level IV and V,Young Men's Class
END:VEVENT
BEGIN:VEVENT
DTSTART;TZID=America/New_York:20241005T100000
DTEND;TZID=America/New_York:20241005T110000
DTSTAMP:20260421T120155
CREATED:20240902T192451Z
LAST-MODIFIED:20240902T192451Z
UID:10007699-1728122400-1728126000@ballethnic.org
SUMMARY:Level VI Pre-Ballet
DESCRIPTION:Studio B
URL:https://ballethnic.org/event/level-vi-pre-ballet-2/2024-10-05/
LOCATION:Ballethnic Dance Studio\, 2587 Ballethnic Way\, East Point\, GA\, 30344\, United States
CATEGORIES:Level IV and V,Young Men's Class
END:VEVENT
BEGIN:VEVENT
DTSTART;TZID=America/New_York:20241005T110000
DTEND;TZID=America/New_York:20241005T113000
DTSTAMP:20260421T120155
CREATED:20240902T192425Z
LAST-MODIFIED:20240902T192425Z
UID:10007852-1728126000-1728127800@ballethnic.org
SUMMARY:Level V Jazz
DESCRIPTION:Studio C
URL:https://ballethnic.org/event/level-v-jazz-3/2024-10-05/
LOCATION:Ballethnic Dance Studio\, 2587 Ballethnic Way\, East Point\, GA\, 30344\, United States
CATEGORIES:Level IV and V,Young Men's Class
END:VEVENT
BEGIN:VEVENT
DTSTART;TZID=America/New_York:20241005T110000
DTEND;TZID=America/New_York:20241005T113000
DTSTAMP:20260421T120155
CREATED:20240902T192439Z
LAST-MODIFIED:20240902T192439Z
UID:10007833-1728126000-1728127800@ballethnic.org
SUMMARY:Level IV Jazz
DESCRIPTION:Studio A
URL:https://ballethnic.org/event/level-iv-jazz-2/2024-10-05/
LOCATION:Ballethnic Dance Studio\, 2587 Ballethnic Way\, East Point\, GA\, 30344\, United States
CATEGORIES:BAD - Jazz L-IV,Level IV and V,Young Men's Class
END:VEVENT
BEGIN:VEVENT
DTSTART;TZID=America/New_York:20241005T110000
DTEND;TZID=America/New_York:20241005T114500
DTSTAMP:20260421T120155
CREATED:20240902T192411Z
LAST-MODIFIED:20240903T210729Z
UID:10007934-1728126000-1728128700@ballethnic.org
SUMMARY:Level VI / Kiddie Tap
DESCRIPTION:Studio B
URL:https://ballethnic.org/event/level-iv-kiddie-tap/2024-10-05/
LOCATION:Ballethnic Dance Studio\, 2587 Ballethnic Way\, East Point\, GA\, 30344\, United States
CATEGORIES:Level IV and Kiddie
END:VEVENT
BEGIN:VEVENT
DTSTART;TZID=America/New_York:20241005T113000
DTEND;TZID=America/New_York:20241005T130000
DTSTAMP:20260421T120155
CREATED:20240902T192357Z
LAST-MODIFIED:20240903T210453Z
UID:10008089-1728127800-1728133200@ballethnic.org
SUMMARY:Level II/III Ballet & Pre-Pointe
DESCRIPTION:Studio C
URL:https://ballethnic.org/event/level-ii-iii-ballet-pre-pointe/2024-10-05/
LOCATION:Ballethnic Dance Studio\, 2587 Ballethnic Way\, East Point\, GA\, 30344\, United States
CATEGORIES:Levels II and III; Beginner/Intermediate
END:VEVENT
BEGIN:VEVENT
DTSTART;TZID=America/New_York:20241005T114500
DTEND;TZID=America/New_York:20241005T124500
DTSTAMP:20260421T120155
CREATED:20240902T192311Z
LAST-MODIFIED:20240902T192311Z
UID:10008016-1728128700-1728132300@ballethnic.org
SUMMARY:Kiddie Ballethnicize
DESCRIPTION:Studio B
URL:https://ballethnic.org/event/kiddie-ballethnicize-7/2024-10-05/
LOCATION:Ballethnic Dance Studio\, 2587 Ballethnic Way\, East Point\, GA\, 30344\, United States
CATEGORIES:Level IV and Kiddie,Young Men's Class
END:VEVENT
BEGIN:VEVENT
DTSTART;TZID=America/New_York:20241005T130000
DTEND;TZID=America/New_York:20241005T133000
DTSTAMP:20260421T120155
CREATED:20240902T192258Z
LAST-MODIFIED:20240903T210351Z
UID:10008291-1728133200-1728135000@ballethnic.org
SUMMARY:*Pre-Pointe to Pointe 6-Week Series
DESCRIPTION:Studio B\n*By Invitation Only
URL:https://ballethnic.org/event/pre-pointe-pointe-advancement-series/2024-10-05/
LOCATION:Online Class
CATEGORIES:Open Classes
END:VEVENT
BEGIN:VEVENT
DTSTART;TZID=America/New_York:20241005T130000
DTEND;TZID=America/New_York:20241005T143000
DTSTAMP:20260421T120155
CREATED:20240902T192228Z
LAST-MODIFIED:20240903T205958Z
UID:10008272-1728133200-1728138600@ballethnic.org
SUMMARY:Level II/III Jazz/Modern
DESCRIPTION:Studio B
URL:https://ballethnic.org/event/level-i-ii-iii-jazz-modern-2/2024-10-05/
LOCATION:Ballethnic Dance Studio\, 2587 Ballethnic Way\, East Point\, GA\, 30344\, United States
CATEGORIES:Levels II and III; Beginner/Intermediate,Levels, A, B, and I
END:VEVENT
BEGIN:VEVENT
DTSTART;TZID=America/New_York:20241005T130000
DTEND;TZID=America/New_York:20241005T143000
DTSTAMP:20260421T120155
CREATED:20240902T192242Z
LAST-MODIFIED:20240903T210242Z
UID:10008190-1728133200-1728138600@ballethnic.org
SUMMARY:*Pas de Deux
DESCRIPTION:Studio A\n*By Invitation Only
URL:https://ballethnic.org/event/pas-de-deux-by-invitation-only-2/2024-10-05/
LOCATION:GA
CATEGORIES:Special Classes
END:VEVENT
BEGIN:VEVENT
DTSTART;TZID=America/New_York:20241005T130000
DTEND;TZID=America/New_York:20241005T143000
DTSTAMP:20260421T120155
CREATED:20250108T020529Z
LAST-MODIFIED:20250108T020529Z
UID:10008388-1728133200-1728138600@ballethnic.org
SUMMARY:Level II/III Jazz/Modern
DESCRIPTION:Studio B
URL:https://ballethnic.org/event/level-ii-iii-jazz-modern/2024-10-05/
LOCATION:Ballethnic Dance Studio\, 2587 Ballethnic Way\, East Point\, GA\, 30344\, United States
CATEGORIES:Levels II and III; Beginner/Intermediate,Levels, A, B, and I
END:VEVENT
BEGIN:VEVENT
DTSTART;TZID=America/New_York:20241026T150000
DTEND;TZID=America/New_York:20241026T180000
DTSTAMP:20260421T120155
CREATED:20241022T150109Z
LAST-MODIFIED:20241022T161950Z
UID:10008350-1729954800-1729965600@ballethnic.org
SUMMARY:Fall Fling 2024
DESCRIPTION:Ballethnic Academy of Dance – Annual Fall Fling \n3:00 PM – 6:00 PM
URL:https://ballethnic.org/event/fall-fling/
LOCATION:Ballethnic Dance Studio\, 2587 Ballethnic Way\, East Point\, GA\, 30344\, United States
CATEGORIES:Community Event,Open Classes,Productions,Special Classes
END:VEVENT
BEGIN:VEVENT
DTSTART;VALUE=DATE:20241124
DTEND;VALUE=DATE:20241201
DTSTAMP:20260421T120155
CREATED:20240902T194407Z
LAST-MODIFIED:20240902T195806Z
UID:10008326-1732406400-1733011199@ballethnic.org
SUMMARY:Thanksgiving Break
DESCRIPTION:No Classes!!
URL:https://ballethnic.org/event/thanksgiving-break/
LOCATION:Ballethnic Dance Studio\, 2587 Ballethnic Way\, East Point\, GA\, 30344\, United States
CATEGORIES:Community Event,Open Classes
END:VEVENT
BEGIN:VEVENT
DTSTART;TZID=America/New_York:20241214T140000
DTEND;TZID=America/New_York:20241214T160000
DTSTAMP:20260421T120155
CREATED:20241022T162244Z
LAST-MODIFIED:20241022T163603Z
UID:10008332-1734184800-1734192000@ballethnic.org
SUMMARY:Urban Nutcracker 2024
DESCRIPTION:Ballethnic Dance Company presents Urban Nutcracker 2024 \n \n 
URL:https://ballethnic.org/event/urban-nutcracker-2024/2024-12-14/1/
LOCATION:Morehouse King Chapel\, 830 Westview Drive SW\, Atlanta\, GA\, 30314\, United States
CATEGORIES:Community Event,Open Classes,Productions,Special Classes
END:VEVENT
BEGIN:VEVENT
DTSTART;VALUE=DATE:20250104
DTEND;VALUE=DATE:20250111
DTSTAMP:20260421T120155
CREATED:20250108T044111Z
LAST-MODIFIED:20250108T044111Z
UID:10009369-1735948800-1736553599@ballethnic.org
SUMMARY:Dance Company Residency
DESCRIPTION:Ballethnic Dance Company Residency @ Wayne State University\, Detroit Michigan.
URL:https://ballethnic.org/event/dance-company-residency/
LOCATION:Ballethnic Dance Studio\, 2587 Ballethnic Way\, East Point\, GA\, 30344\, United States
CATEGORIES:Productions,Special Classes
END:VEVENT
END:VCALENDAR