BEGIN:VCALENDAR
VERSION:2.0
PRODID:-//Ballethnic - ECPv6.15.17//NONSGML v1.0//EN
CALSCALE:GREGORIAN
METHOD:PUBLISH
X-ORIGINAL-URL:https://ballethnic.org
X-WR-CALDESC:Events for Ballethnic
REFRESH-INTERVAL;VALUE=DURATION:PT1H
X-Robots-Tag:noindex
X-PUBLISHED-TTL:PT1H
BEGIN:VTIMEZONE
TZID:America/New_York
BEGIN:DAYLIGHT
TZOFFSETFROM:-0500
TZOFFSETTO:-0400
TZNAME:EDT
DTSTART:20230312T070000
END:DAYLIGHT
BEGIN:STANDARD
TZOFFSETFROM:-0400
TZOFFSETTO:-0500
TZNAME:EST
DTSTART:20231105T060000
END:STANDARD
BEGIN:DAYLIGHT
TZOFFSETFROM:-0500
TZOFFSETTO:-0400
TZNAME:EDT
DTSTART:20240310T070000
END:DAYLIGHT
BEGIN:STANDARD
TZOFFSETFROM:-0400
TZOFFSETTO:-0500
TZNAME:EST
DTSTART:20241103T060000
END:STANDARD
BEGIN:DAYLIGHT
TZOFFSETFROM:-0500
TZOFFSETTO:-0400
TZNAME:EDT
DTSTART:20250309T070000
END:DAYLIGHT
BEGIN:STANDARD
TZOFFSETFROM:-0400
TZOFFSETTO:-0500
TZNAME:EST
DTSTART:20251102T060000
END:STANDARD
BEGIN:DAYLIGHT
TZOFFSETFROM:-0500
TZOFFSETTO:-0400
TZNAME:EDT
DTSTART:20260308T070000
END:DAYLIGHT
BEGIN:STANDARD
TZOFFSETFROM:-0400
TZOFFSETTO:-0500
TZNAME:EST
DTSTART:20261101T060000
END:STANDARD
END:VTIMEZONE
BEGIN:VEVENT
DTSTART;TZID=America/New_York:20240925T191500
DTEND;TZID=America/New_York:20240925T203000
DTSTAMP:20260421T070613
CREATED:20240902T192747Z
LAST-MODIFIED:20240903T212909Z
UID:10008338-1727291700-1727296200@ballethnic.org
SUMMARY:Open Modern
DESCRIPTION:Studio A
URL:https://ballethnic.org/event/open-modern/2024-09-25/
LOCATION:Ballethnic Dance Studio\, 2587 Ballethnic Way\, East Point\, GA\, 30344\, United States
CATEGORIES:Open Classes
ATTACH;FMTTYPE=image/png:https://ballethnic.org/wp-content/uploads/2024/09/Image1-e1725391206159.png
END:VEVENT
BEGIN:VEVENT
DTSTART;TZID=America/New_York:20240925T191500
DTEND;TZID=America/New_York:20240925T204500
DTSTAMP:20260421T070614
CREATED:20240902T192654Z
LAST-MODIFIED:20240902T192654Z
UID:10007282-1727291700-1727297100@ballethnic.org
SUMMARY:Production Rehearsal
DESCRIPTION:Studio A
URL:https://ballethnic.org/event/production-rehearsal-3/2024-09-25/
LOCATION:Ballethnic Dance Studio\, 2587 Ballethnic Way\, East Point\, GA\, 30344\, United States
CATEGORIES:BYE,Levels, A, B, and I,Open Classes,Productions,Special Classes
END:VEVENT
BEGIN:VEVENT
DTSTART;TZID=America/New_York:20240926T174500
DTEND;TZID=America/New_York:20240926T184500
DTSTAMP:20260421T070614
CREATED:20240902T192623Z
LAST-MODIFIED:20240903T211528Z
UID:10007297-1727372700-1727376300@ballethnic.org
SUMMARY:Level II/III Pre-Pointe
DESCRIPTION:Studio B
URL:https://ballethnic.org/event/level-ii-iii-pre-pointe-5/2024-09-26/
LOCATION:Ballethnic Dance Studio\, 2587 Ballethnic Way\, East Point\, GA\, 30344\, United States
CATEGORIES:Levels II and III; Beginner/Intermediate
END:VEVENT
BEGIN:VEVENT
DTSTART;TZID=America/New_York:20240926T184500
DTEND;TZID=America/New_York:20240926T193000
DTSTAMP:20260421T070614
CREATED:20240902T192558Z
LAST-MODIFIED:20240903T211112Z
UID:10007439-1727376300-1727379000@ballethnic.org
SUMMARY:Level II/III Tap
DESCRIPTION:Studio B
URL:https://ballethnic.org/event/level-ii-iii-tap-2/2024-09-26/
LOCATION:Ballethnic Dance Studio\, 2587 Ballethnic Way\, East Point\, GA\, 30344\, United States
CATEGORIES:Levels II and III; Beginner/Intermediate
END:VEVENT
BEGIN:VEVENT
DTSTART;TZID=America/New_York:20240926T193000
DTEND;TZID=America/New_York:20240926T203000
DTSTAMP:20260421T070614
CREATED:20240902T192543Z
LAST-MODIFIED:20240903T211035Z
UID:10007522-1727379000-1727382600@ballethnic.org
SUMMARY:Level II/III African
DESCRIPTION:Studio B
URL:https://ballethnic.org/event/level-ii-iii-african-2/2024-09-26/
LOCATION:Ballethnic Dance Studio\, 2587 Ballethnic Way\, East Point\, GA\, 30344\, United States
CATEGORIES:Levels II and III; Beginner/Intermediate
END:VEVENT
BEGIN:VEVENT
DTSTART;TZID=America/New_York:20240928T093000
DTEND;TZID=America/New_York:20240928T110000
DTSTAMP:20260421T070614
CREATED:20240902T192504Z
LAST-MODIFIED:20240902T192504Z
UID:10007570-1727515800-1727521200@ballethnic.org
SUMMARY:Level IV Ballet
DESCRIPTION:Studio A
URL:https://ballethnic.org/event/level-iv-ballet-2/2024-09-28/
LOCATION:GA
CATEGORIES:Level IV and V
END:VEVENT
BEGIN:VEVENT
DTSTART;TZID=America/New_York:20240928T093000
DTEND;TZID=America/New_York:20240928T110000
DTSTAMP:20260421T070614
CREATED:20240902T192517Z
LAST-MODIFIED:20240902T192517Z
UID:10007615-1727515800-1727521200@ballethnic.org
SUMMARY:Level V Ballet
DESCRIPTION:Studio C
URL:https://ballethnic.org/event/level-v-ballet-2/2024-09-28/
LOCATION:Ballethnic Dance Studio\, 2587 Ballethnic Way\, East Point\, GA\, 30344\, United States
CATEGORIES:Level IV and V,Young Men's Class
END:VEVENT
BEGIN:VEVENT
DTSTART;TZID=America/New_York:20240928T100000
DTEND;TZID=America/New_York:20240928T110000
DTSTAMP:20260421T070614
CREATED:20240902T192451Z
LAST-MODIFIED:20240902T192451Z
UID:10007698-1727517600-1727521200@ballethnic.org
SUMMARY:Level VI Pre-Ballet
DESCRIPTION:Studio B
URL:https://ballethnic.org/event/level-vi-pre-ballet-2/2024-09-28/
LOCATION:Ballethnic Dance Studio\, 2587 Ballethnic Way\, East Point\, GA\, 30344\, United States
CATEGORIES:Level IV and V,Young Men's Class
END:VEVENT
BEGIN:VEVENT
DTSTART;TZID=America/New_York:20240928T110000
DTEND;TZID=America/New_York:20240928T113000
DTSTAMP:20260421T070614
CREATED:20240902T192425Z
LAST-MODIFIED:20240902T192425Z
UID:10007851-1727521200-1727523000@ballethnic.org
SUMMARY:Level V Jazz
DESCRIPTION:Studio C
URL:https://ballethnic.org/event/level-v-jazz-3/2024-09-28/
LOCATION:Ballethnic Dance Studio\, 2587 Ballethnic Way\, East Point\, GA\, 30344\, United States
CATEGORIES:Level IV and V,Young Men's Class
END:VEVENT
BEGIN:VEVENT
DTSTART;TZID=America/New_York:20240928T110000
DTEND;TZID=America/New_York:20240928T113000
DTSTAMP:20260421T070614
CREATED:20240902T192439Z
LAST-MODIFIED:20240902T192439Z
UID:10007832-1727521200-1727523000@ballethnic.org
SUMMARY:Level IV Jazz
DESCRIPTION:Studio A
URL:https://ballethnic.org/event/level-iv-jazz-2/2024-09-28/
LOCATION:Ballethnic Dance Studio\, 2587 Ballethnic Way\, East Point\, GA\, 30344\, United States
CATEGORIES:BAD - Jazz L-IV,Level IV and V,Young Men's Class
END:VEVENT
BEGIN:VEVENT
DTSTART;TZID=America/New_York:20240928T110000
DTEND;TZID=America/New_York:20240928T114500
DTSTAMP:20260421T070614
CREATED:20240902T192411Z
LAST-MODIFIED:20240903T210729Z
UID:10007933-1727521200-1727523900@ballethnic.org
SUMMARY:Level VI / Kiddie Tap
DESCRIPTION:Studio B
URL:https://ballethnic.org/event/level-iv-kiddie-tap/2024-09-28/
LOCATION:Ballethnic Dance Studio\, 2587 Ballethnic Way\, East Point\, GA\, 30344\, United States
CATEGORIES:Level IV and Kiddie
END:VEVENT
BEGIN:VEVENT
DTSTART;TZID=America/New_York:20240928T113000
DTEND;TZID=America/New_York:20240928T130000
DTSTAMP:20260421T070614
CREATED:20240902T192357Z
LAST-MODIFIED:20240903T210453Z
UID:10008088-1727523000-1727528400@ballethnic.org
SUMMARY:Level II/III Ballet & Pre-Pointe
DESCRIPTION:Studio C
URL:https://ballethnic.org/event/level-ii-iii-ballet-pre-pointe/2024-09-28/
LOCATION:Ballethnic Dance Studio\, 2587 Ballethnic Way\, East Point\, GA\, 30344\, United States
CATEGORIES:Levels II and III; Beginner/Intermediate
END:VEVENT
BEGIN:VEVENT
DTSTART;TZID=America/New_York:20240928T114500
DTEND;TZID=America/New_York:20240928T124500
DTSTAMP:20260421T070614
CREATED:20240902T192311Z
LAST-MODIFIED:20240902T192311Z
UID:10008015-1727523900-1727527500@ballethnic.org
SUMMARY:Kiddie Ballethnicize
DESCRIPTION:Studio B
URL:https://ballethnic.org/event/kiddie-ballethnicize-7/2024-09-28/
LOCATION:Ballethnic Dance Studio\, 2587 Ballethnic Way\, East Point\, GA\, 30344\, United States
CATEGORIES:Level IV and Kiddie,Young Men's Class
END:VEVENT
BEGIN:VEVENT
DTSTART;TZID=America/New_York:20240928T130000
DTEND;TZID=America/New_York:20240928T133000
DTSTAMP:20260421T070614
CREATED:20240902T192258Z
LAST-MODIFIED:20240903T210351Z
UID:10008290-1727528400-1727530200@ballethnic.org
SUMMARY:*Pre-Pointe to Pointe 6-Week Series
DESCRIPTION:Studio B\n*By Invitation Only
URL:https://ballethnic.org/event/pre-pointe-pointe-advancement-series/2024-09-28/
LOCATION:Online Class
CATEGORIES:Open Classes
END:VEVENT
BEGIN:VEVENT
DTSTART;TZID=America/New_York:20240928T130000
DTEND;TZID=America/New_York:20240928T143000
DTSTAMP:20260421T070614
CREATED:20240902T192228Z
LAST-MODIFIED:20240903T205958Z
UID:10008271-1727528400-1727533800@ballethnic.org
SUMMARY:Level II/III Jazz/Modern
DESCRIPTION:Studio B
URL:https://ballethnic.org/event/level-i-ii-iii-jazz-modern-2/2024-09-28/
LOCATION:Ballethnic Dance Studio\, 2587 Ballethnic Way\, East Point\, GA\, 30344\, United States
CATEGORIES:Levels II and III; Beginner/Intermediate,Levels, A, B, and I
END:VEVENT
BEGIN:VEVENT
DTSTART;TZID=America/New_York:20240928T130000
DTEND;TZID=America/New_York:20240928T143000
DTSTAMP:20260421T070614
CREATED:20240902T192242Z
LAST-MODIFIED:20240903T210242Z
UID:10008189-1727528400-1727533800@ballethnic.org
SUMMARY:*Pas de Deux
DESCRIPTION:Studio A\n*By Invitation Only
URL:https://ballethnic.org/event/pas-de-deux-by-invitation-only-2/2024-09-28/
LOCATION:GA
CATEGORIES:Special Classes
END:VEVENT
BEGIN:VEVENT
DTSTART;TZID=America/New_York:20240928T130000
DTEND;TZID=America/New_York:20240928T143000
DTSTAMP:20260421T070614
CREATED:20250108T020529Z
LAST-MODIFIED:20250108T020529Z
UID:10008387-1727528400-1727533800@ballethnic.org
SUMMARY:Level II/III Jazz/Modern
DESCRIPTION:Studio B
URL:https://ballethnic.org/event/level-ii-iii-jazz-modern/2024-09-28/
LOCATION:Ballethnic Dance Studio\, 2587 Ballethnic Way\, East Point\, GA\, 30344\, United States
CATEGORIES:Levels II and III; Beginner/Intermediate,Levels, A, B, and I
END:VEVENT
BEGIN:VEVENT
DTSTART;TZID=America/New_York:20241026T150000
DTEND;TZID=America/New_York:20241026T180000
DTSTAMP:20260421T070614
CREATED:20241022T150109Z
LAST-MODIFIED:20241022T161950Z
UID:10008350-1729954800-1729965600@ballethnic.org
SUMMARY:Fall Fling 2024
DESCRIPTION:Ballethnic Academy of Dance – Annual Fall Fling \n3:00 PM – 6:00 PM
URL:https://ballethnic.org/event/fall-fling/
LOCATION:Ballethnic Dance Studio\, 2587 Ballethnic Way\, East Point\, GA\, 30344\, United States
CATEGORIES:Community Event,Open Classes,Productions,Special Classes
END:VEVENT
BEGIN:VEVENT
DTSTART;VALUE=DATE:20241124
DTEND;VALUE=DATE:20241201
DTSTAMP:20260421T070614
CREATED:20240902T194407Z
LAST-MODIFIED:20240902T195806Z
UID:10008326-1732406400-1733011199@ballethnic.org
SUMMARY:Thanksgiving Break
DESCRIPTION:No Classes!!
URL:https://ballethnic.org/event/thanksgiving-break/
LOCATION:Ballethnic Dance Studio\, 2587 Ballethnic Way\, East Point\, GA\, 30344\, United States
CATEGORIES:Community Event,Open Classes
END:VEVENT
BEGIN:VEVENT
DTSTART;TZID=America/New_York:20241214T140000
DTEND;TZID=America/New_York:20241214T160000
DTSTAMP:20260421T070614
CREATED:20241022T162244Z
LAST-MODIFIED:20241022T163603Z
UID:10008332-1734184800-1734192000@ballethnic.org
SUMMARY:Urban Nutcracker 2024
DESCRIPTION:Ballethnic Dance Company presents Urban Nutcracker 2024 \n \n 
URL:https://ballethnic.org/event/urban-nutcracker-2024/2024-12-14/1/
LOCATION:Morehouse King Chapel\, 830 Westview Drive SW\, Atlanta\, GA\, 30314\, United States
CATEGORIES:Community Event,Open Classes,Productions,Special Classes
END:VEVENT
BEGIN:VEVENT
DTSTART;VALUE=DATE:20250104
DTEND;VALUE=DATE:20250111
DTSTAMP:20260421T070614
CREATED:20250108T044111Z
LAST-MODIFIED:20250108T044111Z
UID:10009369-1735948800-1736553599@ballethnic.org
SUMMARY:Dance Company Residency
DESCRIPTION:Ballethnic Dance Company Residency @ Wayne State University\, Detroit Michigan.
URL:https://ballethnic.org/event/dance-company-residency/
LOCATION:Ballethnic Dance Studio\, 2587 Ballethnic Way\, East Point\, GA\, 30344\, United States
CATEGORIES:Productions,Special Classes
END:VEVENT
BEGIN:VEVENT
DTSTART;VALUE=DATE:20250115
DTEND;VALUE=DATE:20250116
DTSTAMP:20260421T070614
CREATED:20250108T045250Z
LAST-MODIFIED:20250108T045250Z
UID:10009371-1736899200-1736985599@ballethnic.org
SUMMARY:Ballethnic 35th Birthday
DESCRIPTION:Ballethnic Official 35th Birthday
URL:https://ballethnic.org/event/ballethnic-35th-birthday/
LOCATION:Ballethnic Dance Studio\, 2587 Ballethnic Way\, East Point\, GA\, 30344\, United States
CATEGORIES:Community Event
END:VEVENT
BEGIN:VEVENT
DTSTART;TZID=America/New_York:20250118T160000
DTEND;TZID=America/New_York:20250118T190000
DTSTAMP:20260421T070614
CREATED:20250108T045900Z
LAST-MODIFIED:20250108T045900Z
UID:10009372-1737216000-1737226800@ballethnic.org
SUMMARY:Ballethnic 35th Anniversary Celebration
DESCRIPTION:Ballethnic Celebrates their 35th Anniversary!\nAn RSVP Ole’ School Celebration to honor thank all its Sponsors\, Donors and Alumni who have supported them throughout those 35 years!!
URL:https://ballethnic.org/event/ballethnic-35th-anniversary-celebration/
LOCATION:Ballethnic Dance Studio\, 2587 Ballethnic Way\, East Point\, GA\, 30344\, United States
CATEGORIES:Community Event,Productions
ATTACH;FMTTYPE=application/pdf:https://ballethnic.org/wp-content/uploads/2025/01/35th-Anniversary-Final-Invite2.pdf
END:VEVENT
BEGIN:VEVENT
DTSTART;TZID=America/New_York:20250315T143000
DTEND;TZID=America/New_York:20250315T163000
DTSTAMP:20260421T070614
CREATED:20250213T194647Z
LAST-MODIFIED:20250213T194647Z
UID:10009417-1742049000-1742056200@ballethnic.org
SUMMARY:All the Way Live II
DESCRIPTION:All the Way Live II!\nSaturday\, March 15th – 2 shows / 2:30 pm & 8:00 pm \nSunday\, March 16th – 1 show / 2:30 pm
URL:https://ballethnic.org/event/all-the-way-live-ii/2025-03-15/1/
LOCATION:Porter Sanford III Performing Arts & Community Center\, 3181 Rainbow Drive\, Decatur\, GA\, 30034\, United States
CATEGORIES:Community Event,Open Classes,Productions
ATTACH;FMTTYPE=image/png:https://ballethnic.org/wp-content/uploads/2025/02/Porter-ATWL-2025-Flyer-FINAL-2-e1739338165147.png
END:VEVENT
BEGIN:VEVENT
DTSTART;VALUE=DATE:20250408
DTEND;VALUE=DATE:20250413
DTSTAMP:20260421T070614
CREATED:20250407T153832Z
LAST-MODIFIED:20250407T153953Z
UID:10009437-1744070400-1744502399@ballethnic.org
SUMMARY:Spring Break '25
DESCRIPTION:Spring Break – NO Classes!!
URL:https://ballethnic.org/event/spring-break-25/
LOCATION:Ballethnic Dance Studio\, 2587 Ballethnic Way\, East Point\, GA\, 30344\, United States
CATEGORIES:Community Event,Open Classes,Special Classes
END:VEVENT
BEGIN:VEVENT
DTSTART;TZID=America/New_York:20250426T160000
DTEND;TZID=America/New_York:20250426T200000
DTSTAMP:20260421T070614
CREATED:20250211T020914Z
LAST-MODIFIED:20250415T190529Z
UID:10009413-1745683200-1745697600@ballethnic.org
SUMMARY:BDC - Inman Park Festival
DESCRIPTION:Annual Inman Park Festival & Tour of Homes\nFriday\, Saturday & Sunday – April 26-27 \nDance Festival / Saturday & Sunday @ 4:00 PM
URL:https://ballethnic.org/event/bdc-inman-park-festival-3/2025-04-26/
LOCATION:The Trolley Barn\, 963 Edgewood Ave NE\, Atlanta\, GA\, 30307
CATEGORIES:Community Event
ATTACH;FMTTYPE=image/png:https://ballethnic.org/wp-content/uploads/2025/02/Inman-Park-Festival-e1744741702807.png
END:VEVENT
BEGIN:VEVENT
DTSTART;TZID=America/New_York:20250602T083000
DTEND;TZID=America/New_York:20250602T164500
DTSTAMP:20260421T070614
CREATED:20250108T175713Z
LAST-MODIFIED:20250527T213900Z
UID:10009373-1748853000-1748882700@ballethnic.org
SUMMARY:BAD Summer Dance Diversity 2025
DESCRIPTION:Ballethnic’s Summer Dance Diversity 2025\nTo Register:  CLICK HERE
URL:https://ballethnic.org/event/bad-summer-dance-diversity-2025/2025-06-02/
LOCATION:Ballethnic Dance Studio\, 2587 Ballethnic Way\, East Point\, GA\, 30344\, United States
CATEGORIES:Community Event
ATTACH;FMTTYPE=image/jpeg:https://ballethnic.org/wp-content/uploads/2025/03/Pointe-Adv-Wksp.png-e1741487688161.jpeg
END:VEVENT
BEGIN:VEVENT
DTSTART;TZID=America/New_York:20250602T183000
DTEND;TZID=America/New_York:20250602T193000
DTSTAMP:20260421T070614
CREATED:20250608T152222Z
LAST-MODIFIED:20250608T152222Z
UID:10009440-1748889000-1748892600@ballethnic.org
SUMMARY:Summer Adult - African Dance
DESCRIPTION:Ballethnic Academy of Dance – Summer Adult Series\nAfrican Dance
URL:https://ballethnic.org/event/summer-adult-african-dance-2-2/2025-06-02/
LOCATION:Ballethnic Dance Studio\, 2587 Ballethnic Way\, East Point\, GA\, 30344\, United States
CATEGORIES:Community Event,Open Classes,Special Classes
END:VEVENT
BEGIN:VEVENT
DTSTART;TZID=America/New_York:20250612T150000
DTEND;TZID=America/New_York:20250612T180000
DTSTAMP:20260421T070614
CREATED:20250108T174619Z
LAST-MODIFIED:20250527T190006Z
UID:10009374-1749740400-1749751200@ballethnic.org
SUMMARY:BAD Pre-Pointe & Young Men's Intensive 2025
DESCRIPTION:Ballethnic’s Summer Pre-Pointe & Young Men’s Intensive 2025\n15% Discount for Pre-Pointe and Teen Camp \nTo Register:  CLICK HERE
URL:https://ballethnic.org/event/bad-pre-pointe-young-mens-intensive-2025/2025-06-12/
LOCATION:Ballethnic Dance Studio\, 2587 Ballethnic Way\, East Point\, GA\, 30344\, United States
CATEGORIES:Community Event,Special Classes
END:VEVENT
BEGIN:VEVENT
DTSTART;TZID=America/New_York:20250616T130000
DTEND;TZID=America/New_York:20250616T170000
DTSTAMP:20260421T070614
CREATED:20250320T041412Z
LAST-MODIFIED:20250527T214323Z
UID:10009427-1750078800-1750093200@ballethnic.org
SUMMARY:Production Camp
DESCRIPTION:Ballethnic Academy of Dance Production Camp\nRegister Now!! \n \n 
URL:https://ballethnic.org/event/production-camp/2025-06-16/
LOCATION:Ballethnic Dance Studio\, 2587 Ballethnic Way\, East Point\, GA\, 30344\, United States
CATEGORIES:Community Event,Open Classes
END:VEVENT
END:VCALENDAR