BEGIN:VCALENDAR
VERSION:2.0
PRODID:-//Ballethnic - ECPv6.15.17//NONSGML v1.0//EN
CALSCALE:GREGORIAN
METHOD:PUBLISH
X-WR-CALNAME:Ballethnic
X-ORIGINAL-URL:https://ballethnic.org
X-WR-CALDESC:Events for Ballethnic
REFRESH-INTERVAL;VALUE=DURATION:PT1H
X-Robots-Tag:noindex
X-PUBLISHED-TTL:PT1H
BEGIN:VTIMEZONE
TZID:America/New_York
BEGIN:DAYLIGHT
TZOFFSETFROM:-0500
TZOFFSETTO:-0400
TZNAME:EDT
DTSTART:20230312T070000
END:DAYLIGHT
BEGIN:STANDARD
TZOFFSETFROM:-0400
TZOFFSETTO:-0500
TZNAME:EST
DTSTART:20231105T060000
END:STANDARD
BEGIN:DAYLIGHT
TZOFFSETFROM:-0500
TZOFFSETTO:-0400
TZNAME:EDT
DTSTART:20240310T070000
END:DAYLIGHT
BEGIN:STANDARD
TZOFFSETFROM:-0400
TZOFFSETTO:-0500
TZNAME:EST
DTSTART:20241103T060000
END:STANDARD
BEGIN:DAYLIGHT
TZOFFSETFROM:-0500
TZOFFSETTO:-0400
TZNAME:EDT
DTSTART:20250309T070000
END:DAYLIGHT
BEGIN:STANDARD
TZOFFSETFROM:-0400
TZOFFSETTO:-0500
TZNAME:EST
DTSTART:20251102T060000
END:STANDARD
BEGIN:DAYLIGHT
TZOFFSETFROM:-0500
TZOFFSETTO:-0400
TZNAME:EDT
DTSTART:20260308T070000
END:DAYLIGHT
BEGIN:STANDARD
TZOFFSETFROM:-0400
TZOFFSETTO:-0500
TZNAME:EST
DTSTART:20261101T060000
END:STANDARD
END:VTIMEZONE
BEGIN:VEVENT
DTSTART;TZID=America/New_York:20241123T093000
DTEND;TZID=America/New_York:20241123T110000
DTSTAMP:20260419T164710
CREATED:20240902T192504Z
LAST-MODIFIED:20240902T192504Z
UID:10007578-1732354200-1732359600@ballethnic.org
SUMMARY:Level IV Ballet
DESCRIPTION:Studio A
URL:https://ballethnic.org/event/level-iv-ballet-2/2024-11-23/
LOCATION:GA
CATEGORIES:Level IV and V
END:VEVENT
BEGIN:VEVENT
DTSTART;TZID=America/New_York:20241123T093000
DTEND;TZID=America/New_York:20241123T110000
DTSTAMP:20260419T164710
CREATED:20240902T192517Z
LAST-MODIFIED:20240902T192517Z
UID:10007623-1732354200-1732359600@ballethnic.org
SUMMARY:Level V Ballet
DESCRIPTION:Studio C
URL:https://ballethnic.org/event/level-v-ballet-2/2024-11-23/
LOCATION:Ballethnic Dance Studio\, 2587 Ballethnic Way\, East Point\, GA\, 30344\, United States
CATEGORIES:Level IV and V,Young Men's Class
END:VEVENT
BEGIN:VEVENT
DTSTART;TZID=America/New_York:20241123T100000
DTEND;TZID=America/New_York:20241123T110000
DTSTAMP:20260419T164710
CREATED:20240902T192451Z
LAST-MODIFIED:20240902T192451Z
UID:10007706-1732356000-1732359600@ballethnic.org
SUMMARY:Level VI Pre-Ballet
DESCRIPTION:Studio B
URL:https://ballethnic.org/event/level-vi-pre-ballet-2/2024-11-23/
LOCATION:Ballethnic Dance Studio\, 2587 Ballethnic Way\, East Point\, GA\, 30344\, United States
CATEGORIES:Level IV and V,Young Men's Class
END:VEVENT
BEGIN:VEVENT
DTSTART;TZID=America/New_York:20241123T110000
DTEND;TZID=America/New_York:20241123T113000
DTSTAMP:20260419T164710
CREATED:20240902T192425Z
LAST-MODIFIED:20240902T192425Z
UID:10007859-1732359600-1732361400@ballethnic.org
SUMMARY:Level V Jazz
DESCRIPTION:Studio C
URL:https://ballethnic.org/event/level-v-jazz-3/2024-11-23/
LOCATION:Ballethnic Dance Studio\, 2587 Ballethnic Way\, East Point\, GA\, 30344\, United States
CATEGORIES:Level IV and V,Young Men's Class
END:VEVENT
BEGIN:VEVENT
DTSTART;TZID=America/New_York:20241123T110000
DTEND;TZID=America/New_York:20241123T113000
DTSTAMP:20260419T164710
CREATED:20240902T192439Z
LAST-MODIFIED:20240902T192439Z
UID:10007840-1732359600-1732361400@ballethnic.org
SUMMARY:Level IV Jazz
DESCRIPTION:Studio A
URL:https://ballethnic.org/event/level-iv-jazz-2/2024-11-23/
LOCATION:Ballethnic Dance Studio\, 2587 Ballethnic Way\, East Point\, GA\, 30344\, United States
CATEGORIES:BAD - Jazz L-IV,Level IV and V,Young Men's Class
END:VEVENT
BEGIN:VEVENT
DTSTART;TZID=America/New_York:20241123T110000
DTEND;TZID=America/New_York:20241123T114500
DTSTAMP:20260419T164710
CREATED:20240902T192411Z
LAST-MODIFIED:20240903T210729Z
UID:10007941-1732359600-1732362300@ballethnic.org
SUMMARY:Level VI / Kiddie Tap
DESCRIPTION:Studio B
URL:https://ballethnic.org/event/level-iv-kiddie-tap/2024-11-23/
LOCATION:Ballethnic Dance Studio\, 2587 Ballethnic Way\, East Point\, GA\, 30344\, United States
CATEGORIES:Level IV and Kiddie
END:VEVENT
BEGIN:VEVENT
DTSTART;TZID=America/New_York:20241123T113000
DTEND;TZID=America/New_York:20241123T130000
DTSTAMP:20260419T164710
CREATED:20240902T192329Z
LAST-MODIFIED:20250108T025656Z
UID:10008115-1732361400-1732366800@ballethnic.org
SUMMARY:Level A\, B\, I Ballet
DESCRIPTION:Studio A
URL:https://ballethnic.org/event/level-a-b-i-ballet-2/2024-11-23/
LOCATION:Ballethnic Dance Studio\, 2587 Ballethnic Way\, East Point\, GA\, 30344\, United States
CATEGORIES:Levels, A, B, and I
END:VEVENT
BEGIN:VEVENT
DTSTART;TZID=America/New_York:20241123T113000
DTEND;TZID=America/New_York:20241123T130000
DTSTAMP:20260419T164710
CREATED:20240902T192357Z
LAST-MODIFIED:20240903T210453Z
UID:10008096-1732361400-1732366800@ballethnic.org
SUMMARY:Level II/III Ballet & Pre-Pointe
DESCRIPTION:Studio C
URL:https://ballethnic.org/event/level-ii-iii-ballet-pre-pointe/2024-11-23/
LOCATION:Ballethnic Dance Studio\, 2587 Ballethnic Way\, East Point\, GA\, 30344\, United States
CATEGORIES:Levels II and III; Beginner/Intermediate
END:VEVENT
BEGIN:VEVENT
DTSTART;TZID=America/New_York:20241123T114500
DTEND;TZID=America/New_York:20241123T124500
DTSTAMP:20260419T164710
CREATED:20240902T192311Z
LAST-MODIFIED:20240902T192311Z
UID:10008023-1732362300-1732365900@ballethnic.org
SUMMARY:Kiddie Ballethnicize
DESCRIPTION:Studio B
URL:https://ballethnic.org/event/kiddie-ballethnicize-7/2024-11-23/
LOCATION:Ballethnic Dance Studio\, 2587 Ballethnic Way\, East Point\, GA\, 30344\, United States
CATEGORIES:Level IV and Kiddie,Young Men's Class
END:VEVENT
BEGIN:VEVENT
DTSTART;TZID=America/New_York:20241123T130000
DTEND;TZID=America/New_York:20241123T133000
DTSTAMP:20260419T164710
CREATED:20240902T192258Z
LAST-MODIFIED:20240903T210351Z
UID:10008298-1732366800-1732368600@ballethnic.org
SUMMARY:*Pre-Pointe to Pointe 6-Week Series
DESCRIPTION:Studio B\n*By Invitation Only
URL:https://ballethnic.org/event/pre-pointe-pointe-advancement-series/2024-11-23/
LOCATION:Online Class
CATEGORIES:Open Classes
END:VEVENT
BEGIN:VEVENT
DTSTART;TZID=America/New_York:20241123T130000
DTEND;TZID=America/New_York:20241123T143000
DTSTAMP:20260419T164710
CREATED:20240902T192228Z
LAST-MODIFIED:20240903T205958Z
UID:10008279-1732366800-1732372200@ballethnic.org
SUMMARY:Level II/III Jazz/Modern
DESCRIPTION:Studio B
URL:https://ballethnic.org/event/level-i-ii-iii-jazz-modern-2/2024-11-23/
LOCATION:Ballethnic Dance Studio\, 2587 Ballethnic Way\, East Point\, GA\, 30344\, United States
CATEGORIES:Levels II and III; Beginner/Intermediate,Levels, A, B, and I
END:VEVENT
BEGIN:VEVENT
DTSTART;TZID=America/New_York:20241123T130000
DTEND;TZID=America/New_York:20241123T143000
DTSTAMP:20260419T164710
CREATED:20240902T192242Z
LAST-MODIFIED:20240903T210242Z
UID:10008197-1732366800-1732372200@ballethnic.org
SUMMARY:*Pas de Deux
DESCRIPTION:Studio A\n*By Invitation Only
URL:https://ballethnic.org/event/pas-de-deux-by-invitation-only-2/2024-11-23/
LOCATION:GA
CATEGORIES:Special Classes
END:VEVENT
BEGIN:VEVENT
DTSTART;TZID=America/New_York:20241123T130000
DTEND;TZID=America/New_York:20241123T143000
DTSTAMP:20260419T164710
CREATED:20250108T020529Z
LAST-MODIFIED:20250108T020529Z
UID:10008395-1732366800-1732372200@ballethnic.org
SUMMARY:Level II/III Jazz/Modern
DESCRIPTION:Studio B
URL:https://ballethnic.org/event/level-ii-iii-jazz-modern/2024-11-23/
LOCATION:Ballethnic Dance Studio\, 2587 Ballethnic Way\, East Point\, GA\, 30344\, United States
CATEGORIES:Levels II and III; Beginner/Intermediate,Levels, A, B, and I
END:VEVENT
BEGIN:VEVENT
DTSTART;TZID=America/New_York:20241123T150000
DTEND;TZID=America/New_York:20241123T180000
DTSTAMP:20260419T164710
CREATED:20240902T192213Z
LAST-MODIFIED:20240902T192213Z
UID:10008324-1732374000-1732384800@ballethnic.org
SUMMARY:Production Rehearsal
DESCRIPTION:Studio A
URL:https://ballethnic.org/event/production-rehearsal/2024-11-23/
LOCATION:Ballethnic Dance Studio\, 2587 Ballethnic Way\, East Point\, GA\, 30344\, United States
CATEGORIES:BYE,Levels, A, B, and I,Open Classes,Productions,Special Classes
END:VEVENT
BEGIN:VEVENT
DTSTART;VALUE=DATE:20241124
DTEND;VALUE=DATE:20241201
DTSTAMP:20260419T164710
CREATED:20240902T194407Z
LAST-MODIFIED:20240902T195806Z
UID:10008326-1732406400-1733011199@ballethnic.org
SUMMARY:Thanksgiving Break
DESCRIPTION:No Classes!!
URL:https://ballethnic.org/event/thanksgiving-break/
LOCATION:Ballethnic Dance Studio\, 2587 Ballethnic Way\, East Point\, GA\, 30344\, United States
CATEGORIES:Community Event,Open Classes
END:VEVENT
BEGIN:VEVENT
DTSTART;TZID=America/New_York:20241203T173000
DTEND;TZID=America/New_York:20241203T181500
DTSTAMP:20260419T164710
CREATED:20240902T192901Z
LAST-MODIFIED:20240902T192901Z
UID:10006950-1733247000-1733249700@ballethnic.org
SUMMARY:Open Hip-Hop
DESCRIPTION:Studio B\nOpen Hip-Hop Class for all Levels
URL:https://ballethnic.org/event/open-hip-hop-3/2024-12-03/
LOCATION:Ballethnic Dance Studio\, 2587 Ballethnic Way\, East Point\, GA\, 30344\, United States
CATEGORIES:Open Classes
END:VEVENT
BEGIN:VEVENT
DTSTART;TZID=America/New_York:20241203T174500
DTEND;TZID=America/New_York:20241203T191500
DTSTAMP:20260419T164710
CREATED:20240902T192850Z
LAST-MODIFIED:20240903T212658Z
UID:10006966-1733247900-1733253300@ballethnic.org
SUMMARY:Open Ballet & Pre-Pointe to Int. Pointe
DESCRIPTION:Studio C\n 
URL:https://ballethnic.org/event/open-ballet-pre-pointe-intermediate-pointe/2024-12-03/
LOCATION:Ballethnic Dance Studio\, 2587 Ballethnic Way\, East Point\, GA\, 30344\, United States
CATEGORIES:Open Classes
END:VEVENT
BEGIN:VEVENT
DTSTART;TZID=America/New_York:20241203T181500
DTEND;TZID=America/New_York:20241203T190000
DTSTAMP:20260419T164710
CREATED:20240902T192840Z
LAST-MODIFIED:20240903T212249Z
UID:10007033-1733249700-1733252400@ballethnic.org
SUMMARY:Level IV/V Tap
DESCRIPTION:Studio B
URL:https://ballethnic.org/event/level-iv-v-tap-2/2024-12-03/
LOCATION:Ballethnic Dance Studio\, 2587 Ballethnic Way\, East Point\, GA\, 30344\, United States
CATEGORIES:Level IV and V
END:VEVENT
BEGIN:VEVENT
DTSTART;TZID=America/New_York:20241203T183000
DTEND;TZID=America/New_York:20241203T193000
DTSTAMP:20260419T164710
CREATED:20240902T192826Z
LAST-MODIFIED:20240902T192826Z
UID:10006992-1733250600-1733254200@ballethnic.org
SUMMARY:Open Adult Ballet
DESCRIPTION:Studio A
URL:https://ballethnic.org/event/open-adult-ballet/2024-12-03/
LOCATION:Ballethnic Dance Studio\, 2587 Ballethnic Way\, East Point\, GA\, 30344\, United States
CATEGORIES:Open Classes
END:VEVENT
BEGIN:VEVENT
DTSTART;TZID=America/New_York:20241203T190000
DTEND;TZID=America/New_York:20241203T200000
DTSTAMP:20260419T164710
CREATED:20240902T192812Z
LAST-MODIFIED:20240903T212401Z
UID:10007078-1733252400-1733256000@ballethnic.org
SUMMARY:Level IV/V African
DESCRIPTION:Studio B\nAfrican Class – Levels IV\, V
URL:https://ballethnic.org/event/level-iv-v-african-3/2024-12-03/
LOCATION:Ballethnic Dance Studio\, 2587 Ballethnic Way\, East Point\, GA\, 30344\, United States
CATEGORIES:Level IV and V
END:VEVENT
BEGIN:VEVENT
DTSTART;TZID=America/New_York:20241203T193000
DTEND;TZID=America/New_York:20241203T203000
DTSTAMP:20260419T164710
CREATED:20240902T192800Z
LAST-MODIFIED:20240902T192800Z
UID:10007012-1733254200-1733257800@ballethnic.org
SUMMARY:Open Adult Ballethnicize
DESCRIPTION:Studio A
URL:https://ballethnic.org/event/open-adult-ballethnicize/2024-12-03/
LOCATION:Ballethnic Dance Studio\, 2587 Ballethnic Way\, East Point\, GA\, 30344\, United States
CATEGORIES:Open Classes
END:VEVENT
BEGIN:VEVENT
DTSTART;TZID=America/New_York:20241204T174500
DTEND;TZID=America/New_York:20241204T191500
DTSTAMP:20260419T164710
CREATED:20240902T192719Z
LAST-MODIFIED:20240902T192719Z
UID:10007181-1733334300-1733339700@ballethnic.org
SUMMARY:Young Men's Class
DESCRIPTION:Studio B
URL:https://ballethnic.org/event/young-mens-class-3/2024-12-04/
LOCATION:Ballethnic Dance Studio\, 2587 Ballethnic Way\, East Point\, GA\, 30344\, United States
CATEGORIES:Young Men's Class
END:VEVENT
BEGIN:VEVENT
DTSTART;TZID=America/New_York:20241204T174500
DTEND;TZID=America/New_York:20241204T191500
DTSTAMP:20260419T164710
CREATED:20240902T192732Z
LAST-MODIFIED:20240902T204615Z
UID:10007264-1733334300-1733339700@ballethnic.org
SUMMARY:Beginner/Intermediate Teen Ballet
DESCRIPTION:Studio C
URL:https://ballethnic.org/event/beginner-intermediate-teen-ballet-7/2024-12-04/
LOCATION:Ballethnic Dance Studio\, 2587 Ballethnic Way\, East Point\, GA\, 30344\, United States
CATEGORIES:Levels II and III; Beginner/Intermediate
END:VEVENT
BEGIN:VEVENT
DTSTART;TZID=America/New_York:20241204T191500
DTEND;TZID=America/New_York:20241204T203000
DTSTAMP:20260419T164710
CREATED:20240902T192747Z
LAST-MODIFIED:20240903T212909Z
UID:10008348-1733339700-1733344200@ballethnic.org
SUMMARY:Open Modern
DESCRIPTION:Studio A
URL:https://ballethnic.org/event/open-modern/2024-12-04/
LOCATION:Ballethnic Dance Studio\, 2587 Ballethnic Way\, East Point\, GA\, 30344\, United States
CATEGORIES:Open Classes
ATTACH;FMTTYPE=image/png:https://ballethnic.org/wp-content/uploads/2024/09/Image1-e1725391206159.png
END:VEVENT
BEGIN:VEVENT
DTSTART;TZID=America/New_York:20241205T174500
DTEND;TZID=America/New_York:20241205T184500
DTSTAMP:20260419T164710
CREATED:20240902T192623Z
LAST-MODIFIED:20240903T211528Z
UID:10007307-1733420700-1733424300@ballethnic.org
SUMMARY:Level II/III Pre-Pointe
DESCRIPTION:Studio B
URL:https://ballethnic.org/event/level-ii-iii-pre-pointe-5/2024-12-05/
LOCATION:Ballethnic Dance Studio\, 2587 Ballethnic Way\, East Point\, GA\, 30344\, United States
CATEGORIES:Levels II and III; Beginner/Intermediate
END:VEVENT
BEGIN:VEVENT
DTSTART;TZID=America/New_York:20241205T184500
DTEND;TZID=America/New_York:20241205T193000
DTSTAMP:20260419T164710
CREATED:20240902T192558Z
LAST-MODIFIED:20240903T211112Z
UID:10007449-1733424300-1733427000@ballethnic.org
SUMMARY:Level II/III Tap
DESCRIPTION:Studio B
URL:https://ballethnic.org/event/level-ii-iii-tap-2/2024-12-05/
LOCATION:Ballethnic Dance Studio\, 2587 Ballethnic Way\, East Point\, GA\, 30344\, United States
CATEGORIES:Levels II and III; Beginner/Intermediate
END:VEVENT
BEGIN:VEVENT
DTSTART;TZID=America/New_York:20241205T193000
DTEND;TZID=America/New_York:20241205T203000
DTSTAMP:20260419T164710
CREATED:20240902T192543Z
LAST-MODIFIED:20240903T211035Z
UID:10007532-1733427000-1733430600@ballethnic.org
SUMMARY:Level II/III African
DESCRIPTION:Studio B
URL:https://ballethnic.org/event/level-ii-iii-african-2/2024-12-05/
LOCATION:Ballethnic Dance Studio\, 2587 Ballethnic Way\, East Point\, GA\, 30344\, United States
CATEGORIES:Levels II and III; Beginner/Intermediate
END:VEVENT
BEGIN:VEVENT
DTSTART;TZID=America/New_York:20241214T140000
DTEND;TZID=America/New_York:20241214T160000
DTSTAMP:20260419T164710
CREATED:20241022T162244Z
LAST-MODIFIED:20241022T163603Z
UID:10008332-1734184800-1734192000@ballethnic.org
SUMMARY:Urban Nutcracker 2024
DESCRIPTION:Ballethnic Dance Company presents Urban Nutcracker 2024 \n \n 
URL:https://ballethnic.org/event/urban-nutcracker-2024/2024-12-14/1/
LOCATION:Morehouse King Chapel\, 830 Westview Drive SW\, Atlanta\, GA\, 30314\, United States
CATEGORIES:Community Event,Open Classes,Productions,Special Classes
END:VEVENT
BEGIN:VEVENT
DTSTART;VALUE=DATE:20250104
DTEND;VALUE=DATE:20250111
DTSTAMP:20260419T164710
CREATED:20250108T044111Z
LAST-MODIFIED:20250108T044111Z
UID:10009369-1735948800-1736553599@ballethnic.org
SUMMARY:Dance Company Residency
DESCRIPTION:Ballethnic Dance Company Residency @ Wayne State University\, Detroit Michigan.
URL:https://ballethnic.org/event/dance-company-residency/
LOCATION:Ballethnic Dance Studio\, 2587 Ballethnic Way\, East Point\, GA\, 30344\, United States
CATEGORIES:Productions,Special Classes
END:VEVENT
BEGIN:VEVENT
DTSTART;VALUE=DATE:20250115
DTEND;VALUE=DATE:20250116
DTSTAMP:20260419T164710
CREATED:20250108T045250Z
LAST-MODIFIED:20250108T045250Z
UID:10009371-1736899200-1736985599@ballethnic.org
SUMMARY:Ballethnic 35th Birthday
DESCRIPTION:Ballethnic Official 35th Birthday
URL:https://ballethnic.org/event/ballethnic-35th-birthday/
LOCATION:Ballethnic Dance Studio\, 2587 Ballethnic Way\, East Point\, GA\, 30344\, United States
CATEGORIES:Community Event
END:VEVENT
END:VCALENDAR