BEGIN:VCALENDAR
VERSION:2.0
PRODID:-//Ballethnic - ECPv6.15.17//NONSGML v1.0//EN
CALSCALE:GREGORIAN
METHOD:PUBLISH
X-ORIGINAL-URL:https://ballethnic.org
X-WR-CALDESC:Events for Ballethnic
REFRESH-INTERVAL;VALUE=DURATION:PT1H
X-Robots-Tag:noindex
X-PUBLISHED-TTL:PT1H
BEGIN:VTIMEZONE
TZID:America/New_York
BEGIN:DAYLIGHT
TZOFFSETFROM:-0500
TZOFFSETTO:-0400
TZNAME:EDT
DTSTART:20250309T070000
END:DAYLIGHT
BEGIN:STANDARD
TZOFFSETFROM:-0400
TZOFFSETTO:-0500
TZNAME:EST
DTSTART:20251102T060000
END:STANDARD
BEGIN:DAYLIGHT
TZOFFSETFROM:-0500
TZOFFSETTO:-0400
TZNAME:EDT
DTSTART:20260308T070000
END:DAYLIGHT
BEGIN:STANDARD
TZOFFSETFROM:-0400
TZOFFSETTO:-0500
TZNAME:EST
DTSTART:20261101T060000
END:STANDARD
BEGIN:DAYLIGHT
TZOFFSETFROM:-0500
TZOFFSETTO:-0400
TZNAME:EDT
DTSTART:20270314T070000
END:DAYLIGHT
BEGIN:STANDARD
TZOFFSETFROM:-0400
TZOFFSETTO:-0500
TZNAME:EST
DTSTART:20271107T060000
END:STANDARD
END:VTIMEZONE
BEGIN:VEVENT
DTSTART;TZID=America/New_York:20260601T084500
DTEND;TZID=America/New_York:20260601T164500
DTSTAMP:20260424T074405
CREATED:20260112T183025Z
LAST-MODIFIED:20260225T213718Z
UID:10010065-1780303500-1780332300@ballethnic.org
SUMMARY:BAD Cultural Arts Camp 2026
DESCRIPTION:Ballethnic Academy of Dance Cultural Arts Camp\n \n 
URL:https://ballethnic.org/event/cultural-arts-camp-2026/2026-06-01/
LOCATION:Ballethnic Dance Studio\, 2587 Ballethnic Way\, East Point\, GA\, 30344\, United States
CATEGORIES:Community Event,Open Classes,Special Classes
END:VEVENT
BEGIN:VEVENT
DTSTART;TZID=America/New_York:20260602T084500
DTEND;TZID=America/New_York:20260602T164500
DTSTAMP:20260424T074405
CREATED:20260112T183025Z
LAST-MODIFIED:20260225T213718Z
UID:10010067-1780389900-1780418700@ballethnic.org
SUMMARY:BAD Cultural Arts Camp 2026
DESCRIPTION:Ballethnic Academy of Dance Cultural Arts Camp\n \n 
URL:https://ballethnic.org/event/cultural-arts-camp-2026/2026-06-02/
LOCATION:Ballethnic Dance Studio\, 2587 Ballethnic Way\, East Point\, GA\, 30344\, United States
CATEGORIES:Community Event,Open Classes,Special Classes
END:VEVENT
BEGIN:VEVENT
DTSTART;TZID=America/New_York:20260602T170000
DTEND;TZID=America/New_York:20260602T180000
DTSTAMP:20260424T074405
CREATED:20260225T210701Z
LAST-MODIFIED:20260225T213305Z
UID:10010470-1780419600-1780423200@ballethnic.org
SUMMARY:Kiddie Camp
DESCRIPTION:Ballethnic Academy of Dance – Kiddie Camp\nAges 3 – 6 / June 2 – July 16\n 
URL:https://ballethnic.org/event/kiddie-camp/2026-06-02/
LOCATION:Ballethnic Dance Studio\, 2587 Ballethnic Way\, East Point\, GA\, 30344\, United States
CATEGORIES:Community Event,Open Classes,Special Classes
END:VEVENT
BEGIN:VEVENT
DTSTART;TZID=America/New_York:20260603T084500
DTEND;TZID=America/New_York:20260603T164500
DTSTAMP:20260424T074405
CREATED:20260112T183025Z
LAST-MODIFIED:20260225T213718Z
UID:10010068-1780476300-1780505100@ballethnic.org
SUMMARY:BAD Cultural Arts Camp 2026
DESCRIPTION:Ballethnic Academy of Dance Cultural Arts Camp\n \n 
URL:https://ballethnic.org/event/cultural-arts-camp-2026/2026-06-03/
LOCATION:Ballethnic Dance Studio\, 2587 Ballethnic Way\, East Point\, GA\, 30344\, United States
CATEGORIES:Community Event,Open Classes,Special Classes
END:VEVENT
BEGIN:VEVENT
DTSTART;TZID=America/New_York:20260604T084500
DTEND;TZID=America/New_York:20260604T164500
DTSTAMP:20260424T074405
CREATED:20260112T183025Z
LAST-MODIFIED:20260225T213718Z
UID:10010069-1780562700-1780591500@ballethnic.org
SUMMARY:BAD Cultural Arts Camp 2026
DESCRIPTION:Ballethnic Academy of Dance Cultural Arts Camp\n \n 
URL:https://ballethnic.org/event/cultural-arts-camp-2026/2026-06-04/
LOCATION:Ballethnic Dance Studio\, 2587 Ballethnic Way\, East Point\, GA\, 30344\, United States
CATEGORIES:Community Event,Open Classes,Special Classes
END:VEVENT
BEGIN:VEVENT
DTSTART;TZID=America/New_York:20260604T170000
DTEND;TZID=America/New_York:20260604T180000
DTSTAMP:20260424T074405
CREATED:20260225T210701Z
LAST-MODIFIED:20260225T213305Z
UID:10010471-1780592400-1780596000@ballethnic.org
SUMMARY:Kiddie Camp
DESCRIPTION:Ballethnic Academy of Dance – Kiddie Camp\nAges 3 – 6 / June 2 – July 16\n 
URL:https://ballethnic.org/event/kiddie-camp/2026-06-04/
LOCATION:Ballethnic Dance Studio\, 2587 Ballethnic Way\, East Point\, GA\, 30344\, United States
CATEGORIES:Community Event,Open Classes,Special Classes
END:VEVENT
BEGIN:VEVENT
DTSTART;TZID=America/New_York:20260605T084500
DTEND;TZID=America/New_York:20260605T164500
DTSTAMP:20260424T074405
CREATED:20260112T183025Z
LAST-MODIFIED:20260225T213718Z
UID:10010070-1780649100-1780677900@ballethnic.org
SUMMARY:BAD Cultural Arts Camp 2026
DESCRIPTION:Ballethnic Academy of Dance Cultural Arts Camp\n \n 
URL:https://ballethnic.org/event/cultural-arts-camp-2026/2026-06-05/
LOCATION:Ballethnic Dance Studio\, 2587 Ballethnic Way\, East Point\, GA\, 30344\, United States
CATEGORIES:Community Event,Open Classes,Special Classes
END:VEVENT
BEGIN:VEVENT
DTSTART;TZID=America/New_York:20260608T084500
DTEND;TZID=America/New_York:20260608T164500
DTSTAMP:20260424T074405
CREATED:20260112T183025Z
LAST-MODIFIED:20260225T213718Z
UID:10010071-1780908300-1780937100@ballethnic.org
SUMMARY:BAD Cultural Arts Camp 2026
DESCRIPTION:Ballethnic Academy of Dance Cultural Arts Camp\n \n 
URL:https://ballethnic.org/event/cultural-arts-camp-2026/2026-06-08/
LOCATION:Ballethnic Dance Studio\, 2587 Ballethnic Way\, East Point\, GA\, 30344\, United States
CATEGORIES:Community Event,Open Classes,Special Classes
END:VEVENT
BEGIN:VEVENT
DTSTART;TZID=America/New_York:20260609T084500
DTEND;TZID=America/New_York:20260609T164500
DTSTAMP:20260424T074405
CREATED:20260112T183025Z
LAST-MODIFIED:20260225T213718Z
UID:10010072-1780994700-1781023500@ballethnic.org
SUMMARY:BAD Cultural Arts Camp 2026
DESCRIPTION:Ballethnic Academy of Dance Cultural Arts Camp\n \n 
URL:https://ballethnic.org/event/cultural-arts-camp-2026/2026-06-09/
LOCATION:Ballethnic Dance Studio\, 2587 Ballethnic Way\, East Point\, GA\, 30344\, United States
CATEGORIES:Community Event,Open Classes,Special Classes
END:VEVENT
BEGIN:VEVENT
DTSTART;TZID=America/New_York:20260609T170000
DTEND;TZID=America/New_York:20260609T180000
DTSTAMP:20260424T074405
CREATED:20260225T210701Z
LAST-MODIFIED:20260225T213305Z
UID:10010472-1781024400-1781028000@ballethnic.org
SUMMARY:Kiddie Camp
DESCRIPTION:Ballethnic Academy of Dance – Kiddie Camp\nAges 3 – 6 / June 2 – July 16\n 
URL:https://ballethnic.org/event/kiddie-camp/2026-06-09/
LOCATION:Ballethnic Dance Studio\, 2587 Ballethnic Way\, East Point\, GA\, 30344\, United States
CATEGORIES:Community Event,Open Classes,Special Classes
END:VEVENT
BEGIN:VEVENT
DTSTART;TZID=America/New_York:20260610T084500
DTEND;TZID=America/New_York:20260610T164500
DTSTAMP:20260424T074405
CREATED:20260112T183025Z
LAST-MODIFIED:20260225T213718Z
UID:10010073-1781081100-1781109900@ballethnic.org
SUMMARY:BAD Cultural Arts Camp 2026
DESCRIPTION:Ballethnic Academy of Dance Cultural Arts Camp\n \n 
URL:https://ballethnic.org/event/cultural-arts-camp-2026/2026-06-10/
LOCATION:Ballethnic Dance Studio\, 2587 Ballethnic Way\, East Point\, GA\, 30344\, United States
CATEGORIES:Community Event,Open Classes,Special Classes
END:VEVENT
BEGIN:VEVENT
DTSTART;TZID=America/New_York:20260611T084500
DTEND;TZID=America/New_York:20260611T164500
DTSTAMP:20260424T074405
CREATED:20260112T183025Z
LAST-MODIFIED:20260225T213718Z
UID:10010074-1781167500-1781196300@ballethnic.org
SUMMARY:BAD Cultural Arts Camp 2026
DESCRIPTION:Ballethnic Academy of Dance Cultural Arts Camp\n \n 
URL:https://ballethnic.org/event/cultural-arts-camp-2026/2026-06-11/
LOCATION:Ballethnic Dance Studio\, 2587 Ballethnic Way\, East Point\, GA\, 30344\, United States
CATEGORIES:Community Event,Open Classes,Special Classes
END:VEVENT
BEGIN:VEVENT
DTSTART;TZID=America/New_York:20260611T170000
DTEND;TZID=America/New_York:20260611T180000
DTSTAMP:20260424T074405
CREATED:20260225T210701Z
LAST-MODIFIED:20260225T213305Z
UID:10010473-1781197200-1781200800@ballethnic.org
SUMMARY:Kiddie Camp
DESCRIPTION:Ballethnic Academy of Dance – Kiddie Camp\nAges 3 – 6 / June 2 – July 16\n 
URL:https://ballethnic.org/event/kiddie-camp/2026-06-11/
LOCATION:Ballethnic Dance Studio\, 2587 Ballethnic Way\, East Point\, GA\, 30344\, United States
CATEGORIES:Community Event,Open Classes,Special Classes
END:VEVENT
BEGIN:VEVENT
DTSTART;TZID=America/New_York:20260612T084500
DTEND;TZID=America/New_York:20260612T164500
DTSTAMP:20260424T074405
CREATED:20260112T183025Z
LAST-MODIFIED:20260225T213718Z
UID:10010075-1781253900-1781282700@ballethnic.org
SUMMARY:BAD Cultural Arts Camp 2026
DESCRIPTION:Ballethnic Academy of Dance Cultural Arts Camp\n \n 
URL:https://ballethnic.org/event/cultural-arts-camp-2026/2026-06-12/
LOCATION:Ballethnic Dance Studio\, 2587 Ballethnic Way\, East Point\, GA\, 30344\, United States
CATEGORIES:Community Event,Open Classes,Special Classes
END:VEVENT
BEGIN:VEVENT
DTSTART;TZID=America/New_York:20260615T084500
DTEND;TZID=America/New_York:20260615T164500
DTSTAMP:20260424T074405
CREATED:20260112T183025Z
LAST-MODIFIED:20260225T213718Z
UID:10010076-1781513100-1781541900@ballethnic.org
SUMMARY:BAD Cultural Arts Camp 2026
DESCRIPTION:Ballethnic Academy of Dance Cultural Arts Camp\n \n 
URL:https://ballethnic.org/event/cultural-arts-camp-2026/2026-06-15/
LOCATION:Ballethnic Dance Studio\, 2587 Ballethnic Way\, East Point\, GA\, 30344\, United States
CATEGORIES:Community Event,Open Classes,Special Classes
END:VEVENT
BEGIN:VEVENT
DTSTART;TZID=America/New_York:20260616T084500
DTEND;TZID=America/New_York:20260616T164500
DTSTAMP:20260424T074405
CREATED:20260112T183025Z
LAST-MODIFIED:20260225T213718Z
UID:10010077-1781599500-1781628300@ballethnic.org
SUMMARY:BAD Cultural Arts Camp 2026
DESCRIPTION:Ballethnic Academy of Dance Cultural Arts Camp\n \n 
URL:https://ballethnic.org/event/cultural-arts-camp-2026/2026-06-16/
LOCATION:Ballethnic Dance Studio\, 2587 Ballethnic Way\, East Point\, GA\, 30344\, United States
CATEGORIES:Community Event,Open Classes,Special Classes
END:VEVENT
BEGIN:VEVENT
DTSTART;TZID=America/New_York:20260616T170000
DTEND;TZID=America/New_York:20260616T180000
DTSTAMP:20260424T074406
CREATED:20260225T210701Z
LAST-MODIFIED:20260225T213305Z
UID:10010474-1781629200-1781632800@ballethnic.org
SUMMARY:Kiddie Camp
DESCRIPTION:Ballethnic Academy of Dance – Kiddie Camp\nAges 3 – 6 / June 2 – July 16\n 
URL:https://ballethnic.org/event/kiddie-camp/2026-06-16/
LOCATION:Ballethnic Dance Studio\, 2587 Ballethnic Way\, East Point\, GA\, 30344\, United States
CATEGORIES:Community Event,Open Classes,Special Classes
END:VEVENT
BEGIN:VEVENT
DTSTART;TZID=America/New_York:20260617T084500
DTEND;TZID=America/New_York:20260617T164500
DTSTAMP:20260424T074406
CREATED:20260112T183025Z
LAST-MODIFIED:20260225T213718Z
UID:10010078-1781685900-1781714700@ballethnic.org
SUMMARY:BAD Cultural Arts Camp 2026
DESCRIPTION:Ballethnic Academy of Dance Cultural Arts Camp\n \n 
URL:https://ballethnic.org/event/cultural-arts-camp-2026/2026-06-17/
LOCATION:Ballethnic Dance Studio\, 2587 Ballethnic Way\, East Point\, GA\, 30344\, United States
CATEGORIES:Community Event,Open Classes,Special Classes
END:VEVENT
BEGIN:VEVENT
DTSTART;TZID=America/New_York:20260618T084500
DTEND;TZID=America/New_York:20260618T164500
DTSTAMP:20260424T074406
CREATED:20260112T183025Z
LAST-MODIFIED:20260225T213718Z
UID:10010079-1781772300-1781801100@ballethnic.org
SUMMARY:BAD Cultural Arts Camp 2026
DESCRIPTION:Ballethnic Academy of Dance Cultural Arts Camp\n \n 
URL:https://ballethnic.org/event/cultural-arts-camp-2026/2026-06-18/
LOCATION:Ballethnic Dance Studio\, 2587 Ballethnic Way\, East Point\, GA\, 30344\, United States
CATEGORIES:Community Event,Open Classes,Special Classes
END:VEVENT
BEGIN:VEVENT
DTSTART;TZID=America/New_York:20260618T170000
DTEND;TZID=America/New_York:20260618T180000
DTSTAMP:20260424T074406
CREATED:20260225T210701Z
LAST-MODIFIED:20260225T213305Z
UID:10010475-1781802000-1781805600@ballethnic.org
SUMMARY:Kiddie Camp
DESCRIPTION:Ballethnic Academy of Dance – Kiddie Camp\nAges 3 – 6 / June 2 – July 16\n 
URL:https://ballethnic.org/event/kiddie-camp/2026-06-18/
LOCATION:Ballethnic Dance Studio\, 2587 Ballethnic Way\, East Point\, GA\, 30344\, United States
CATEGORIES:Community Event,Open Classes,Special Classes
END:VEVENT
BEGIN:VEVENT
DTSTART;TZID=America/New_York:20260619T084500
DTEND;TZID=America/New_York:20260619T164500
DTSTAMP:20260424T074406
CREATED:20260112T183025Z
LAST-MODIFIED:20260225T213718Z
UID:10010080-1781858700-1781887500@ballethnic.org
SUMMARY:BAD Cultural Arts Camp 2026
DESCRIPTION:Ballethnic Academy of Dance Cultural Arts Camp\n \n 
URL:https://ballethnic.org/event/cultural-arts-camp-2026/2026-06-19/
LOCATION:Ballethnic Dance Studio\, 2587 Ballethnic Way\, East Point\, GA\, 30344\, United States
CATEGORIES:Community Event,Open Classes,Special Classes
END:VEVENT
BEGIN:VEVENT
DTSTART;TZID=America/New_York:20260622T084500
DTEND;TZID=America/New_York:20260622T164500
DTSTAMP:20260424T074406
CREATED:20260112T183025Z
LAST-MODIFIED:20260225T213718Z
UID:10010081-1782117900-1782146700@ballethnic.org
SUMMARY:BAD Cultural Arts Camp 2026
DESCRIPTION:Ballethnic Academy of Dance Cultural Arts Camp\n \n 
URL:https://ballethnic.org/event/cultural-arts-camp-2026/2026-06-22/
LOCATION:Ballethnic Dance Studio\, 2587 Ballethnic Way\, East Point\, GA\, 30344\, United States
CATEGORIES:Community Event,Open Classes,Special Classes
END:VEVENT
BEGIN:VEVENT
DTSTART;TZID=America/New_York:20260623T084500
DTEND;TZID=America/New_York:20260623T164500
DTSTAMP:20260424T074406
CREATED:20260112T183025Z
LAST-MODIFIED:20260225T213718Z
UID:10010082-1782204300-1782233100@ballethnic.org
SUMMARY:BAD Cultural Arts Camp 2026
DESCRIPTION:Ballethnic Academy of Dance Cultural Arts Camp\n \n 
URL:https://ballethnic.org/event/cultural-arts-camp-2026/2026-06-23/
LOCATION:Ballethnic Dance Studio\, 2587 Ballethnic Way\, East Point\, GA\, 30344\, United States
CATEGORIES:Community Event,Open Classes,Special Classes
END:VEVENT
BEGIN:VEVENT
DTSTART;TZID=America/New_York:20260623T170000
DTEND;TZID=America/New_York:20260623T180000
DTSTAMP:20260424T074406
CREATED:20260225T210701Z
LAST-MODIFIED:20260225T213305Z
UID:10010476-1782234000-1782237600@ballethnic.org
SUMMARY:Kiddie Camp
DESCRIPTION:Ballethnic Academy of Dance – Kiddie Camp\nAges 3 – 6 / June 2 – July 16\n 
URL:https://ballethnic.org/event/kiddie-camp/2026-06-23/
LOCATION:Ballethnic Dance Studio\, 2587 Ballethnic Way\, East Point\, GA\, 30344\, United States
CATEGORIES:Community Event,Open Classes,Special Classes
END:VEVENT
BEGIN:VEVENT
DTSTART;TZID=America/New_York:20260624T084500
DTEND;TZID=America/New_York:20260624T164500
DTSTAMP:20260424T074406
CREATED:20260112T183025Z
LAST-MODIFIED:20260225T213718Z
UID:10010083-1782290700-1782319500@ballethnic.org
SUMMARY:BAD Cultural Arts Camp 2026
DESCRIPTION:Ballethnic Academy of Dance Cultural Arts Camp\n \n 
URL:https://ballethnic.org/event/cultural-arts-camp-2026/2026-06-24/
LOCATION:Ballethnic Dance Studio\, 2587 Ballethnic Way\, East Point\, GA\, 30344\, United States
CATEGORIES:Community Event,Open Classes,Special Classes
END:VEVENT
BEGIN:VEVENT
DTSTART;TZID=America/New_York:20260625T084500
DTEND;TZID=America/New_York:20260625T164500
DTSTAMP:20260424T074406
CREATED:20260112T183025Z
LAST-MODIFIED:20260225T213718Z
UID:10010084-1782377100-1782405900@ballethnic.org
SUMMARY:BAD Cultural Arts Camp 2026
DESCRIPTION:Ballethnic Academy of Dance Cultural Arts Camp\n \n 
URL:https://ballethnic.org/event/cultural-arts-camp-2026/2026-06-25/
LOCATION:Ballethnic Dance Studio\, 2587 Ballethnic Way\, East Point\, GA\, 30344\, United States
CATEGORIES:Community Event,Open Classes,Special Classes
END:VEVENT
BEGIN:VEVENT
DTSTART;TZID=America/New_York:20260625T170000
DTEND;TZID=America/New_York:20260625T180000
DTSTAMP:20260424T074406
CREATED:20260225T210701Z
LAST-MODIFIED:20260225T213305Z
UID:10010477-1782406800-1782410400@ballethnic.org
SUMMARY:Kiddie Camp
DESCRIPTION:Ballethnic Academy of Dance – Kiddie Camp\nAges 3 – 6 / June 2 – July 16\n 
URL:https://ballethnic.org/event/kiddie-camp/2026-06-25/
LOCATION:Ballethnic Dance Studio\, 2587 Ballethnic Way\, East Point\, GA\, 30344\, United States
CATEGORIES:Community Event,Open Classes,Special Classes
END:VEVENT
BEGIN:VEVENT
DTSTART;TZID=America/New_York:20260626T084500
DTEND;TZID=America/New_York:20260626T164500
DTSTAMP:20260424T074406
CREATED:20260112T183025Z
LAST-MODIFIED:20260225T213718Z
UID:10010085-1782463500-1782492300@ballethnic.org
SUMMARY:BAD Cultural Arts Camp 2026
DESCRIPTION:Ballethnic Academy of Dance Cultural Arts Camp\n \n 
URL:https://ballethnic.org/event/cultural-arts-camp-2026/2026-06-26/
LOCATION:Ballethnic Dance Studio\, 2587 Ballethnic Way\, East Point\, GA\, 30344\, United States
CATEGORIES:Community Event,Open Classes,Special Classes
END:VEVENT
BEGIN:VEVENT
DTSTART;TZID=America/New_York:20260629T084500
DTEND;TZID=America/New_York:20260629T164500
DTSTAMP:20260424T074406
CREATED:20260112T184650Z
LAST-MODIFIED:20260225T212356Z
UID:10010066-1782722700-1782751500@ballethnic.org
SUMMARY:BAD Summer Dance Intensive 2026
DESCRIPTION:Ballethnic Academy of Dance – Summer Dance Intensive 2026
URL:https://ballethnic.org/event/bad-summer-dance-intensive-2026/2026-06-29/
LOCATION:Ballethnic Dance Studio\, 2587 Ballethnic Way\, East Point\, GA\, 30344\, United States
CATEGORIES:Community Event,Open Classes,Special Classes
END:VEVENT
BEGIN:VEVENT
DTSTART;TZID=America/New_York:20260630T084500
DTEND;TZID=America/New_York:20260630T164500
DTSTAMP:20260424T074406
CREATED:20260112T184650Z
LAST-MODIFIED:20260225T212356Z
UID:10010086-1782809100-1782837900@ballethnic.org
SUMMARY:BAD Summer Dance Intensive 2026
DESCRIPTION:Ballethnic Academy of Dance – Summer Dance Intensive 2026
URL:https://ballethnic.org/event/bad-summer-dance-intensive-2026/2026-06-30/
LOCATION:Ballethnic Dance Studio\, 2587 Ballethnic Way\, East Point\, GA\, 30344\, United States
CATEGORIES:Community Event,Open Classes,Special Classes
END:VEVENT
END:VCALENDAR