BEGIN:VCALENDAR
VERSION:2.0
PRODID:-//Ballethnic - ECPv6.15.17//NONSGML v1.0//EN
CALSCALE:GREGORIAN
METHOD:PUBLISH
X-ORIGINAL-URL:https://ballethnic.org
X-WR-CALDESC:Events for Ballethnic
REFRESH-INTERVAL;VALUE=DURATION:PT1H
X-Robots-Tag:noindex
X-PUBLISHED-TTL:PT1H
BEGIN:VTIMEZONE
TZID:America/New_York
BEGIN:DAYLIGHT
TZOFFSETFROM:-0500
TZOFFSETTO:-0400
TZNAME:EDT
DTSTART:20230312T070000
END:DAYLIGHT
BEGIN:STANDARD
TZOFFSETFROM:-0400
TZOFFSETTO:-0500
TZNAME:EST
DTSTART:20231105T060000
END:STANDARD
BEGIN:DAYLIGHT
TZOFFSETFROM:-0500
TZOFFSETTO:-0400
TZNAME:EDT
DTSTART:20240310T070000
END:DAYLIGHT
BEGIN:STANDARD
TZOFFSETFROM:-0400
TZOFFSETTO:-0500
TZNAME:EST
DTSTART:20241103T060000
END:STANDARD
BEGIN:DAYLIGHT
TZOFFSETFROM:-0500
TZOFFSETTO:-0400
TZNAME:EDT
DTSTART:20250309T070000
END:DAYLIGHT
BEGIN:STANDARD
TZOFFSETFROM:-0400
TZOFFSETTO:-0500
TZNAME:EST
DTSTART:20251102T060000
END:STANDARD
END:VTIMEZONE
BEGIN:VEVENT
DTSTART;TZID=America/New_York:20240708T130000
DTEND;TZID=America/New_York:20240708T170000
DTSTAMP:20260420T002842
CREATED:20240322T235100Z
LAST-MODIFIED:20240713T164655Z
UID:10005748-1720443600-1720458000@ballethnic.org
SUMMARY:BAD Teen Camp 2024
DESCRIPTION:Ballethnic’s Summer Teen Camp 2024\n15% Discount for Pre-Pointe and Teen Camp \nTo Register:  CLICK HERE \nTo
URL:https://ballethnic.org/event/bad-teen-camp-2024/2024-07-08/
LOCATION:Ballethnic Dance Studio\, 2587 Ballethnic Way\, East Point\, GA\, 30344\, United States
CATEGORIES:Community Event
END:VEVENT
BEGIN:VEVENT
DTSTART;TZID=America/New_York:20240709T130000
DTEND;TZID=America/New_York:20240709T170000
DTSTAMP:20260420T002842
CREATED:20240322T235100Z
LAST-MODIFIED:20240713T164655Z
UID:10006653-1720530000-1720544400@ballethnic.org
SUMMARY:BAD Teen Camp 2024
DESCRIPTION:Ballethnic’s Summer Teen Camp 2024\n15% Discount for Pre-Pointe and Teen Camp \nTo Register:  CLICK HERE \nTo
URL:https://ballethnic.org/event/bad-teen-camp-2024/2024-07-09/
LOCATION:Ballethnic Dance Studio\, 2587 Ballethnic Way\, East Point\, GA\, 30344\, United States
CATEGORIES:Community Event
END:VEVENT
BEGIN:VEVENT
DTSTART;TZID=America/New_York:20240709T180000
DTEND;TZID=America/New_York:20240709T190000
DTSTAMP:20260420T002842
CREATED:20240529T204517Z
LAST-MODIFIED:20240619T220208Z
UID:10006640-1720548000-1720551600@ballethnic.org
SUMMARY:Summer Adult Classes - Ballet
DESCRIPTION:Ballethnic’s Adult Summer 2024 – Ballet Classes\nTo Register:  CLICK HERE \nTo
URL:https://ballethnic.org/event/summer-adult-ballet-classes/2024-07-09/
LOCATION:Ballethnic Dance Studio\, 2587 Ballethnic Way\, East Point\, GA\, 30344\, United States
CATEGORIES:Community Event
END:VEVENT
BEGIN:VEVENT
DTSTART;TZID=America/New_York:20240709T190000
DTEND;TZID=America/New_York:20240709T200000
DTSTAMP:20260420T002842
CREATED:20240619T220346Z
LAST-MODIFIED:20240619T220346Z
UID:10006190-1720551600-1720555200@ballethnic.org
SUMMARY:Summer Adult Class - Ballethnicize
DESCRIPTION:Ballethnic’s Adult Summer Ballethnicize Classes\nTo Register:  CLICK HERE \nTo
URL:https://ballethnic.org/event/summer-adult-class-ballethnicize-2/2024-07-09/
LOCATION:Ballethnic Dance Studio\, 2587 Ballethnic Way\, East Point\, GA\, 30344\, United States
CATEGORIES:Community Event
END:VEVENT
BEGIN:VEVENT
DTSTART;TZID=America/New_York:20240710T130000
DTEND;TZID=America/New_York:20240710T170000
DTSTAMP:20260420T002842
CREATED:20240322T235100Z
LAST-MODIFIED:20240713T164655Z
UID:10006654-1720616400-1720630800@ballethnic.org
SUMMARY:BAD Teen Camp 2024
DESCRIPTION:Ballethnic’s Summer Teen Camp 2024\n15% Discount for Pre-Pointe and Teen Camp \nTo Register:  CLICK HERE \nTo
URL:https://ballethnic.org/event/bad-teen-camp-2024/2024-07-10/
LOCATION:Ballethnic Dance Studio\, 2587 Ballethnic Way\, East Point\, GA\, 30344\, United States
CATEGORIES:Community Event
END:VEVENT
BEGIN:VEVENT
DTSTART;TZID=America/New_York:20240711T130000
DTEND;TZID=America/New_York:20240711T170000
DTSTAMP:20260420T002842
CREATED:20240322T235100Z
LAST-MODIFIED:20240713T164655Z
UID:10006655-1720702800-1720717200@ballethnic.org
SUMMARY:BAD Teen Camp 2024
DESCRIPTION:Ballethnic’s Summer Teen Camp 2024\n15% Discount for Pre-Pointe and Teen Camp \nTo Register:  CLICK HERE \nTo
URL:https://ballethnic.org/event/bad-teen-camp-2024/2024-07-11/
LOCATION:Ballethnic Dance Studio\, 2587 Ballethnic Way\, East Point\, GA\, 30344\, United States
CATEGORIES:Community Event
END:VEVENT
BEGIN:VEVENT
DTSTART;TZID=America/New_York:20240711T180000
DTEND;TZID=America/New_York:20240711T190000
DTSTAMP:20260420T002842
CREATED:20240529T204517Z
LAST-MODIFIED:20240619T220208Z
UID:10006641-1720720800-1720724400@ballethnic.org
SUMMARY:Summer Adult Classes - Ballet
DESCRIPTION:Ballethnic’s Adult Summer 2024 – Ballet Classes\nTo Register:  CLICK HERE \nTo
URL:https://ballethnic.org/event/summer-adult-ballet-classes/2024-07-11/
LOCATION:Ballethnic Dance Studio\, 2587 Ballethnic Way\, East Point\, GA\, 30344\, United States
CATEGORIES:Community Event
END:VEVENT
BEGIN:VEVENT
DTSTART;TZID=America/New_York:20240711T180000
DTEND;TZID=America/New_York:20240711T200000
DTSTAMP:20260420T002842
CREATED:20240622T175124Z
LAST-MODIFIED:20240622T175124Z
UID:10006652-1720720800-1720728000@ballethnic.org
SUMMARY:Ethio Modern Masterclass
DESCRIPTION:Ethio Modern Masterclass\nw/Dr. RAS Mikey Courtney
URL:https://ballethnic.org/event/ethio-modern-masterclass/
LOCATION:Ballethnic Dance Studio\, 2587 Ballethnic Way\, East Point\, GA\, 30344\, United States
CATEGORIES:Community Event,Open Classes,Special Classes
END:VEVENT
BEGIN:VEVENT
DTSTART;TZID=America/New_York:20240711T190000
DTEND;TZID=America/New_York:20240711T200000
DTSTAMP:20260420T002842
CREATED:20240529T204315Z
LAST-MODIFIED:20240619T220250Z
UID:10006374-1720724400-1720728000@ballethnic.org
SUMMARY:Summer Adult Class - Modern
DESCRIPTION:Ballethnic’s Adult Summer Modern Classes\nTo Register:  CLICK HERE \nTo
URL:https://ballethnic.org/event/summer-adult-class-modern/2024-07-11/
LOCATION:Ballethnic Dance Studio\, 2587 Ballethnic Way\, East Point\, GA\, 30344\, United States
CATEGORIES:Community Event
END:VEVENT
BEGIN:VEVENT
DTSTART;TZID=America/New_York:20240712T130000
DTEND;TZID=America/New_York:20240712T170000
DTSTAMP:20260420T002842
CREATED:20240322T235100Z
LAST-MODIFIED:20240713T164655Z
UID:10006656-1720789200-1720803600@ballethnic.org
SUMMARY:BAD Teen Camp 2024
DESCRIPTION:Ballethnic’s Summer Teen Camp 2024\n15% Discount for Pre-Pointe and Teen Camp \nTo Register:  CLICK HERE \nTo
URL:https://ballethnic.org/event/bad-teen-camp-2024/2024-07-12/
LOCATION:Ballethnic Dance Studio\, 2587 Ballethnic Way\, East Point\, GA\, 30344\, United States
CATEGORIES:Community Event
END:VEVENT
BEGIN:VEVENT
DTSTART;TZID=America/New_York:20240713T120000
DTEND;TZID=America/New_York:20240713T130000
DTSTAMP:20260420T002842
CREATED:20240416T032844Z
LAST-MODIFIED:20240620T122051Z
UID:10005943-1720872000-1720875600@ballethnic.org
SUMMARY:Academy Registration 2024
DESCRIPTION:Academy Registration for 2024\nNew Student Evaluation Class –  12:00 PM – 1:00 PM \nEarly Registration 12:00 PM – 1:00 PM
URL:https://ballethnic.org/event/academy-registration-2024/
LOCATION:Ballethnic Dance Studio\, 2587 Ballethnic Way\, East Point\, GA\, 30344\, United States
CATEGORIES:BAD - Jazz L-IV,Community Event,Level IV and Kiddie,Level IV and V,Levels A,Levels II and III; Beginner/Intermediate,Levels, A, B, and I,Open Classes,Parent and Me,Young Men's Class
END:VEVENT
BEGIN:VEVENT
DTSTART;TZID=America/New_York:20240713T150000
DTEND;TZID=America/New_York:20240713T174500
DTSTAMP:20260420T002842
CREATED:20240416T032858Z
LAST-MODIFIED:20240620T115536Z
UID:10005944-1720882800-1720892700@ballethnic.org
SUMMARY:BDC Auditions - Urban 2024
DESCRIPTION:Ballethnic Dance Company – Urban Nutcracker 2024 Auditions\nUrban Nutcracker 2024 Auditions – July 13th\, 2024 \n3:00 PM – 3:45 PM / Ages 6 – 11 yrs \n3:45 PM – 4:30 PM / Ages 12 & up \n4:45 PM – 5:45 PM / Adults & Professionals
URL:https://ballethnic.org/event/bdc-auditions-urban-2024/
LOCATION:Ballethnic Dance Studio\, 2587 Ballethnic Way\, East Point\, GA\, 30344\, United States
CATEGORIES:Community Event,Open Classes,Productions,Special Classes
END:VEVENT
END:VCALENDAR