BEGIN:VCALENDAR
VERSION:2.0
PRODID:-//Ballethnic - ECPv6.15.17//NONSGML v1.0//EN
CALSCALE:GREGORIAN
METHOD:PUBLISH
X-WR-CALNAME:Ballethnic
X-ORIGINAL-URL:https://ballethnic.org
X-WR-CALDESC:Events for Ballethnic
REFRESH-INTERVAL;VALUE=DURATION:PT1H
X-Robots-Tag:noindex
X-PUBLISHED-TTL:PT1H
BEGIN:VTIMEZONE
TZID:America/New_York
BEGIN:DAYLIGHT
TZOFFSETFROM:-0500
TZOFFSETTO:-0400
TZNAME:EDT
DTSTART:20240310T070000
END:DAYLIGHT
BEGIN:STANDARD
TZOFFSETFROM:-0400
TZOFFSETTO:-0500
TZNAME:EST
DTSTART:20241103T060000
END:STANDARD
BEGIN:DAYLIGHT
TZOFFSETFROM:-0500
TZOFFSETTO:-0400
TZNAME:EDT
DTSTART:20250309T070000
END:DAYLIGHT
BEGIN:STANDARD
TZOFFSETFROM:-0400
TZOFFSETTO:-0500
TZNAME:EST
DTSTART:20251102T060000
END:STANDARD
BEGIN:DAYLIGHT
TZOFFSETFROM:-0500
TZOFFSETTO:-0400
TZNAME:EDT
DTSTART:20260308T070000
END:DAYLIGHT
BEGIN:STANDARD
TZOFFSETFROM:-0400
TZOFFSETTO:-0500
TZNAME:EST
DTSTART:20261101T060000
END:STANDARD
END:VTIMEZONE
BEGIN:VEVENT
DTSTART;TZID=America/New_York:20250114T181500
DTEND;TZID=America/New_York:20250114T190000
DTSTAMP:20260420T002029
CREATED:20250108T042720Z
LAST-MODIFIED:20250108T042720Z
UID:10009287-1736878500-1736881200@ballethnic.org
SUMMARY:Level IV/V Tap
DESCRIPTION:Studio B
URL:https://ballethnic.org/event/level-iv-v-tap-4/2025-01-14/
LOCATION:Ballethnic Dance Studio\, 2587 Ballethnic Way\, East Point\, GA\, 30344\, United States
CATEGORIES:Level IV and V
END:VEVENT
BEGIN:VEVENT
DTSTART;TZID=America/New_York:20250114T183000
DTEND;TZID=America/New_York:20250114T193000
DTSTAMP:20260420T002029
CREATED:20250108T042649Z
LAST-MODIFIED:20250108T042649Z
UID:10009255-1736879400-1736883000@ballethnic.org
SUMMARY:Open Adult Ballet
DESCRIPTION:Studio A
URL:https://ballethnic.org/event/open-adult-ballet-2/2025-01-14/
LOCATION:Ballethnic Dance Studio\, 2587 Ballethnic Way\, East Point\, GA\, 30344\, United States
CATEGORIES:Open Classes
END:VEVENT
BEGIN:VEVENT
DTSTART;TZID=America/New_York:20250114T190000
DTEND;TZID=America/New_York:20250114T200000
DTSTAMP:20260420T002029
CREATED:20250108T042610Z
LAST-MODIFIED:20250108T042610Z
UID:10009223-1736881200-1736884800@ballethnic.org
SUMMARY:Level IV/V African
DESCRIPTION:Studio B\nAfrican Class – Levels IV\, V
URL:https://ballethnic.org/event/level-iv-v-african-4/2025-01-14/
LOCATION:Ballethnic Dance Studio\, 2587 Ballethnic Way\, East Point\, GA\, 30344\, United States
CATEGORIES:Level IV and V
END:VEVENT
BEGIN:VEVENT
DTSTART;TZID=America/New_York:20250114T193000
DTEND;TZID=America/New_York:20250114T203000
DTSTAMP:20260420T002029
CREATED:20250108T042541Z
LAST-MODIFIED:20250108T042541Z
UID:10009191-1736883000-1736886600@ballethnic.org
SUMMARY:Open Adult Ballethnicize
DESCRIPTION:Studio A
URL:https://ballethnic.org/event/open-adult-ballethnicize-2/2025-01-14/
LOCATION:Ballethnic Dance Studio\, 2587 Ballethnic Way\, East Point\, GA\, 30344\, United States
CATEGORIES:Open Classes
END:VEVENT
BEGIN:VEVENT
DTSTART;VALUE=DATE:20250115
DTEND;VALUE=DATE:20250116
DTSTAMP:20260420T002029
CREATED:20250108T045250Z
LAST-MODIFIED:20250108T045250Z
UID:10009371-1736899200-1736985599@ballethnic.org
SUMMARY:Ballethnic 35th Birthday
DESCRIPTION:Ballethnic Official 35th Birthday
URL:https://ballethnic.org/event/ballethnic-35th-birthday/
LOCATION:Ballethnic Dance Studio\, 2587 Ballethnic Way\, East Point\, GA\, 30344\, United States
CATEGORIES:Community Event
END:VEVENT
BEGIN:VEVENT
DTSTART;TZID=America/New_York:20250115T174500
DTEND;TZID=America/New_York:20250115T191500
DTSTAMP:20260420T002029
CREATED:20250108T041008Z
LAST-MODIFIED:20250108T041008Z
UID:10009159-1736963100-1736968500@ballethnic.org
SUMMARY:Level II/III Pre-Pointe to Pointe
DESCRIPTION:Studio A
URL:https://ballethnic.org/event/level-ii-iii-pre-pointe-to-pointe/2025-01-15/
LOCATION:Ballethnic Dance Studio\, 2587 Ballethnic Way\, East Point\, GA\, 30344\, United States
CATEGORIES:Levels II and III; Beginner/Intermediate,Levels, A, B, and I
END:VEVENT
BEGIN:VEVENT
DTSTART;TZID=America/New_York:20250115T174500
DTEND;TZID=America/New_York:20250115T191500
DTSTAMP:20260420T002029
CREATED:20250108T041309Z
LAST-MODIFIED:20250108T041309Z
UID:10009127-1736963100-1736968500@ballethnic.org
SUMMARY:Young Men's Class
DESCRIPTION:Studio B
URL:https://ballethnic.org/event/young-mens-class-4/2025-01-15/
LOCATION:Ballethnic Dance Studio\, 2587 Ballethnic Way\, East Point\, GA\, 30344\, United States
CATEGORIES:Young Men's Class
END:VEVENT
BEGIN:VEVENT
DTSTART;TZID=America/New_York:20250115T174500
DTEND;TZID=America/New_York:20250115T191500
DTSTAMP:20260420T002029
CREATED:20250108T041342Z
LAST-MODIFIED:20250108T041342Z
UID:10009095-1736963100-1736968500@ballethnic.org
SUMMARY:Beginner/Intermediate Teen Ballet
DESCRIPTION:Studio C
URL:https://ballethnic.org/event/beginner-intermediate-teen-ballet-8/2025-01-15/
LOCATION:Ballethnic Dance Studio\, 2587 Ballethnic Way\, East Point\, GA\, 30344\, United States
CATEGORIES:Levels II and III; Beginner/Intermediate
END:VEVENT
BEGIN:VEVENT
DTSTART;TZID=America/New_York:20250115T191500
DTEND;TZID=America/New_York:20250115T204500
DTSTAMP:20260420T002029
CREATED:20250108T041145Z
LAST-MODIFIED:20250108T051336Z
UID:10009031-1736968500-1736973900@ballethnic.org
SUMMARY:Production Rehearsal
DESCRIPTION:Studio A
URL:https://ballethnic.org/event/production-rehearsal-6/2025-01-15/
LOCATION:Ballethnic Dance Studio\, 2587 Ballethnic Way\, East Point\, GA\, 30344\, United States
CATEGORIES:Production Rehearsals
END:VEVENT
BEGIN:VEVENT
DTSTART;TZID=America/New_York:20250116T174500
DTEND;TZID=America/New_York:20250116T184500
DTSTAMP:20260420T002029
CREATED:20250108T034521Z
LAST-MODIFIED:20250108T034521Z
UID:10008999-1737049500-1737053100@ballethnic.org
SUMMARY:Level II/III Pre-Pointe
DESCRIPTION:Studio B
URL:https://ballethnic.org/event/level-ii-iii-pre-pointe-6/2025-01-16/
LOCATION:Ballethnic Dance Studio\, 2587 Ballethnic Way\, East Point\, GA\, 30344\, United States
CATEGORIES:Levels II and III; Beginner/Intermediate
END:VEVENT
BEGIN:VEVENT
DTSTART;TZID=America/New_York:20250116T174500
DTEND;TZID=America/New_York:20250116T194500
DTSTAMP:20260420T002029
CREATED:20250108T033859Z
LAST-MODIFIED:20250108T033859Z
UID:10008967-1737049500-1737056700@ballethnic.org
SUMMARY:BYE / Workshops & Repertoire
DESCRIPTION:Studio A
URL:https://ballethnic.org/event/bye-workshops-repertoire/2025-01-16/
LOCATION:Ballethnic Dance Studio\, 2587 Ballethnic Way\, East Point\, GA\, 30344\, United States
CATEGORIES:Levels II and III; Beginner/Intermediate,Levels, A, B, and I
END:VEVENT
BEGIN:VEVENT
DTSTART;TZID=America/New_York:20250116T184500
DTEND;TZID=America/New_York:20250116T193000
DTSTAMP:20260420T002029
CREATED:20250108T033831Z
LAST-MODIFIED:20250108T033831Z
UID:10008935-1737053100-1737055800@ballethnic.org
SUMMARY:Level II/III Tap
DESCRIPTION:Studio B
URL:https://ballethnic.org/event/level-ii-iii-tap-3/2025-01-16/
LOCATION:Ballethnic Dance Studio\, 2587 Ballethnic Way\, East Point\, GA\, 30344\, United States
CATEGORIES:Levels II and III; Beginner/Intermediate
END:VEVENT
BEGIN:VEVENT
DTSTART;TZID=America/New_York:20250116T193000
DTEND;TZID=America/New_York:20250116T203000
DTSTAMP:20260420T002029
CREATED:20250108T033759Z
LAST-MODIFIED:20250108T033759Z
UID:10008903-1737055800-1737059400@ballethnic.org
SUMMARY:Level II/III African
DESCRIPTION:Studio B
URL:https://ballethnic.org/event/level-ii-iii-african-3/2025-01-16/
LOCATION:Ballethnic Dance Studio\, 2587 Ballethnic Way\, East Point\, GA\, 30344\, United States
CATEGORIES:Levels II and III; Beginner/Intermediate
END:VEVENT
BEGIN:VEVENT
DTSTART;TZID=America/New_York:20250117T173000
DTEND;TZID=America/New_York:20250117T210000
DTSTAMP:20260420T002029
CREATED:20250108T033724Z
LAST-MODIFIED:20250108T051426Z
UID:10008871-1737135000-1737147600@ballethnic.org
SUMMARY:Production Rehearsal
DESCRIPTION:Studio A
URL:https://ballethnic.org/event/production-rehearsal-5/2025-01-17/
LOCATION:Ballethnic Dance Studio\, 2587 Ballethnic Way\, East Point\, GA\, 30344\, United States
CATEGORIES:Production Rehearsals
END:VEVENT
BEGIN:VEVENT
DTSTART;TZID=America/New_York:20250118T093000
DTEND;TZID=America/New_York:20250118T110000
DTSTAMP:20260420T002029
CREATED:20250108T031707Z
LAST-MODIFIED:20250108T031707Z
UID:10008806-1737192600-1737198000@ballethnic.org
SUMMARY:Level IV Ballet
DESCRIPTION:Studio A
URL:https://ballethnic.org/event/level-iv-ballet-3/2025-01-18/
LOCATION:GA
CATEGORIES:Level IV and V
END:VEVENT
BEGIN:VEVENT
DTSTART;TZID=America/New_York:20250118T093000
DTEND;TZID=America/New_York:20250118T110000
DTSTAMP:20260420T002029
CREATED:20250108T032118Z
LAST-MODIFIED:20250108T032118Z
UID:10008839-1737192600-1737198000@ballethnic.org
SUMMARY:Level V Ballet
DESCRIPTION:Studio C
URL:https://ballethnic.org/event/level-v-ballet-3/2025-01-18/
LOCATION:Ballethnic Dance Studio\, 2587 Ballethnic Way\, East Point\, GA\, 30344\, United States
CATEGORIES:Level IV and V,Young Men's Class
END:VEVENT
BEGIN:VEVENT
DTSTART;TZID=America/New_York:20250118T100000
DTEND;TZID=America/New_York:20250118T110000
DTSTAMP:20260420T002029
CREATED:20250108T031642Z
LAST-MODIFIED:20250108T031642Z
UID:10008773-1737194400-1737198000@ballethnic.org
SUMMARY:Level VI Pre-Ballet
DESCRIPTION:Studio B
URL:https://ballethnic.org/event/level-vi-pre-ballet-3/2025-01-18/
LOCATION:Ballethnic Dance Studio\, 2587 Ballethnic Way\, East Point\, GA\, 30344\, United States
CATEGORIES:Level IV and V,Young Men's Class
END:VEVENT
BEGIN:VEVENT
DTSTART;TZID=America/New_York:20250118T110000
DTEND;TZID=America/New_York:20250118T113000
DTSTAMP:20260420T002029
CREATED:20250108T031147Z
LAST-MODIFIED:20250108T031147Z
UID:10008740-1737198000-1737199800@ballethnic.org
SUMMARY:Level V Jazz
DESCRIPTION:Studio C
URL:https://ballethnic.org/event/level-v-jazz-4/2025-01-18/
LOCATION:Ballethnic Dance Studio\, 2587 Ballethnic Way\, East Point\, GA\, 30344\, United States
CATEGORIES:Level IV and V,Young Men's Class
END:VEVENT
BEGIN:VEVENT
DTSTART;TZID=America/New_York:20250118T110000
DTEND;TZID=America/New_York:20250118T113000
DTSTAMP:20260420T002029
CREATED:20250108T031216Z
LAST-MODIFIED:20250108T031216Z
UID:10008707-1737198000-1737199800@ballethnic.org
SUMMARY:Level IV Jazz
DESCRIPTION:Studio A
URL:https://ballethnic.org/event/level-iv-jazz-3/2025-01-18/
LOCATION:Ballethnic Dance Studio\, 2587 Ballethnic Way\, East Point\, GA\, 30344\, United States
CATEGORIES:BAD - Jazz L-IV,Level IV and V,Young Men's Class
END:VEVENT
BEGIN:VEVENT
DTSTART;TZID=America/New_York:20250118T110000
DTEND;TZID=America/New_York:20250118T114500
DTSTAMP:20260420T002029
CREATED:20250108T024222Z
LAST-MODIFIED:20250108T024222Z
UID:10008577-1737198000-1737200700@ballethnic.org
SUMMARY:Level VI / Kiddie Tap
DESCRIPTION:Studio B
URL:https://ballethnic.org/event/level-vi-kiddie-tap-2/2025-01-18/
LOCATION:Ballethnic Dance Studio\, 2587 Ballethnic Way\, East Point\, GA\, 30344\, United States
CATEGORIES:Level IV and Kiddie
END:VEVENT
BEGIN:VEVENT
DTSTART;TZID=America/New_York:20250118T113000
DTEND;TZID=America/New_York:20250118T130000
DTSTAMP:20260420T002029
CREATED:20250108T025505Z
LAST-MODIFIED:20250108T025505Z
UID:10008642-1737199800-1737205200@ballethnic.org
SUMMARY:Level II/III Ballet & Pre-Pointe
DESCRIPTION:Studio C
URL:https://ballethnic.org/event/level-ii-iii-ballet-pre-pointe-2/2025-01-18/
LOCATION:Ballethnic Dance Studio\, 2587 Ballethnic Way\, East Point\, GA\, 30344\, United States
CATEGORIES:Levels II and III; Beginner/Intermediate
END:VEVENT
BEGIN:VEVENT
DTSTART;TZID=America/New_York:20250118T114500
DTEND;TZID=America/New_York:20250118T124500
DTSTAMP:20260420T002029
CREATED:20250108T024157Z
LAST-MODIFIED:20250108T024157Z
UID:10008511-1737200700-1737204300@ballethnic.org
SUMMARY:Kiddie Ballethnicize
DESCRIPTION:Studio B
URL:https://ballethnic.org/event/kiddie-ballethnicize-8/2025-01-18/
LOCATION:Ballethnic Dance Studio\, 2587 Ballethnic Way\, East Point\, GA\, 30344\, United States
CATEGORIES:Level IV and Kiddie,Young Men's Class
END:VEVENT
BEGIN:VEVENT
DTSTART;TZID=America/New_York:20250118T130000
DTEND;TZID=America/New_York:20250118T133000
DTSTAMP:20260420T002029
CREATED:20250108T024133Z
LAST-MODIFIED:20250109T053624Z
UID:10008478-1737205200-1737207000@ballethnic.org
SUMMARY:*Pre-Pointe to Pointe 6-Week Series
DESCRIPTION:Studio B\n*By Invitation Only
URL:https://ballethnic.org/event/pre-pointe-to-pointe-6-week-series/2025-01-18/
LOCATION:Online Class
CATEGORIES:Special Classes
END:VEVENT
BEGIN:VEVENT
DTSTART;TZID=America/New_York:20250118T130000
DTEND;TZID=America/New_York:20250118T143000
DTSTAMP:20260420T002029
CREATED:20250108T024050Z
LAST-MODIFIED:20250108T024050Z
UID:10008412-1737205200-1737210600@ballethnic.org
SUMMARY:*Pas de Deux
DESCRIPTION:Studio A\n*By Invitation Only
URL:https://ballethnic.org/event/pas-de-deux-7/2025-01-18/
LOCATION:Ballethnic Dance Studio\, 2587 Ballethnic Way\, East Point\, GA\, 30344\, United States
CATEGORIES:Special Classes
END:VEVENT
BEGIN:VEVENT
DTSTART;TZID=America/New_York:20250118T130000
DTEND;TZID=America/New_York:20250118T143000
DTSTAMP:20260420T002029
CREATED:20250108T024110Z
LAST-MODIFIED:20250108T024110Z
UID:10008366-1737205200-1737210600@ballethnic.org
SUMMARY:Level II/III Jazz/Modern
DESCRIPTION:Studio B
URL:https://ballethnic.org/event/level-ii-iii-jazz-modern-4/2025-01-18/
LOCATION:Ballethnic Dance Studio\, 2587 Ballethnic Way\, East Point\, GA\, 30344\, United States
CATEGORIES:Levels II and III; Beginner/Intermediate,Levels, A, B, and I
END:VEVENT
BEGIN:VEVENT
DTSTART;TZID=America/New_York:20250118T160000
DTEND;TZID=America/New_York:20250118T190000
DTSTAMP:20260420T002029
CREATED:20250108T045900Z
LAST-MODIFIED:20250108T045900Z
UID:10009372-1737216000-1737226800@ballethnic.org
SUMMARY:Ballethnic 35th Anniversary Celebration
DESCRIPTION:Ballethnic Celebrates their 35th Anniversary!\nAn RSVP Ole’ School Celebration to honor thank all its Sponsors\, Donors and Alumni who have supported them throughout those 35 years!!
URL:https://ballethnic.org/event/ballethnic-35th-anniversary-celebration/
LOCATION:Ballethnic Dance Studio\, 2587 Ballethnic Way\, East Point\, GA\, 30344\, United States
CATEGORIES:Community Event,Productions
ATTACH;FMTTYPE=application/pdf:https://ballethnic.org/wp-content/uploads/2025/01/35th-Anniversary-Final-Invite2.pdf
END:VEVENT
END:VCALENDAR