BEGIN:VCALENDAR
VERSION:2.0
PRODID:-//Ballethnic - ECPv6.15.17//NONSGML v1.0//EN
CALSCALE:GREGORIAN
METHOD:PUBLISH
X-WR-CALNAME:Ballethnic
X-ORIGINAL-URL:https://ballethnic.org
X-WR-CALDESC:Events for Ballethnic
REFRESH-INTERVAL;VALUE=DURATION:PT1H
X-Robots-Tag:noindex
X-PUBLISHED-TTL:PT1H
BEGIN:VTIMEZONE
TZID:America/New_York
BEGIN:DAYLIGHT
TZOFFSETFROM:-0500
TZOFFSETTO:-0400
TZNAME:EDT
DTSTART:20240310T070000
END:DAYLIGHT
BEGIN:STANDARD
TZOFFSETFROM:-0400
TZOFFSETTO:-0500
TZNAME:EST
DTSTART:20241103T060000
END:STANDARD
BEGIN:DAYLIGHT
TZOFFSETFROM:-0500
TZOFFSETTO:-0400
TZNAME:EDT
DTSTART:20250309T070000
END:DAYLIGHT
BEGIN:STANDARD
TZOFFSETFROM:-0400
TZOFFSETTO:-0500
TZNAME:EST
DTSTART:20251102T060000
END:STANDARD
BEGIN:DAYLIGHT
TZOFFSETFROM:-0500
TZOFFSETTO:-0400
TZNAME:EDT
DTSTART:20260308T070000
END:DAYLIGHT
BEGIN:STANDARD
TZOFFSETFROM:-0400
TZOFFSETTO:-0500
TZNAME:EST
DTSTART:20261101T060000
END:STANDARD
END:VTIMEZONE
BEGIN:VEVENT
DTSTART;TZID=America/New_York:20250121T181500
DTEND;TZID=America/New_York:20250121T190000
DTSTAMP:20260419T210002
CREATED:20250108T042720Z
LAST-MODIFIED:20250108T042720Z
UID:10009288-1737483300-1737486000@ballethnic.org
SUMMARY:Level IV/V Tap
DESCRIPTION:Studio B
URL:https://ballethnic.org/event/level-iv-v-tap-4/2025-01-21/
LOCATION:Ballethnic Dance Studio\, 2587 Ballethnic Way\, East Point\, GA\, 30344\, United States
CATEGORIES:Level IV and V
END:VEVENT
BEGIN:VEVENT
DTSTART;TZID=America/New_York:20250121T183000
DTEND;TZID=America/New_York:20250121T193000
DTSTAMP:20260419T210002
CREATED:20250108T042649Z
LAST-MODIFIED:20250108T042649Z
UID:10009256-1737484200-1737487800@ballethnic.org
SUMMARY:Open Adult Ballet
DESCRIPTION:Studio A
URL:https://ballethnic.org/event/open-adult-ballet-2/2025-01-21/
LOCATION:Ballethnic Dance Studio\, 2587 Ballethnic Way\, East Point\, GA\, 30344\, United States
CATEGORIES:Open Classes
END:VEVENT
BEGIN:VEVENT
DTSTART;TZID=America/New_York:20250121T190000
DTEND;TZID=America/New_York:20250121T200000
DTSTAMP:20260419T210002
CREATED:20250108T042610Z
LAST-MODIFIED:20250108T042610Z
UID:10009224-1737486000-1737489600@ballethnic.org
SUMMARY:Level IV/V African
DESCRIPTION:Studio B\nAfrican Class – Levels IV\, V
URL:https://ballethnic.org/event/level-iv-v-african-4/2025-01-21/
LOCATION:Ballethnic Dance Studio\, 2587 Ballethnic Way\, East Point\, GA\, 30344\, United States
CATEGORIES:Level IV and V
END:VEVENT
BEGIN:VEVENT
DTSTART;TZID=America/New_York:20250121T193000
DTEND;TZID=America/New_York:20250121T203000
DTSTAMP:20260419T210002
CREATED:20250108T042541Z
LAST-MODIFIED:20250108T042541Z
UID:10009192-1737487800-1737491400@ballethnic.org
SUMMARY:Open Adult Ballethnicize
DESCRIPTION:Studio A
URL:https://ballethnic.org/event/open-adult-ballethnicize-2/2025-01-21/
LOCATION:Ballethnic Dance Studio\, 2587 Ballethnic Way\, East Point\, GA\, 30344\, United States
CATEGORIES:Open Classes
END:VEVENT
BEGIN:VEVENT
DTSTART;TZID=America/New_York:20250122T174500
DTEND;TZID=America/New_York:20250122T191500
DTSTAMP:20260419T210002
CREATED:20250108T041008Z
LAST-MODIFIED:20250108T041008Z
UID:10009160-1737567900-1737573300@ballethnic.org
SUMMARY:Level II/III Pre-Pointe to Pointe
DESCRIPTION:Studio A
URL:https://ballethnic.org/event/level-ii-iii-pre-pointe-to-pointe/2025-01-22/
LOCATION:Ballethnic Dance Studio\, 2587 Ballethnic Way\, East Point\, GA\, 30344\, United States
CATEGORIES:Levels II and III; Beginner/Intermediate,Levels, A, B, and I
END:VEVENT
BEGIN:VEVENT
DTSTART;TZID=America/New_York:20250122T174500
DTEND;TZID=America/New_York:20250122T191500
DTSTAMP:20260419T210002
CREATED:20250108T041309Z
LAST-MODIFIED:20250108T041309Z
UID:10009128-1737567900-1737573300@ballethnic.org
SUMMARY:Young Men's Class
DESCRIPTION:Studio B
URL:https://ballethnic.org/event/young-mens-class-4/2025-01-22/
LOCATION:Ballethnic Dance Studio\, 2587 Ballethnic Way\, East Point\, GA\, 30344\, United States
CATEGORIES:Young Men's Class
END:VEVENT
BEGIN:VEVENT
DTSTART;TZID=America/New_York:20250122T174500
DTEND;TZID=America/New_York:20250122T191500
DTSTAMP:20260419T210002
CREATED:20250108T041342Z
LAST-MODIFIED:20250108T041342Z
UID:10009096-1737567900-1737573300@ballethnic.org
SUMMARY:Beginner/Intermediate Teen Ballet
DESCRIPTION:Studio C
URL:https://ballethnic.org/event/beginner-intermediate-teen-ballet-8/2025-01-22/
LOCATION:Ballethnic Dance Studio\, 2587 Ballethnic Way\, East Point\, GA\, 30344\, United States
CATEGORIES:Levels II and III; Beginner/Intermediate
END:VEVENT
BEGIN:VEVENT
DTSTART;TZID=America/New_York:20250122T191500
DTEND;TZID=America/New_York:20250122T204500
DTSTAMP:20260419T210002
CREATED:20250108T041145Z
LAST-MODIFIED:20250108T051336Z
UID:10009032-1737573300-1737578700@ballethnic.org
SUMMARY:Production Rehearsal
DESCRIPTION:Studio A
URL:https://ballethnic.org/event/production-rehearsal-6/2025-01-22/
LOCATION:Ballethnic Dance Studio\, 2587 Ballethnic Way\, East Point\, GA\, 30344\, United States
CATEGORIES:Production Rehearsals
END:VEVENT
BEGIN:VEVENT
DTSTART;VALUE=DATE:20250123
DTEND;VALUE=DATE:20250128
DTSTAMP:20260419T210002
CREATED:20250108T044958Z
LAST-MODIFIED:20250108T044958Z
UID:10009370-1737590400-1738022399@ballethnic.org
SUMMARY:IABD Conference
DESCRIPTION:IABD Conference – Pittsburg\, PA
URL:https://ballethnic.org/event/iabd-conference/
LOCATION:Bynam Center of Dance\, 2900 Liberty Ave\, Pittsburgh\, Pennsylvania\, 15201
CATEGORIES:Community Event,Productions,Special Classes
END:VEVENT
BEGIN:VEVENT
DTSTART;TZID=America/New_York:20250123T174500
DTEND;TZID=America/New_York:20250123T184500
DTSTAMP:20260419T210002
CREATED:20250108T034521Z
LAST-MODIFIED:20250108T034521Z
UID:10009000-1737654300-1737657900@ballethnic.org
SUMMARY:Level II/III Pre-Pointe
DESCRIPTION:Studio B
URL:https://ballethnic.org/event/level-ii-iii-pre-pointe-6/2025-01-23/
LOCATION:Ballethnic Dance Studio\, 2587 Ballethnic Way\, East Point\, GA\, 30344\, United States
CATEGORIES:Levels II and III; Beginner/Intermediate
END:VEVENT
BEGIN:VEVENT
DTSTART;TZID=America/New_York:20250123T174500
DTEND;TZID=America/New_York:20250123T194500
DTSTAMP:20260419T210002
CREATED:20250108T033859Z
LAST-MODIFIED:20250108T033859Z
UID:10008968-1737654300-1737661500@ballethnic.org
SUMMARY:BYE / Workshops & Repertoire
DESCRIPTION:Studio A
URL:https://ballethnic.org/event/bye-workshops-repertoire/2025-01-23/
LOCATION:Ballethnic Dance Studio\, 2587 Ballethnic Way\, East Point\, GA\, 30344\, United States
CATEGORIES:Levels II and III; Beginner/Intermediate,Levels, A, B, and I
END:VEVENT
BEGIN:VEVENT
DTSTART;TZID=America/New_York:20250123T184500
DTEND;TZID=America/New_York:20250123T193000
DTSTAMP:20260419T210002
CREATED:20250108T033831Z
LAST-MODIFIED:20250108T033831Z
UID:10008936-1737657900-1737660600@ballethnic.org
SUMMARY:Level II/III Tap
DESCRIPTION:Studio B
URL:https://ballethnic.org/event/level-ii-iii-tap-3/2025-01-23/
LOCATION:Ballethnic Dance Studio\, 2587 Ballethnic Way\, East Point\, GA\, 30344\, United States
CATEGORIES:Levels II and III; Beginner/Intermediate
END:VEVENT
BEGIN:VEVENT
DTSTART;TZID=America/New_York:20250123T193000
DTEND;TZID=America/New_York:20250123T203000
DTSTAMP:20260419T210002
CREATED:20250108T033759Z
LAST-MODIFIED:20250108T033759Z
UID:10008904-1737660600-1737664200@ballethnic.org
SUMMARY:Level II/III African
DESCRIPTION:Studio B
URL:https://ballethnic.org/event/level-ii-iii-african-3/2025-01-23/
LOCATION:Ballethnic Dance Studio\, 2587 Ballethnic Way\, East Point\, GA\, 30344\, United States
CATEGORIES:Levels II and III; Beginner/Intermediate
END:VEVENT
BEGIN:VEVENT
DTSTART;TZID=America/New_York:20250124T173000
DTEND;TZID=America/New_York:20250124T210000
DTSTAMP:20260419T210002
CREATED:20250108T033724Z
LAST-MODIFIED:20250108T051426Z
UID:10008872-1737739800-1737752400@ballethnic.org
SUMMARY:Production Rehearsal
DESCRIPTION:Studio A
URL:https://ballethnic.org/event/production-rehearsal-5/2025-01-24/
LOCATION:Ballethnic Dance Studio\, 2587 Ballethnic Way\, East Point\, GA\, 30344\, United States
CATEGORIES:Production Rehearsals
END:VEVENT
BEGIN:VEVENT
DTSTART;TZID=America/New_York:20250125T093000
DTEND;TZID=America/New_York:20250125T110000
DTSTAMP:20260419T210002
CREATED:20250108T031707Z
LAST-MODIFIED:20250108T031707Z
UID:10008807-1737797400-1737802800@ballethnic.org
SUMMARY:Level IV Ballet
DESCRIPTION:Studio A
URL:https://ballethnic.org/event/level-iv-ballet-3/2025-01-25/
LOCATION:GA
CATEGORIES:Level IV and V
END:VEVENT
BEGIN:VEVENT
DTSTART;TZID=America/New_York:20250125T093000
DTEND;TZID=America/New_York:20250125T110000
DTSTAMP:20260419T210002
CREATED:20250108T032118Z
LAST-MODIFIED:20250108T032118Z
UID:10008840-1737797400-1737802800@ballethnic.org
SUMMARY:Level V Ballet
DESCRIPTION:Studio C
URL:https://ballethnic.org/event/level-v-ballet-3/2025-01-25/
LOCATION:Ballethnic Dance Studio\, 2587 Ballethnic Way\, East Point\, GA\, 30344\, United States
CATEGORIES:Level IV and V,Young Men's Class
END:VEVENT
BEGIN:VEVENT
DTSTART;TZID=America/New_York:20250125T100000
DTEND;TZID=America/New_York:20250125T110000
DTSTAMP:20260419T210002
CREATED:20250108T031642Z
LAST-MODIFIED:20250108T031642Z
UID:10008774-1737799200-1737802800@ballethnic.org
SUMMARY:Level VI Pre-Ballet
DESCRIPTION:Studio B
URL:https://ballethnic.org/event/level-vi-pre-ballet-3/2025-01-25/
LOCATION:Ballethnic Dance Studio\, 2587 Ballethnic Way\, East Point\, GA\, 30344\, United States
CATEGORIES:Level IV and V,Young Men's Class
END:VEVENT
BEGIN:VEVENT
DTSTART;TZID=America/New_York:20250125T110000
DTEND;TZID=America/New_York:20250125T113000
DTSTAMP:20260419T210002
CREATED:20250108T031147Z
LAST-MODIFIED:20250108T031147Z
UID:10008741-1737802800-1737804600@ballethnic.org
SUMMARY:Level V Jazz
DESCRIPTION:Studio C
URL:https://ballethnic.org/event/level-v-jazz-4/2025-01-25/
LOCATION:Ballethnic Dance Studio\, 2587 Ballethnic Way\, East Point\, GA\, 30344\, United States
CATEGORIES:Level IV and V,Young Men's Class
END:VEVENT
BEGIN:VEVENT
DTSTART;TZID=America/New_York:20250125T110000
DTEND;TZID=America/New_York:20250125T113000
DTSTAMP:20260419T210002
CREATED:20250108T031216Z
LAST-MODIFIED:20250108T031216Z
UID:10008708-1737802800-1737804600@ballethnic.org
SUMMARY:Level IV Jazz
DESCRIPTION:Studio A
URL:https://ballethnic.org/event/level-iv-jazz-3/2025-01-25/
LOCATION:Ballethnic Dance Studio\, 2587 Ballethnic Way\, East Point\, GA\, 30344\, United States
CATEGORIES:BAD - Jazz L-IV,Level IV and V,Young Men's Class
END:VEVENT
BEGIN:VEVENT
DTSTART;TZID=America/New_York:20250125T110000
DTEND;TZID=America/New_York:20250125T114500
DTSTAMP:20260419T210002
CREATED:20250108T024222Z
LAST-MODIFIED:20250108T024222Z
UID:10008578-1737802800-1737805500@ballethnic.org
SUMMARY:Level VI / Kiddie Tap
DESCRIPTION:Studio B
URL:https://ballethnic.org/event/level-vi-kiddie-tap-2/2025-01-25/
LOCATION:Ballethnic Dance Studio\, 2587 Ballethnic Way\, East Point\, GA\, 30344\, United States
CATEGORIES:Level IV and Kiddie
END:VEVENT
BEGIN:VEVENT
DTSTART;TZID=America/New_York:20250125T113000
DTEND;TZID=America/New_York:20250125T130000
DTSTAMP:20260419T210002
CREATED:20250108T025505Z
LAST-MODIFIED:20250108T025505Z
UID:10008643-1737804600-1737810000@ballethnic.org
SUMMARY:Level II/III Ballet & Pre-Pointe
DESCRIPTION:Studio C
URL:https://ballethnic.org/event/level-ii-iii-ballet-pre-pointe-2/2025-01-25/
LOCATION:Ballethnic Dance Studio\, 2587 Ballethnic Way\, East Point\, GA\, 30344\, United States
CATEGORIES:Levels II and III; Beginner/Intermediate
END:VEVENT
BEGIN:VEVENT
DTSTART;TZID=America/New_York:20250125T114500
DTEND;TZID=America/New_York:20250125T124500
DTSTAMP:20260419T210002
CREATED:20250108T024157Z
LAST-MODIFIED:20250108T024157Z
UID:10008512-1737805500-1737809100@ballethnic.org
SUMMARY:Kiddie Ballethnicize
DESCRIPTION:Studio B
URL:https://ballethnic.org/event/kiddie-ballethnicize-8/2025-01-25/
LOCATION:Ballethnic Dance Studio\, 2587 Ballethnic Way\, East Point\, GA\, 30344\, United States
CATEGORIES:Level IV and Kiddie,Young Men's Class
END:VEVENT
BEGIN:VEVENT
DTSTART;TZID=America/New_York:20250125T130000
DTEND;TZID=America/New_York:20250125T133000
DTSTAMP:20260419T210002
CREATED:20250108T024133Z
LAST-MODIFIED:20250109T053624Z
UID:10008479-1737810000-1737811800@ballethnic.org
SUMMARY:*Pre-Pointe to Pointe 6-Week Series
DESCRIPTION:Studio B\n*By Invitation Only
URL:https://ballethnic.org/event/pre-pointe-to-pointe-6-week-series/2025-01-25/
LOCATION:Online Class
CATEGORIES:Special Classes
END:VEVENT
BEGIN:VEVENT
DTSTART;TZID=America/New_York:20250125T130000
DTEND;TZID=America/New_York:20250125T143000
DTSTAMP:20260419T210002
CREATED:20250108T024050Z
LAST-MODIFIED:20250108T024050Z
UID:10008413-1737810000-1737815400@ballethnic.org
SUMMARY:*Pas de Deux
DESCRIPTION:Studio A\n*By Invitation Only
URL:https://ballethnic.org/event/pas-de-deux-7/2025-01-25/
LOCATION:Ballethnic Dance Studio\, 2587 Ballethnic Way\, East Point\, GA\, 30344\, United States
CATEGORIES:Special Classes
END:VEVENT
BEGIN:VEVENT
DTSTART;TZID=America/New_York:20250125T130000
DTEND;TZID=America/New_York:20250125T143000
DTSTAMP:20260419T210002
CREATED:20250108T024110Z
LAST-MODIFIED:20250108T024110Z
UID:10008367-1737810000-1737815400@ballethnic.org
SUMMARY:Level II/III Jazz/Modern
DESCRIPTION:Studio B
URL:https://ballethnic.org/event/level-ii-iii-jazz-modern-4/2025-01-25/
LOCATION:Ballethnic Dance Studio\, 2587 Ballethnic Way\, East Point\, GA\, 30344\, United States
CATEGORIES:Levels II and III; Beginner/Intermediate,Levels, A, B, and I
END:VEVENT
BEGIN:VEVENT
DTSTART;TZID=America/New_York:20250125T150000
DTEND;TZID=America/New_York:20250125T180000
DTSTAMP:20260419T210002
CREATED:20250108T025328Z
LAST-MODIFIED:20250108T051514Z
UID:10008610-1737817200-1737828000@ballethnic.org
SUMMARY:Production Rehearsal
DESCRIPTION:Studio A
URL:https://ballethnic.org/event/production-rehearsal-4/2025-01-25/
LOCATION:Ballethnic Dance Studio\, 2587 Ballethnic Way\, East Point\, GA\, 30344\, United States
CATEGORIES:Production Rehearsals
END:VEVENT
END:VCALENDAR