BEGIN:VCALENDAR
VERSION:2.0
PRODID:-//Ballethnic - ECPv6.15.17//NONSGML v1.0//EN
CALSCALE:GREGORIAN
METHOD:PUBLISH
X-WR-CALNAME:Ballethnic
X-ORIGINAL-URL:https://ballethnic.org
X-WR-CALDESC:Events for Ballethnic
REFRESH-INTERVAL;VALUE=DURATION:PT1H
X-Robots-Tag:noindex
X-PUBLISHED-TTL:PT1H
BEGIN:VTIMEZONE
TZID:America/New_York
BEGIN:DAYLIGHT
TZOFFSETFROM:-0500
TZOFFSETTO:-0400
TZNAME:EDT
DTSTART:20240310T070000
END:DAYLIGHT
BEGIN:STANDARD
TZOFFSETFROM:-0400
TZOFFSETTO:-0500
TZNAME:EST
DTSTART:20241103T060000
END:STANDARD
BEGIN:DAYLIGHT
TZOFFSETFROM:-0500
TZOFFSETTO:-0400
TZNAME:EDT
DTSTART:20250309T070000
END:DAYLIGHT
BEGIN:STANDARD
TZOFFSETFROM:-0400
TZOFFSETTO:-0500
TZNAME:EST
DTSTART:20251102T060000
END:STANDARD
BEGIN:DAYLIGHT
TZOFFSETFROM:-0500
TZOFFSETTO:-0400
TZNAME:EDT
DTSTART:20260308T070000
END:DAYLIGHT
BEGIN:STANDARD
TZOFFSETFROM:-0400
TZOFFSETTO:-0500
TZNAME:EST
DTSTART:20261101T060000
END:STANDARD
END:VTIMEZONE
BEGIN:VEVENT
DTSTART;VALUE=DATE:20250123
DTEND;VALUE=DATE:20250128
DTSTAMP:20260421T031900
CREATED:20250108T044958Z
LAST-MODIFIED:20250108T044958Z
UID:10009370-1737590400-1738022399@ballethnic.org
SUMMARY:IABD Conference
DESCRIPTION:IABD Conference – Pittsburg\, PA
URL:https://ballethnic.org/event/iabd-conference/
LOCATION:Bynam Center of Dance\, 2900 Liberty Ave\, Pittsburgh\, Pennsylvania\, 15201
CATEGORIES:Community Event,Productions,Special Classes
END:VEVENT
BEGIN:VEVENT
DTSTART;TZID=America/New_York:20250128T181500
DTEND;TZID=America/New_York:20250128T190000
DTSTAMP:20260421T031900
CREATED:20250108T042720Z
LAST-MODIFIED:20250108T042720Z
UID:10009289-1738088100-1738090800@ballethnic.org
SUMMARY:Level IV/V Tap
DESCRIPTION:Studio B
URL:https://ballethnic.org/event/level-iv-v-tap-4/2025-01-28/
LOCATION:Ballethnic Dance Studio\, 2587 Ballethnic Way\, East Point\, GA\, 30344\, United States
CATEGORIES:Level IV and V
END:VEVENT
BEGIN:VEVENT
DTSTART;TZID=America/New_York:20250128T183000
DTEND;TZID=America/New_York:20250128T193000
DTSTAMP:20260421T031900
CREATED:20250108T042649Z
LAST-MODIFIED:20250108T042649Z
UID:10009257-1738089000-1738092600@ballethnic.org
SUMMARY:Open Adult Ballet
DESCRIPTION:Studio A
URL:https://ballethnic.org/event/open-adult-ballet-2/2025-01-28/
LOCATION:Ballethnic Dance Studio\, 2587 Ballethnic Way\, East Point\, GA\, 30344\, United States
CATEGORIES:Open Classes
END:VEVENT
BEGIN:VEVENT
DTSTART;TZID=America/New_York:20250128T190000
DTEND;TZID=America/New_York:20250128T200000
DTSTAMP:20260421T031900
CREATED:20250108T042610Z
LAST-MODIFIED:20250108T042610Z
UID:10009225-1738090800-1738094400@ballethnic.org
SUMMARY:Level IV/V African
DESCRIPTION:Studio B\nAfrican Class – Levels IV\, V
URL:https://ballethnic.org/event/level-iv-v-african-4/2025-01-28/
LOCATION:Ballethnic Dance Studio\, 2587 Ballethnic Way\, East Point\, GA\, 30344\, United States
CATEGORIES:Level IV and V
END:VEVENT
BEGIN:VEVENT
DTSTART;TZID=America/New_York:20250128T193000
DTEND;TZID=America/New_York:20250128T203000
DTSTAMP:20260421T031900
CREATED:20250108T042541Z
LAST-MODIFIED:20250108T042541Z
UID:10009193-1738092600-1738096200@ballethnic.org
SUMMARY:Open Adult Ballethnicize
DESCRIPTION:Studio A
URL:https://ballethnic.org/event/open-adult-ballethnicize-2/2025-01-28/
LOCATION:Ballethnic Dance Studio\, 2587 Ballethnic Way\, East Point\, GA\, 30344\, United States
CATEGORIES:Open Classes
END:VEVENT
BEGIN:VEVENT
DTSTART;TZID=America/New_York:20250129T174500
DTEND;TZID=America/New_York:20250129T191500
DTSTAMP:20260421T031900
CREATED:20250108T041008Z
LAST-MODIFIED:20250108T041008Z
UID:10009161-1738172700-1738178100@ballethnic.org
SUMMARY:Level II/III Pre-Pointe to Pointe
DESCRIPTION:Studio A
URL:https://ballethnic.org/event/level-ii-iii-pre-pointe-to-pointe/2025-01-29/
LOCATION:Ballethnic Dance Studio\, 2587 Ballethnic Way\, East Point\, GA\, 30344\, United States
CATEGORIES:Levels II and III; Beginner/Intermediate,Levels, A, B, and I
END:VEVENT
BEGIN:VEVENT
DTSTART;TZID=America/New_York:20250129T174500
DTEND;TZID=America/New_York:20250129T191500
DTSTAMP:20260421T031900
CREATED:20250108T041309Z
LAST-MODIFIED:20250108T041309Z
UID:10009129-1738172700-1738178100@ballethnic.org
SUMMARY:Young Men's Class
DESCRIPTION:Studio B
URL:https://ballethnic.org/event/young-mens-class-4/2025-01-29/
LOCATION:Ballethnic Dance Studio\, 2587 Ballethnic Way\, East Point\, GA\, 30344\, United States
CATEGORIES:Young Men's Class
END:VEVENT
BEGIN:VEVENT
DTSTART;TZID=America/New_York:20250129T174500
DTEND;TZID=America/New_York:20250129T191500
DTSTAMP:20260421T031900
CREATED:20250108T041342Z
LAST-MODIFIED:20250108T041342Z
UID:10009097-1738172700-1738178100@ballethnic.org
SUMMARY:Beginner/Intermediate Teen Ballet
DESCRIPTION:Studio C
URL:https://ballethnic.org/event/beginner-intermediate-teen-ballet-8/2025-01-29/
LOCATION:Ballethnic Dance Studio\, 2587 Ballethnic Way\, East Point\, GA\, 30344\, United States
CATEGORIES:Levels II and III; Beginner/Intermediate
END:VEVENT
BEGIN:VEVENT
DTSTART;TZID=America/New_York:20250129T191500
DTEND;TZID=America/New_York:20250129T204500
DTSTAMP:20260421T031900
CREATED:20250108T041145Z
LAST-MODIFIED:20250108T051336Z
UID:10009033-1738178100-1738183500@ballethnic.org
SUMMARY:Production Rehearsal
DESCRIPTION:Studio A
URL:https://ballethnic.org/event/production-rehearsal-6/2025-01-29/
LOCATION:Ballethnic Dance Studio\, 2587 Ballethnic Way\, East Point\, GA\, 30344\, United States
CATEGORIES:Production Rehearsals
END:VEVENT
BEGIN:VEVENT
DTSTART;TZID=America/New_York:20250130T174500
DTEND;TZID=America/New_York:20250130T184500
DTSTAMP:20260421T031900
CREATED:20250108T034521Z
LAST-MODIFIED:20250108T034521Z
UID:10009001-1738259100-1738262700@ballethnic.org
SUMMARY:Level II/III Pre-Pointe
DESCRIPTION:Studio B
URL:https://ballethnic.org/event/level-ii-iii-pre-pointe-6/2025-01-30/
LOCATION:Ballethnic Dance Studio\, 2587 Ballethnic Way\, East Point\, GA\, 30344\, United States
CATEGORIES:Levels II and III; Beginner/Intermediate
END:VEVENT
BEGIN:VEVENT
DTSTART;TZID=America/New_York:20250130T174500
DTEND;TZID=America/New_York:20250130T194500
DTSTAMP:20260421T031900
CREATED:20250108T033859Z
LAST-MODIFIED:20250108T033859Z
UID:10008969-1738259100-1738266300@ballethnic.org
SUMMARY:BYE / Workshops & Repertoire
DESCRIPTION:Studio A
URL:https://ballethnic.org/event/bye-workshops-repertoire/2025-01-30/
LOCATION:Ballethnic Dance Studio\, 2587 Ballethnic Way\, East Point\, GA\, 30344\, United States
CATEGORIES:Levels II and III; Beginner/Intermediate,Levels, A, B, and I
END:VEVENT
BEGIN:VEVENT
DTSTART;TZID=America/New_York:20250130T184500
DTEND;TZID=America/New_York:20250130T193000
DTSTAMP:20260421T031900
CREATED:20250108T033831Z
LAST-MODIFIED:20250108T033831Z
UID:10008937-1738262700-1738265400@ballethnic.org
SUMMARY:Level II/III Tap
DESCRIPTION:Studio B
URL:https://ballethnic.org/event/level-ii-iii-tap-3/2025-01-30/
LOCATION:Ballethnic Dance Studio\, 2587 Ballethnic Way\, East Point\, GA\, 30344\, United States
CATEGORIES:Levels II and III; Beginner/Intermediate
END:VEVENT
BEGIN:VEVENT
DTSTART;TZID=America/New_York:20250130T193000
DTEND;TZID=America/New_York:20250130T203000
DTSTAMP:20260421T031900
CREATED:20250108T033759Z
LAST-MODIFIED:20250108T033759Z
UID:10008905-1738265400-1738269000@ballethnic.org
SUMMARY:Level II/III African
DESCRIPTION:Studio B
URL:https://ballethnic.org/event/level-ii-iii-african-3/2025-01-30/
LOCATION:Ballethnic Dance Studio\, 2587 Ballethnic Way\, East Point\, GA\, 30344\, United States
CATEGORIES:Levels II and III; Beginner/Intermediate
END:VEVENT
BEGIN:VEVENT
DTSTART;TZID=America/New_York:20250131T173000
DTEND;TZID=America/New_York:20250131T210000
DTSTAMP:20260421T031900
CREATED:20250108T033724Z
LAST-MODIFIED:20250108T051426Z
UID:10008873-1738344600-1738357200@ballethnic.org
SUMMARY:Production Rehearsal
DESCRIPTION:Studio A
URL:https://ballethnic.org/event/production-rehearsal-5/2025-01-31/
LOCATION:Ballethnic Dance Studio\, 2587 Ballethnic Way\, East Point\, GA\, 30344\, United States
CATEGORIES:Production Rehearsals
END:VEVENT
BEGIN:VEVENT
DTSTART;TZID=America/New_York:20250201T093000
DTEND;TZID=America/New_York:20250201T110000
DTSTAMP:20260421T031900
CREATED:20250108T031707Z
LAST-MODIFIED:20250108T031707Z
UID:10008808-1738402200-1738407600@ballethnic.org
SUMMARY:Level IV Ballet
DESCRIPTION:Studio A
URL:https://ballethnic.org/event/level-iv-ballet-3/2025-02-01/
LOCATION:GA
CATEGORIES:Level IV and V
END:VEVENT
BEGIN:VEVENT
DTSTART;TZID=America/New_York:20250201T093000
DTEND;TZID=America/New_York:20250201T110000
DTSTAMP:20260421T031900
CREATED:20250108T032118Z
LAST-MODIFIED:20250108T032118Z
UID:10008841-1738402200-1738407600@ballethnic.org
SUMMARY:Level V Ballet
DESCRIPTION:Studio C
URL:https://ballethnic.org/event/level-v-ballet-3/2025-02-01/
LOCATION:Ballethnic Dance Studio\, 2587 Ballethnic Way\, East Point\, GA\, 30344\, United States
CATEGORIES:Level IV and V,Young Men's Class
END:VEVENT
BEGIN:VEVENT
DTSTART;TZID=America/New_York:20250201T100000
DTEND;TZID=America/New_York:20250201T110000
DTSTAMP:20260421T031900
CREATED:20250108T031642Z
LAST-MODIFIED:20250108T031642Z
UID:10008775-1738404000-1738407600@ballethnic.org
SUMMARY:Level VI Pre-Ballet
DESCRIPTION:Studio B
URL:https://ballethnic.org/event/level-vi-pre-ballet-3/2025-02-01/
LOCATION:Ballethnic Dance Studio\, 2587 Ballethnic Way\, East Point\, GA\, 30344\, United States
CATEGORIES:Level IV and V,Young Men's Class
END:VEVENT
BEGIN:VEVENT
DTSTART;TZID=America/New_York:20250201T110000
DTEND;TZID=America/New_York:20250201T113000
DTSTAMP:20260421T031900
CREATED:20250108T031147Z
LAST-MODIFIED:20250108T031147Z
UID:10008742-1738407600-1738409400@ballethnic.org
SUMMARY:Level V Jazz
DESCRIPTION:Studio C
URL:https://ballethnic.org/event/level-v-jazz-4/2025-02-01/
LOCATION:Ballethnic Dance Studio\, 2587 Ballethnic Way\, East Point\, GA\, 30344\, United States
CATEGORIES:Level IV and V,Young Men's Class
END:VEVENT
BEGIN:VEVENT
DTSTART;TZID=America/New_York:20250201T110000
DTEND;TZID=America/New_York:20250201T113000
DTSTAMP:20260421T031900
CREATED:20250108T031216Z
LAST-MODIFIED:20250108T031216Z
UID:10008709-1738407600-1738409400@ballethnic.org
SUMMARY:Level IV Jazz
DESCRIPTION:Studio A
URL:https://ballethnic.org/event/level-iv-jazz-3/2025-02-01/
LOCATION:Ballethnic Dance Studio\, 2587 Ballethnic Way\, East Point\, GA\, 30344\, United States
CATEGORIES:BAD - Jazz L-IV,Level IV and V,Young Men's Class
END:VEVENT
BEGIN:VEVENT
DTSTART;TZID=America/New_York:20250201T110000
DTEND;TZID=America/New_York:20250201T114500
DTSTAMP:20260421T031900
CREATED:20250108T024222Z
LAST-MODIFIED:20250108T024222Z
UID:10008579-1738407600-1738410300@ballethnic.org
SUMMARY:Level VI / Kiddie Tap
DESCRIPTION:Studio B
URL:https://ballethnic.org/event/level-vi-kiddie-tap-2/2025-02-01/
LOCATION:Ballethnic Dance Studio\, 2587 Ballethnic Way\, East Point\, GA\, 30344\, United States
CATEGORIES:Level IV and Kiddie
END:VEVENT
BEGIN:VEVENT
DTSTART;TZID=America/New_York:20250201T113000
DTEND;TZID=America/New_York:20250201T130000
DTSTAMP:20260421T031900
CREATED:20250108T025505Z
LAST-MODIFIED:20250108T025505Z
UID:10008644-1738409400-1738414800@ballethnic.org
SUMMARY:Level II/III Ballet & Pre-Pointe
DESCRIPTION:Studio C
URL:https://ballethnic.org/event/level-ii-iii-ballet-pre-pointe-2/2025-02-01/
LOCATION:Ballethnic Dance Studio\, 2587 Ballethnic Way\, East Point\, GA\, 30344\, United States
CATEGORIES:Levels II and III; Beginner/Intermediate
END:VEVENT
BEGIN:VEVENT
DTSTART;TZID=America/New_York:20250201T114500
DTEND;TZID=America/New_York:20250201T124500
DTSTAMP:20260421T031900
CREATED:20250108T024157Z
LAST-MODIFIED:20250108T024157Z
UID:10008513-1738410300-1738413900@ballethnic.org
SUMMARY:Kiddie Ballethnicize
DESCRIPTION:Studio B
URL:https://ballethnic.org/event/kiddie-ballethnicize-8/2025-02-01/
LOCATION:Ballethnic Dance Studio\, 2587 Ballethnic Way\, East Point\, GA\, 30344\, United States
CATEGORIES:Level IV and Kiddie,Young Men's Class
END:VEVENT
BEGIN:VEVENT
DTSTART;TZID=America/New_York:20250201T130000
DTEND;TZID=America/New_York:20250201T133000
DTSTAMP:20260421T031900
CREATED:20250108T024133Z
LAST-MODIFIED:20250109T053624Z
UID:10008480-1738414800-1738416600@ballethnic.org
SUMMARY:*Pre-Pointe to Pointe 6-Week Series
DESCRIPTION:Studio B\n*By Invitation Only
URL:https://ballethnic.org/event/pre-pointe-to-pointe-6-week-series/2025-02-01/
LOCATION:Online Class
CATEGORIES:Special Classes
END:VEVENT
BEGIN:VEVENT
DTSTART;TZID=America/New_York:20250201T130000
DTEND;TZID=America/New_York:20250201T143000
DTSTAMP:20260421T031900
CREATED:20250108T024050Z
LAST-MODIFIED:20250108T024050Z
UID:10008414-1738414800-1738420200@ballethnic.org
SUMMARY:*Pas de Deux
DESCRIPTION:Studio A\n*By Invitation Only
URL:https://ballethnic.org/event/pas-de-deux-7/2025-02-01/
LOCATION:Ballethnic Dance Studio\, 2587 Ballethnic Way\, East Point\, GA\, 30344\, United States
CATEGORIES:Special Classes
END:VEVENT
BEGIN:VEVENT
DTSTART;TZID=America/New_York:20250201T130000
DTEND;TZID=America/New_York:20250201T143000
DTSTAMP:20260421T031900
CREATED:20250108T024110Z
LAST-MODIFIED:20250108T024110Z
UID:10008368-1738414800-1738420200@ballethnic.org
SUMMARY:Level II/III Jazz/Modern
DESCRIPTION:Studio B
URL:https://ballethnic.org/event/level-ii-iii-jazz-modern-4/2025-02-01/
LOCATION:Ballethnic Dance Studio\, 2587 Ballethnic Way\, East Point\, GA\, 30344\, United States
CATEGORIES:Levels II and III; Beginner/Intermediate,Levels, A, B, and I
END:VEVENT
BEGIN:VEVENT
DTSTART;TZID=America/New_York:20250201T150000
DTEND;TZID=America/New_York:20250201T180000
DTSTAMP:20260421T031900
CREATED:20250108T025328Z
LAST-MODIFIED:20250108T051514Z
UID:10008611-1738422000-1738432800@ballethnic.org
SUMMARY:Production Rehearsal
DESCRIPTION:Studio A
URL:https://ballethnic.org/event/production-rehearsal-4/2025-02-01/
LOCATION:Ballethnic Dance Studio\, 2587 Ballethnic Way\, East Point\, GA\, 30344\, United States
CATEGORIES:Production Rehearsals
END:VEVENT
END:VCALENDAR