BEGIN:VCALENDAR
VERSION:2.0
PRODID:-//Ballethnic - ECPv6.15.17//NONSGML v1.0//EN
CALSCALE:GREGORIAN
METHOD:PUBLISH
X-ORIGINAL-URL:https://ballethnic.org
X-WR-CALDESC:Events for Ballethnic
REFRESH-INTERVAL;VALUE=DURATION:PT1H
X-Robots-Tag:noindex
X-PUBLISHED-TTL:PT1H
BEGIN:VTIMEZONE
TZID:America/New_York
BEGIN:DAYLIGHT
TZOFFSETFROM:-0500
TZOFFSETTO:-0400
TZNAME:EDT
DTSTART:20240310T070000
END:DAYLIGHT
BEGIN:STANDARD
TZOFFSETFROM:-0400
TZOFFSETTO:-0500
TZNAME:EST
DTSTART:20241103T060000
END:STANDARD
BEGIN:DAYLIGHT
TZOFFSETFROM:-0500
TZOFFSETTO:-0400
TZNAME:EDT
DTSTART:20250309T070000
END:DAYLIGHT
BEGIN:STANDARD
TZOFFSETFROM:-0400
TZOFFSETTO:-0500
TZNAME:EST
DTSTART:20251102T060000
END:STANDARD
BEGIN:DAYLIGHT
TZOFFSETFROM:-0500
TZOFFSETTO:-0400
TZNAME:EDT
DTSTART:20260308T070000
END:DAYLIGHT
BEGIN:STANDARD
TZOFFSETFROM:-0400
TZOFFSETTO:-0500
TZNAME:EST
DTSTART:20261101T060000
END:STANDARD
END:VTIMEZONE
BEGIN:VEVENT
DTSTART;TZID=America/New_York:20250520T181500
DTEND;TZID=America/New_York:20250520T190000
DTSTAMP:20260419T161805
CREATED:20250108T042720Z
LAST-MODIFIED:20250108T042720Z
UID:10009304-1747764900-1747767600@ballethnic.org
SUMMARY:Level IV/V Tap
DESCRIPTION:Studio B
URL:https://ballethnic.org/event/level-iv-v-tap-4/2025-05-20/
LOCATION:Ballethnic Dance Studio\, 2587 Ballethnic Way\, East Point\, GA\, 30344\, United States
CATEGORIES:Level IV and V
END:VEVENT
BEGIN:VEVENT
DTSTART;TZID=America/New_York:20250520T183000
DTEND;TZID=America/New_York:20250520T193000
DTSTAMP:20260419T161805
CREATED:20250108T042649Z
LAST-MODIFIED:20250108T042649Z
UID:10009272-1747765800-1747769400@ballethnic.org
SUMMARY:Open Adult Ballet
DESCRIPTION:Studio A
URL:https://ballethnic.org/event/open-adult-ballet-2/2025-05-20/
LOCATION:Ballethnic Dance Studio\, 2587 Ballethnic Way\, East Point\, GA\, 30344\, United States
CATEGORIES:Open Classes
END:VEVENT
BEGIN:VEVENT
DTSTART;TZID=America/New_York:20250520T190000
DTEND;TZID=America/New_York:20250520T200000
DTSTAMP:20260419T161805
CREATED:20250108T042610Z
LAST-MODIFIED:20250108T042610Z
UID:10009240-1747767600-1747771200@ballethnic.org
SUMMARY:Level IV/V African
DESCRIPTION:Studio B\nAfrican Class – Levels IV\, V
URL:https://ballethnic.org/event/level-iv-v-african-4/2025-05-20/
LOCATION:Ballethnic Dance Studio\, 2587 Ballethnic Way\, East Point\, GA\, 30344\, United States
CATEGORIES:Level IV and V
END:VEVENT
BEGIN:VEVENT
DTSTART;TZID=America/New_York:20250520T193000
DTEND;TZID=America/New_York:20250520T203000
DTSTAMP:20260419T161805
CREATED:20250108T042541Z
LAST-MODIFIED:20250108T042541Z
UID:10009208-1747769400-1747773000@ballethnic.org
SUMMARY:Open Adult Ballethnicize
DESCRIPTION:Studio A
URL:https://ballethnic.org/event/open-adult-ballethnicize-2/2025-05-20/
LOCATION:Ballethnic Dance Studio\, 2587 Ballethnic Way\, East Point\, GA\, 30344\, United States
CATEGORIES:Open Classes
END:VEVENT
BEGIN:VEVENT
DTSTART;TZID=America/New_York:20250521T174500
DTEND;TZID=America/New_York:20250521T191500
DTSTAMP:20260419T161805
CREATED:20250108T041008Z
LAST-MODIFIED:20250108T041008Z
UID:10009176-1747849500-1747854900@ballethnic.org
SUMMARY:Level II/III Pre-Pointe to Pointe
DESCRIPTION:Studio A
URL:https://ballethnic.org/event/level-ii-iii-pre-pointe-to-pointe/2025-05-21/
LOCATION:Ballethnic Dance Studio\, 2587 Ballethnic Way\, East Point\, GA\, 30344\, United States
CATEGORIES:Levels II and III; Beginner/Intermediate,Levels, A, B, and I
END:VEVENT
BEGIN:VEVENT
DTSTART;TZID=America/New_York:20250521T174500
DTEND;TZID=America/New_York:20250521T191500
DTSTAMP:20260419T161805
CREATED:20250108T041309Z
LAST-MODIFIED:20250108T041309Z
UID:10009144-1747849500-1747854900@ballethnic.org
SUMMARY:Young Men's Class
DESCRIPTION:Studio B
URL:https://ballethnic.org/event/young-mens-class-4/2025-05-21/
LOCATION:Ballethnic Dance Studio\, 2587 Ballethnic Way\, East Point\, GA\, 30344\, United States
CATEGORIES:Young Men's Class
END:VEVENT
BEGIN:VEVENT
DTSTART;TZID=America/New_York:20250521T174500
DTEND;TZID=America/New_York:20250521T191500
DTSTAMP:20260419T161805
CREATED:20250108T041342Z
LAST-MODIFIED:20250108T041342Z
UID:10009112-1747849500-1747854900@ballethnic.org
SUMMARY:Beginner/Intermediate Teen Ballet
DESCRIPTION:Studio C
URL:https://ballethnic.org/event/beginner-intermediate-teen-ballet-8/2025-05-21/
LOCATION:Ballethnic Dance Studio\, 2587 Ballethnic Way\, East Point\, GA\, 30344\, United States
CATEGORIES:Levels II and III; Beginner/Intermediate
END:VEVENT
BEGIN:VEVENT
DTSTART;TZID=America/New_York:20250521T191500
DTEND;TZID=America/New_York:20250521T204500
DTSTAMP:20260419T161805
CREATED:20250108T041145Z
LAST-MODIFIED:20250108T051336Z
UID:10009048-1747854900-1747860300@ballethnic.org
SUMMARY:Production Rehearsal
DESCRIPTION:Studio A
URL:https://ballethnic.org/event/production-rehearsal-6/2025-05-21/
LOCATION:Ballethnic Dance Studio\, 2587 Ballethnic Way\, East Point\, GA\, 30344\, United States
CATEGORIES:Production Rehearsals
END:VEVENT
BEGIN:VEVENT
DTSTART;TZID=America/New_York:20250522T174500
DTEND;TZID=America/New_York:20250522T184500
DTSTAMP:20260419T161805
CREATED:20250108T034521Z
LAST-MODIFIED:20250108T034521Z
UID:10009016-1747935900-1747939500@ballethnic.org
SUMMARY:Level II/III Pre-Pointe
DESCRIPTION:Studio B
URL:https://ballethnic.org/event/level-ii-iii-pre-pointe-6/2025-05-22/
LOCATION:Ballethnic Dance Studio\, 2587 Ballethnic Way\, East Point\, GA\, 30344\, United States
CATEGORIES:Levels II and III; Beginner/Intermediate
END:VEVENT
BEGIN:VEVENT
DTSTART;TZID=America/New_York:20250522T174500
DTEND;TZID=America/New_York:20250522T194500
DTSTAMP:20260419T161805
CREATED:20250108T033859Z
LAST-MODIFIED:20250108T033859Z
UID:10008984-1747935900-1747943100@ballethnic.org
SUMMARY:BYE / Workshops & Repertoire
DESCRIPTION:Studio A
URL:https://ballethnic.org/event/bye-workshops-repertoire/2025-05-22/
LOCATION:Ballethnic Dance Studio\, 2587 Ballethnic Way\, East Point\, GA\, 30344\, United States
CATEGORIES:Levels II and III; Beginner/Intermediate,Levels, A, B, and I
END:VEVENT
BEGIN:VEVENT
DTSTART;TZID=America/New_York:20250522T184500
DTEND;TZID=America/New_York:20250522T193000
DTSTAMP:20260419T161805
CREATED:20250108T033831Z
LAST-MODIFIED:20250108T033831Z
UID:10008952-1747939500-1747942200@ballethnic.org
SUMMARY:Level II/III Tap
DESCRIPTION:Studio B
URL:https://ballethnic.org/event/level-ii-iii-tap-3/2025-05-22/
LOCATION:Ballethnic Dance Studio\, 2587 Ballethnic Way\, East Point\, GA\, 30344\, United States
CATEGORIES:Levels II and III; Beginner/Intermediate
END:VEVENT
BEGIN:VEVENT
DTSTART;TZID=America/New_York:20250522T193000
DTEND;TZID=America/New_York:20250522T203000
DTSTAMP:20260419T161805
CREATED:20250108T033759Z
LAST-MODIFIED:20250108T033759Z
UID:10008920-1747942200-1747945800@ballethnic.org
SUMMARY:Level II/III African
DESCRIPTION:Studio B
URL:https://ballethnic.org/event/level-ii-iii-african-3/2025-05-22/
LOCATION:Ballethnic Dance Studio\, 2587 Ballethnic Way\, East Point\, GA\, 30344\, United States
CATEGORIES:Levels II and III; Beginner/Intermediate
END:VEVENT
BEGIN:VEVENT
DTSTART;TZID=America/New_York:20250523T173000
DTEND;TZID=America/New_York:20250523T210000
DTSTAMP:20260419T161805
CREATED:20250108T033724Z
LAST-MODIFIED:20250108T051426Z
UID:10008888-1748021400-1748034000@ballethnic.org
SUMMARY:Production Rehearsal
DESCRIPTION:Studio A
URL:https://ballethnic.org/event/production-rehearsal-5/2025-05-23/
LOCATION:Ballethnic Dance Studio\, 2587 Ballethnic Way\, East Point\, GA\, 30344\, United States
CATEGORIES:Production Rehearsals
END:VEVENT
BEGIN:VEVENT
DTSTART;TZID=America/New_York:20250524T093000
DTEND;TZID=America/New_York:20250524T110000
DTSTAMP:20260419T161805
CREATED:20250108T031707Z
LAST-MODIFIED:20250108T031707Z
UID:10008823-1748079000-1748084400@ballethnic.org
SUMMARY:Level IV Ballet
DESCRIPTION:Studio A
URL:https://ballethnic.org/event/level-iv-ballet-3/2025-05-24/
LOCATION:GA
CATEGORIES:Level IV and V
END:VEVENT
BEGIN:VEVENT
DTSTART;TZID=America/New_York:20250524T093000
DTEND;TZID=America/New_York:20250524T110000
DTSTAMP:20260419T161805
CREATED:20250108T032118Z
LAST-MODIFIED:20250108T032118Z
UID:10008856-1748079000-1748084400@ballethnic.org
SUMMARY:Level V Ballet
DESCRIPTION:Studio C
URL:https://ballethnic.org/event/level-v-ballet-3/2025-05-24/
LOCATION:Ballethnic Dance Studio\, 2587 Ballethnic Way\, East Point\, GA\, 30344\, United States
CATEGORIES:Level IV and V,Young Men's Class
END:VEVENT
BEGIN:VEVENT
DTSTART;TZID=America/New_York:20250524T100000
DTEND;TZID=America/New_York:20250524T110000
DTSTAMP:20260419T161805
CREATED:20250108T031642Z
LAST-MODIFIED:20250108T031642Z
UID:10008790-1748080800-1748084400@ballethnic.org
SUMMARY:Level VI Pre-Ballet
DESCRIPTION:Studio B
URL:https://ballethnic.org/event/level-vi-pre-ballet-3/2025-05-24/
LOCATION:Ballethnic Dance Studio\, 2587 Ballethnic Way\, East Point\, GA\, 30344\, United States
CATEGORIES:Level IV and V,Young Men's Class
END:VEVENT
BEGIN:VEVENT
DTSTART;TZID=America/New_York:20250524T110000
DTEND;TZID=America/New_York:20250524T113000
DTSTAMP:20260419T161805
CREATED:20250108T031147Z
LAST-MODIFIED:20250108T031147Z
UID:10008757-1748084400-1748086200@ballethnic.org
SUMMARY:Level V Jazz
DESCRIPTION:Studio C
URL:https://ballethnic.org/event/level-v-jazz-4/2025-05-24/
LOCATION:Ballethnic Dance Studio\, 2587 Ballethnic Way\, East Point\, GA\, 30344\, United States
CATEGORIES:Level IV and V,Young Men's Class
END:VEVENT
BEGIN:VEVENT
DTSTART;TZID=America/New_York:20250524T110000
DTEND;TZID=America/New_York:20250524T113000
DTSTAMP:20260419T161805
CREATED:20250108T031216Z
LAST-MODIFIED:20250108T031216Z
UID:10008724-1748084400-1748086200@ballethnic.org
SUMMARY:Level IV Jazz
DESCRIPTION:Studio A
URL:https://ballethnic.org/event/level-iv-jazz-3/2025-05-24/
LOCATION:Ballethnic Dance Studio\, 2587 Ballethnic Way\, East Point\, GA\, 30344\, United States
CATEGORIES:BAD - Jazz L-IV,Level IV and V,Young Men's Class
END:VEVENT
BEGIN:VEVENT
DTSTART;TZID=America/New_York:20250524T110000
DTEND;TZID=America/New_York:20250524T114500
DTSTAMP:20260419T161806
CREATED:20250108T024222Z
LAST-MODIFIED:20250108T024222Z
UID:10008594-1748084400-1748087100@ballethnic.org
SUMMARY:Level VI / Kiddie Tap
DESCRIPTION:Studio B
URL:https://ballethnic.org/event/level-vi-kiddie-tap-2/2025-05-24/
LOCATION:Ballethnic Dance Studio\, 2587 Ballethnic Way\, East Point\, GA\, 30344\, United States
CATEGORIES:Level IV and Kiddie
END:VEVENT
BEGIN:VEVENT
DTSTART;TZID=America/New_York:20250524T113000
DTEND;TZID=America/New_York:20250524T130000
DTSTAMP:20260419T161806
CREATED:20250108T025505Z
LAST-MODIFIED:20250108T025505Z
UID:10008659-1748086200-1748091600@ballethnic.org
SUMMARY:Level II/III Ballet & Pre-Pointe
DESCRIPTION:Studio C
URL:https://ballethnic.org/event/level-ii-iii-ballet-pre-pointe-2/2025-05-24/
LOCATION:Ballethnic Dance Studio\, 2587 Ballethnic Way\, East Point\, GA\, 30344\, United States
CATEGORIES:Levels II and III; Beginner/Intermediate
END:VEVENT
BEGIN:VEVENT
DTSTART;TZID=America/New_York:20250524T114500
DTEND;TZID=America/New_York:20250524T124500
DTSTAMP:20260419T161806
CREATED:20250108T024157Z
LAST-MODIFIED:20250108T024157Z
UID:10008528-1748087100-1748090700@ballethnic.org
SUMMARY:Kiddie Ballethnicize
DESCRIPTION:Studio B
URL:https://ballethnic.org/event/kiddie-ballethnicize-8/2025-05-24/
LOCATION:Ballethnic Dance Studio\, 2587 Ballethnic Way\, East Point\, GA\, 30344\, United States
CATEGORIES:Level IV and Kiddie,Young Men's Class
END:VEVENT
BEGIN:VEVENT
DTSTART;TZID=America/New_York:20250524T130000
DTEND;TZID=America/New_York:20250524T133000
DTSTAMP:20260419T161806
CREATED:20250211T151743Z
LAST-MODIFIED:20250211T151744Z
UID:10008495-1748091600-1748093400@ballethnic.org
SUMMARY:*Pre-Pointe to Pointe 6-Week Series
DESCRIPTION:Studio B\n*By Invitation Only
URL:https://ballethnic.org/event/pre-pointe-to-pointe-6-week-series-2/2025-05-24/
LOCATION:Online Class
CATEGORIES:Special Classes
END:VEVENT
BEGIN:VEVENT
DTSTART;TZID=America/New_York:20250524T130000
DTEND;TZID=America/New_York:20250524T143000
DTSTAMP:20260419T161806
CREATED:20250108T024050Z
LAST-MODIFIED:20250108T024050Z
UID:10008429-1748091600-1748097000@ballethnic.org
SUMMARY:*Pas de Deux
DESCRIPTION:Studio A\n*By Invitation Only
URL:https://ballethnic.org/event/pas-de-deux-7/2025-05-24/
LOCATION:Ballethnic Dance Studio\, 2587 Ballethnic Way\, East Point\, GA\, 30344\, United States
CATEGORIES:Special Classes
END:VEVENT
BEGIN:VEVENT
DTSTART;TZID=America/New_York:20250524T130000
DTEND;TZID=America/New_York:20250524T143000
DTSTAMP:20260419T161806
CREATED:20250108T024110Z
LAST-MODIFIED:20250108T024110Z
UID:10008383-1748091600-1748097000@ballethnic.org
SUMMARY:Level II/III Jazz/Modern
DESCRIPTION:Studio B
URL:https://ballethnic.org/event/level-ii-iii-jazz-modern-4/2025-05-24/
LOCATION:Ballethnic Dance Studio\, 2587 Ballethnic Way\, East Point\, GA\, 30344\, United States
CATEGORIES:Levels II and III; Beginner/Intermediate,Levels, A, B, and I
END:VEVENT
BEGIN:VEVENT
DTSTART;TZID=America/New_York:20250524T150000
DTEND;TZID=America/New_York:20250524T180000
DTSTAMP:20260419T161806
CREATED:20250108T025328Z
LAST-MODIFIED:20250108T051514Z
UID:10008626-1748098800-1748109600@ballethnic.org
SUMMARY:Production Rehearsal
DESCRIPTION:Studio A
URL:https://ballethnic.org/event/production-rehearsal-4/2025-05-24/
LOCATION:Ballethnic Dance Studio\, 2587 Ballethnic Way\, East Point\, GA\, 30344\, United States
CATEGORIES:Production Rehearsals
END:VEVENT
END:VCALENDAR