BEGIN:VCALENDAR
VERSION:2.0
PRODID:-//Ballethnic - ECPv6.15.17//NONSGML v1.0//EN
CALSCALE:GREGORIAN
METHOD:PUBLISH
X-ORIGINAL-URL:https://ballethnic.org
X-WR-CALDESC:Events for Ballethnic
REFRESH-INTERVAL;VALUE=DURATION:PT1H
X-Robots-Tag:noindex
X-PUBLISHED-TTL:PT1H
BEGIN:VTIMEZONE
TZID:America/New_York
BEGIN:DAYLIGHT
TZOFFSETFROM:-0500
TZOFFSETTO:-0400
TZNAME:EDT
DTSTART:20240310T070000
END:DAYLIGHT
BEGIN:STANDARD
TZOFFSETFROM:-0400
TZOFFSETTO:-0500
TZNAME:EST
DTSTART:20241103T060000
END:STANDARD
BEGIN:DAYLIGHT
TZOFFSETFROM:-0500
TZOFFSETTO:-0400
TZNAME:EDT
DTSTART:20250309T070000
END:DAYLIGHT
BEGIN:STANDARD
TZOFFSETFROM:-0400
TZOFFSETTO:-0500
TZNAME:EST
DTSTART:20251102T060000
END:STANDARD
BEGIN:DAYLIGHT
TZOFFSETFROM:-0500
TZOFFSETTO:-0400
TZNAME:EDT
DTSTART:20260308T070000
END:DAYLIGHT
BEGIN:STANDARD
TZOFFSETFROM:-0400
TZOFFSETTO:-0500
TZNAME:EST
DTSTART:20261101T060000
END:STANDARD
END:VTIMEZONE
BEGIN:VEVENT
DTSTART;TZID=America/New_York:20250602T083000
DTEND;TZID=America/New_York:20250602T164500
DTSTAMP:20260419T193536
CREATED:20250108T175713Z
LAST-MODIFIED:20250527T213900Z
UID:10009373-1748853000-1748882700@ballethnic.org
SUMMARY:BAD Summer Dance Diversity 2025
DESCRIPTION:Ballethnic’s Summer Dance Diversity 2025\nTo Register:  CLICK HERE
URL:https://ballethnic.org/event/bad-summer-dance-diversity-2025/2025-06-02/
LOCATION:Ballethnic Dance Studio\, 2587 Ballethnic Way\, East Point\, GA\, 30344\, United States
CATEGORIES:Community Event
ATTACH;FMTTYPE=image/jpeg:https://ballethnic.org/wp-content/uploads/2025/03/Pointe-Adv-Wksp.png-e1741487688161.jpeg
END:VEVENT
BEGIN:VEVENT
DTSTART;TZID=America/New_York:20250602T183000
DTEND;TZID=America/New_York:20250602T193000
DTSTAMP:20260419T193536
CREATED:20250608T152222Z
LAST-MODIFIED:20250608T152222Z
UID:10009440-1748889000-1748892600@ballethnic.org
SUMMARY:Summer Adult - African Dance
DESCRIPTION:Ballethnic Academy of Dance – Summer Adult Series\nAfrican Dance
URL:https://ballethnic.org/event/summer-adult-african-dance-2-2/2025-06-02/
LOCATION:Ballethnic Dance Studio\, 2587 Ballethnic Way\, East Point\, GA\, 30344\, United States
CATEGORIES:Community Event,Open Classes,Special Classes
END:VEVENT
BEGIN:VEVENT
DTSTART;TZID=America/New_York:20250602T193000
DTEND;TZID=America/New_York:20250602T203000
DTSTAMP:20260419T193536
CREATED:20250608T150615Z
LAST-MODIFIED:20250608T152512Z
UID:10010034-1748892600-1748896200@ballethnic.org
SUMMARY:Summer Adult - African Drum
DESCRIPTION:Ballethnic Academy of Dance – Summer Adult Series\nAfrican Drum
URL:https://ballethnic.org/event/summer-adult-african-drum/2025-06-02/
LOCATION:Ballethnic Dance Studio\, 2587 Ballethnic Way\, East Point\, GA\, 30344\, United States
CATEGORIES:Community Event,Open Classes,Special Classes
END:VEVENT
BEGIN:VEVENT
DTSTART;TZID=America/New_York:20250603T083000
DTEND;TZID=America/New_York:20250603T164500
DTSTAMP:20260419T193536
CREATED:20250108T175713Z
LAST-MODIFIED:20250527T213900Z
UID:10009389-1748939400-1748969100@ballethnic.org
SUMMARY:BAD Summer Dance Diversity 2025
DESCRIPTION:Ballethnic’s Summer Dance Diversity 2025\nTo Register:  CLICK HERE
URL:https://ballethnic.org/event/bad-summer-dance-diversity-2025/2025-06-03/
LOCATION:Ballethnic Dance Studio\, 2587 Ballethnic Way\, East Point\, GA\, 30344\, United States
CATEGORIES:Community Event
ATTACH;FMTTYPE=image/jpeg:https://ballethnic.org/wp-content/uploads/2025/03/Pointe-Adv-Wksp.png-e1741487688161.jpeg
END:VEVENT
BEGIN:VEVENT
DTSTART;TZID=America/New_York:20250603T183000
DTEND;TZID=America/New_York:20250603T193000
DTSTAMP:20260419T193536
CREATED:20250608T150732Z
LAST-MODIFIED:20250608T152639Z
UID:10010035-1748975400-1748979000@ballethnic.org
SUMMARY:Summer Adult - Ballet
DESCRIPTION:Ballethnic Academy of Dance – Summer Adult Series\nBallet
URL:https://ballethnic.org/event/summer-adult-ballet/2025-06-03/
LOCATION:Ballethnic Dance Studio\, 2587 Ballethnic Way\, East Point\, GA\, 30344\, United States
CATEGORIES:Community Event,Open Classes,Special Classes
END:VEVENT
BEGIN:VEVENT
DTSTART;TZID=America/New_York:20250603T193000
DTEND;TZID=America/New_York:20250603T203000
DTSTAMP:20260419T193536
CREATED:20250608T152753Z
LAST-MODIFIED:20250608T152753Z
UID:10009969-1748979000-1748982600@ballethnic.org
SUMMARY:Summer Adult - Ballethnicize
DESCRIPTION:Ballethnic Academy of Dance – Summer Adult Series\nBallethnicize
URL:https://ballethnic.org/event/summer-adult-ballethnicize/2025-06-03/
LOCATION:Ballethnic Dance Studio\, 2587 Ballethnic Way\, East Point\, GA\, 30344\, United States
CATEGORIES:Community Event,Open Classes,Special Classes
END:VEVENT
BEGIN:VEVENT
DTSTART;TZID=America/New_York:20250604T083000
DTEND;TZID=America/New_York:20250604T164500
DTSTAMP:20260419T193536
CREATED:20250108T175713Z
LAST-MODIFIED:20250527T213900Z
UID:10009390-1749025800-1749055500@ballethnic.org
SUMMARY:BAD Summer Dance Diversity 2025
DESCRIPTION:Ballethnic’s Summer Dance Diversity 2025\nTo Register:  CLICK HERE
URL:https://ballethnic.org/event/bad-summer-dance-diversity-2025/2025-06-04/
LOCATION:Ballethnic Dance Studio\, 2587 Ballethnic Way\, East Point\, GA\, 30344\, United States
CATEGORIES:Community Event
ATTACH;FMTTYPE=image/jpeg:https://ballethnic.org/wp-content/uploads/2025/03/Pointe-Adv-Wksp.png-e1741487688161.jpeg
END:VEVENT
BEGIN:VEVENT
DTSTART;TZID=America/New_York:20250604T183000
DTEND;TZID=America/New_York:20250604T193000
DTSTAMP:20260419T193536
CREATED:20250608T151647Z
LAST-MODIFIED:20250608T151811Z
UID:10010032-1749061800-1749065400@ballethnic.org
SUMMARY:Summer Adult - Modern
DESCRIPTION:Ballethnic Academy of Dance – Summer Adult Series\nModern
URL:https://ballethnic.org/event/summer-adult-modern-2/2025-06-04/
LOCATION:Ballethnic Dance Studio\, 2587 Ballethnic Way\, East Point\, GA\, 30344\, United States
CATEGORIES:Community Event,Open Classes,Special Classes
END:VEVENT
BEGIN:VEVENT
DTSTART;TZID=America/New_York:20250605T083000
DTEND;TZID=America/New_York:20250605T164500
DTSTAMP:20260419T193536
CREATED:20250108T175713Z
LAST-MODIFIED:20250527T213900Z
UID:10009391-1749112200-1749141900@ballethnic.org
SUMMARY:BAD Summer Dance Diversity 2025
DESCRIPTION:Ballethnic’s Summer Dance Diversity 2025\nTo Register:  CLICK HERE
URL:https://ballethnic.org/event/bad-summer-dance-diversity-2025/2025-06-05/
LOCATION:Ballethnic Dance Studio\, 2587 Ballethnic Way\, East Point\, GA\, 30344\, United States
CATEGORIES:Community Event
ATTACH;FMTTYPE=image/jpeg:https://ballethnic.org/wp-content/uploads/2025/03/Pointe-Adv-Wksp.png-e1741487688161.jpeg
END:VEVENT
BEGIN:VEVENT
DTSTART;TZID=America/New_York:20250605T183000
DTEND;TZID=America/New_York:20250605T193000
DTSTAMP:20260419T193536
CREATED:20250608T151325Z
LAST-MODIFIED:20250608T151325Z
UID:10010020-1749148200-1749151800@ballethnic.org
SUMMARY:Summer Adult - Yoga
DESCRIPTION:Ballethnic Academy of Dance – Summer Adult Series\nYoga
URL:https://ballethnic.org/event/summer-adult-yoga-3-2/2025-06-05/
LOCATION:Ballethnic Dance Studio\, 2587 Ballethnic Way\, East Point\, GA\, 30344\, United States
CATEGORIES:Community Event,Open Classes,Special Classes
END:VEVENT
BEGIN:VEVENT
DTSTART;TZID=America/New_York:20250605T193000
DTEND;TZID=America/New_York:20250605T203000
DTSTAMP:20260419T193536
CREATED:20250608T152951Z
LAST-MODIFIED:20250608T152951Z
UID:10010037-1749151800-1749155400@ballethnic.org
SUMMARY:Summer Adult - Ballet
DESCRIPTION:Ballethnic Academy of Dance – Summer Adult Series\nBallet
URL:https://ballethnic.org/event/summer-adult-ballet-2/2025-06-05/
LOCATION:Ballethnic Dance Studio\, 2587 Ballethnic Way\, East Point\, GA\, 30344\, United States
CATEGORIES:Community Event,Open Classes,Special Classes
END:VEVENT
BEGIN:VEVENT
DTSTART;TZID=America/New_York:20250606T083000
DTEND;TZID=America/New_York:20250606T164500
DTSTAMP:20260419T193536
CREATED:20250108T175713Z
LAST-MODIFIED:20250527T213900Z
UID:10009392-1749198600-1749228300@ballethnic.org
SUMMARY:BAD Summer Dance Diversity 2025
DESCRIPTION:Ballethnic’s Summer Dance Diversity 2025\nTo Register:  CLICK HERE
URL:https://ballethnic.org/event/bad-summer-dance-diversity-2025/2025-06-06/
LOCATION:Ballethnic Dance Studio\, 2587 Ballethnic Way\, East Point\, GA\, 30344\, United States
CATEGORIES:Community Event
ATTACH;FMTTYPE=image/jpeg:https://ballethnic.org/wp-content/uploads/2025/03/Pointe-Adv-Wksp.png-e1741487688161.jpeg
END:VEVENT
END:VCALENDAR