BEGIN:VCALENDAR
VERSION:2.0
PRODID:-//Ballethnic - ECPv6.15.17//NONSGML v1.0//EN
CALSCALE:GREGORIAN
METHOD:PUBLISH
X-WR-CALNAME:Ballethnic
X-ORIGINAL-URL:https://ballethnic.org
X-WR-CALDESC:Events for Ballethnic
REFRESH-INTERVAL;VALUE=DURATION:PT1H
X-Robots-Tag:noindex
X-PUBLISHED-TTL:PT1H
BEGIN:VTIMEZONE
TZID:America/New_York
BEGIN:DAYLIGHT
TZOFFSETFROM:-0500
TZOFFSETTO:-0400
TZNAME:EDT
DTSTART:20240310T070000
END:DAYLIGHT
BEGIN:STANDARD
TZOFFSETFROM:-0400
TZOFFSETTO:-0500
TZNAME:EST
DTSTART:20241103T060000
END:STANDARD
BEGIN:DAYLIGHT
TZOFFSETFROM:-0500
TZOFFSETTO:-0400
TZNAME:EDT
DTSTART:20250309T070000
END:DAYLIGHT
BEGIN:STANDARD
TZOFFSETFROM:-0400
TZOFFSETTO:-0500
TZNAME:EST
DTSTART:20251102T060000
END:STANDARD
BEGIN:DAYLIGHT
TZOFFSETFROM:-0500
TZOFFSETTO:-0400
TZNAME:EDT
DTSTART:20260308T070000
END:DAYLIGHT
BEGIN:STANDARD
TZOFFSETFROM:-0400
TZOFFSETTO:-0500
TZNAME:EST
DTSTART:20261101T060000
END:STANDARD
END:VTIMEZONE
BEGIN:VEVENT
DTSTART;TZID=America/New_York:20250616T083000
DTEND;TZID=America/New_York:20250616T164500
DTSTAMP:20260419T222128
CREATED:20250108T175713Z
LAST-MODIFIED:20250527T213900Z
UID:10009398-1750062600-1750092300@ballethnic.org
SUMMARY:BAD Summer Dance Diversity 2025
DESCRIPTION:Ballethnic’s Summer Dance Diversity 2025\nTo Register:  CLICK HERE
URL:https://ballethnic.org/event/bad-summer-dance-diversity-2025/2025-06-16/
LOCATION:Ballethnic Dance Studio\, 2587 Ballethnic Way\, East Point\, GA\, 30344\, United States
CATEGORIES:Community Event
ATTACH;FMTTYPE=image/jpeg:https://ballethnic.org/wp-content/uploads/2025/03/Pointe-Adv-Wksp.png-e1741487688161.jpeg
END:VEVENT
BEGIN:VEVENT
DTSTART;TZID=America/New_York:20250616T130000
DTEND;TZID=America/New_York:20250616T170000
DTSTAMP:20260419T222128
CREATED:20250320T041412Z
LAST-MODIFIED:20250527T214323Z
UID:10009427-1750078800-1750093200@ballethnic.org
SUMMARY:Production Camp
DESCRIPTION:Ballethnic Academy of Dance Production Camp\nRegister Now!! \n \n 
URL:https://ballethnic.org/event/production-camp/2025-06-16/
LOCATION:Ballethnic Dance Studio\, 2587 Ballethnic Way\, East Point\, GA\, 30344\, United States
CATEGORIES:Community Event,Open Classes
END:VEVENT
BEGIN:VEVENT
DTSTART;TZID=America/New_York:20250616T183000
DTEND;TZID=America/New_York:20250616T193000
DTSTAMP:20260419T222128
CREATED:20250615T155932Z
LAST-MODIFIED:20250615T164926Z
UID:10009616-1750098600-1750102200@ballethnic.org
SUMMARY:Summer Adult - African Dance
DESCRIPTION:Ballethnic Academy of Dance – Summer Adult Series\nAfrican Dance – Access Registration
URL:https://ballethnic.org/event/summer-adult-african-dance-2-2-2/2025-06-16/
LOCATION:Ballethnic Dance Studio\, 2587 Ballethnic Way\, East Point\, GA\, 30344\, United States
CATEGORIES:Community Event,Open Classes,Special Classes
END:VEVENT
BEGIN:VEVENT
DTSTART;TZID=America/New_York:20250616T193000
DTEND;TZID=America/New_York:20250616T203000
DTSTAMP:20260419T222128
CREATED:20250615T155817Z
LAST-MODIFIED:20250615T164738Z
UID:10009559-1750102200-1750105800@ballethnic.org
SUMMARY:Summer Adult - African Drum
DESCRIPTION:Ballethnic Academy of Dance – Summer Adult Series\nAfrican Drum – Access Registration
URL:https://ballethnic.org/event/summer-adult-african-drum-2/2025-06-16/
LOCATION:Ballethnic Dance Studio\, 2587 Ballethnic Way\, East Point\, GA\, 30344\, United States
CATEGORIES:Community Event,Open Classes,Special Classes
END:VEVENT
BEGIN:VEVENT
DTSTART;TZID=America/New_York:20250617T083000
DTEND;TZID=America/New_York:20250617T164500
DTSTAMP:20260419T222128
CREATED:20250108T175713Z
LAST-MODIFIED:20250527T213900Z
UID:10009399-1750149000-1750178700@ballethnic.org
SUMMARY:BAD Summer Dance Diversity 2025
DESCRIPTION:Ballethnic’s Summer Dance Diversity 2025\nTo Register:  CLICK HERE
URL:https://ballethnic.org/event/bad-summer-dance-diversity-2025/2025-06-17/
LOCATION:Ballethnic Dance Studio\, 2587 Ballethnic Way\, East Point\, GA\, 30344\, United States
CATEGORIES:Community Event
ATTACH;FMTTYPE=image/jpeg:https://ballethnic.org/wp-content/uploads/2025/03/Pointe-Adv-Wksp.png-e1741487688161.jpeg
END:VEVENT
BEGIN:VEVENT
DTSTART;TZID=America/New_York:20250617T130000
DTEND;TZID=America/New_York:20250617T170000
DTSTAMP:20260419T222128
CREATED:20250320T041412Z
LAST-MODIFIED:20250527T214323Z
UID:10009428-1750165200-1750179600@ballethnic.org
SUMMARY:Production Camp
DESCRIPTION:Ballethnic Academy of Dance Production Camp\nRegister Now!! \n \n 
URL:https://ballethnic.org/event/production-camp/2025-06-17/
LOCATION:Ballethnic Dance Studio\, 2587 Ballethnic Way\, East Point\, GA\, 30344\, United States
CATEGORIES:Community Event,Open Classes
END:VEVENT
BEGIN:VEVENT
DTSTART;TZID=America/New_York:20250617T183000
DTEND;TZID=America/New_York:20250617T193000
DTSTAMP:20260419T222128
CREATED:20250615T155708Z
LAST-MODIFIED:20250615T164646Z
UID:10009734-1750185000-1750188600@ballethnic.org
SUMMARY:Summer Adult - Ballet
DESCRIPTION:Ballethnic Academy of Dance – Summer Adult Series\nBallet – Access Registration
URL:https://ballethnic.org/event/summer-adult-ballet-3/2025-06-17/
LOCATION:Ballethnic Dance Studio\, 2587 Ballethnic Way\, East Point\, GA\, 30344\, United States
CATEGORIES:Community Event,Open Classes,Special Classes
END:VEVENT
BEGIN:VEVENT
DTSTART;TZID=America/New_York:20250617T193000
DTEND;TZID=America/New_York:20250617T203000
DTSTAMP:20260419T222128
CREATED:20250615T155614Z
LAST-MODIFIED:20250615T164555Z
UID:10009970-1750188600-1750192200@ballethnic.org
SUMMARY:Summer Adult - Ballethnicize
DESCRIPTION:Ballethnic Academy of Dance – Summer Adult Series\nBallethnicize – Access Registration
URL:https://ballethnic.org/event/summer-adult-ballethnicize-2/2025-06-17/
LOCATION:Ballethnic Dance Studio\, 2587 Ballethnic Way\, East Point\, GA\, 30344\, United States
CATEGORIES:Community Event,Open Classes,Special Classes
END:VEVENT
BEGIN:VEVENT
DTSTART;TZID=America/New_York:20250618T083000
DTEND;TZID=America/New_York:20250618T164500
DTSTAMP:20260419T222128
CREATED:20250108T175713Z
LAST-MODIFIED:20250527T213900Z
UID:10009400-1750235400-1750265100@ballethnic.org
SUMMARY:BAD Summer Dance Diversity 2025
DESCRIPTION:Ballethnic’s Summer Dance Diversity 2025\nTo Register:  CLICK HERE
URL:https://ballethnic.org/event/bad-summer-dance-diversity-2025/2025-06-18/
LOCATION:Ballethnic Dance Studio\, 2587 Ballethnic Way\, East Point\, GA\, 30344\, United States
CATEGORIES:Community Event
ATTACH;FMTTYPE=image/jpeg:https://ballethnic.org/wp-content/uploads/2025/03/Pointe-Adv-Wksp.png-e1741487688161.jpeg
END:VEVENT
BEGIN:VEVENT
DTSTART;TZID=America/New_York:20250618T130000
DTEND;TZID=America/New_York:20250618T170000
DTSTAMP:20260419T222128
CREATED:20250320T041412Z
LAST-MODIFIED:20250527T214323Z
UID:10009429-1750251600-1750266000@ballethnic.org
SUMMARY:Production Camp
DESCRIPTION:Ballethnic Academy of Dance Production Camp\nRegister Now!! \n \n 
URL:https://ballethnic.org/event/production-camp/2025-06-18/
LOCATION:Ballethnic Dance Studio\, 2587 Ballethnic Way\, East Point\, GA\, 30344\, United States
CATEGORIES:Community Event,Open Classes
END:VEVENT
BEGIN:VEVENT
DTSTART;TZID=America/New_York:20250618T183000
DTEND;TZID=America/New_York:20250618T193000
DTSTAMP:20260419T222128
CREATED:20250615T155457Z
LAST-MODIFIED:20250615T164507Z
UID:10009997-1750271400-1750275000@ballethnic.org
SUMMARY:Summer Adult - Modern
DESCRIPTION:Ballethnic Academy of Dance – Summer Adult Series\nModern – Access Registration
URL:https://ballethnic.org/event/summer-adult-modern-2-2/2025-06-18/
LOCATION:Ballethnic Dance Studio\, 2587 Ballethnic Way\, East Point\, GA\, 30344\, United States
CATEGORIES:Community Event,Open Classes,Special Classes
END:VEVENT
BEGIN:VEVENT
DTSTART;TZID=America/New_York:20250619T083000
DTEND;TZID=America/New_York:20250619T164500
DTSTAMP:20260419T222128
CREATED:20250108T175713Z
LAST-MODIFIED:20250527T213900Z
UID:10009401-1750321800-1750351500@ballethnic.org
SUMMARY:BAD Summer Dance Diversity 2025
DESCRIPTION:Ballethnic’s Summer Dance Diversity 2025\nTo Register:  CLICK HERE
URL:https://ballethnic.org/event/bad-summer-dance-diversity-2025/2025-06-19/
LOCATION:Ballethnic Dance Studio\, 2587 Ballethnic Way\, East Point\, GA\, 30344\, United States
CATEGORIES:Community Event
ATTACH;FMTTYPE=image/jpeg:https://ballethnic.org/wp-content/uploads/2025/03/Pointe-Adv-Wksp.png-e1741487688161.jpeg
END:VEVENT
BEGIN:VEVENT
DTSTART;TZID=America/New_York:20250619T130000
DTEND;TZID=America/New_York:20250619T170000
DTSTAMP:20260419T222128
CREATED:20250320T041412Z
LAST-MODIFIED:20250527T214323Z
UID:10009430-1750338000-1750352400@ballethnic.org
SUMMARY:Production Camp
DESCRIPTION:Ballethnic Academy of Dance Production Camp\nRegister Now!! \n \n 
URL:https://ballethnic.org/event/production-camp/2025-06-19/
LOCATION:Ballethnic Dance Studio\, 2587 Ballethnic Way\, East Point\, GA\, 30344\, United States
CATEGORIES:Community Event,Open Classes
END:VEVENT
BEGIN:VEVENT
DTSTART;TZID=America/New_York:20250619T150000
DTEND;TZID=America/New_York:20250619T180000
DTSTAMP:20260419T222128
CREATED:20250108T174619Z
LAST-MODIFIED:20250527T190006Z
UID:10009377-1750345200-1750356000@ballethnic.org
SUMMARY:BAD Pre-Pointe & Young Men's Intensive 2025
DESCRIPTION:Ballethnic’s Summer Pre-Pointe & Young Men’s Intensive 2025\n15% Discount for Pre-Pointe and Teen Camp \nTo Register:  CLICK HERE
URL:https://ballethnic.org/event/bad-pre-pointe-young-mens-intensive-2025/2025-06-19/
LOCATION:Ballethnic Dance Studio\, 2587 Ballethnic Way\, East Point\, GA\, 30344\, United States
CATEGORIES:Community Event,Special Classes
END:VEVENT
BEGIN:VEVENT
DTSTART;TZID=America/New_York:20250619T183000
DTEND;TZID=America/New_York:20250619T193000
DTSTAMP:20260419T222128
CREATED:20250615T155327Z
LAST-MODIFIED:20250615T164414Z
UID:10010027-1750357800-1750361400@ballethnic.org
SUMMARY:Summer Adult - Yoga
DESCRIPTION:Ballethnic Academy of Dance – Summer Adult Series\nYoga – Access Registration
URL:https://ballethnic.org/event/summer-adult-yoga-3-2-2/2025-06-19/
LOCATION:Ballethnic Dance Studio\, 2587 Ballethnic Way\, East Point\, GA\, 30344\, United States
CATEGORIES:Community Event,Open Classes,Special Classes
END:VEVENT
BEGIN:VEVENT
DTSTART;TZID=America/New_York:20250619T193000
DTEND;TZID=America/New_York:20250619T203000
DTSTAMP:20260419T222128
CREATED:20250615T135517Z
LAST-MODIFIED:20250615T164259Z
UID:10009976-1750361400-1750365000@ballethnic.org
SUMMARY:Summer Adult - Ballet
DESCRIPTION:Ballethnic Academy of Dance – Summer Adult Series\nBallet – Access Registration
URL:https://ballethnic.org/event/summer-adult-ballet-2-2/2025-06-19/
LOCATION:Ballethnic Dance Studio\, 2587 Ballethnic Way\, East Point\, GA\, 30344\, United States
CATEGORIES:Community Event,Open Classes,Special Classes
END:VEVENT
BEGIN:VEVENT
DTSTART;TZID=America/New_York:20250620T083000
DTEND;TZID=America/New_York:20250620T164500
DTSTAMP:20260419T222128
CREATED:20250108T175713Z
LAST-MODIFIED:20250527T213900Z
UID:10009402-1750408200-1750437900@ballethnic.org
SUMMARY:BAD Summer Dance Diversity 2025
DESCRIPTION:Ballethnic’s Summer Dance Diversity 2025\nTo Register:  CLICK HERE
URL:https://ballethnic.org/event/bad-summer-dance-diversity-2025/2025-06-20/
LOCATION:Ballethnic Dance Studio\, 2587 Ballethnic Way\, East Point\, GA\, 30344\, United States
CATEGORIES:Community Event
ATTACH;FMTTYPE=image/jpeg:https://ballethnic.org/wp-content/uploads/2025/03/Pointe-Adv-Wksp.png-e1741487688161.jpeg
END:VEVENT
BEGIN:VEVENT
DTSTART;TZID=America/New_York:20250620T130000
DTEND;TZID=America/New_York:20250620T170000
DTSTAMP:20260419T222128
CREATED:20250320T041412Z
LAST-MODIFIED:20250527T214323Z
UID:10009431-1750424400-1750438800@ballethnic.org
SUMMARY:Production Camp
DESCRIPTION:Ballethnic Academy of Dance Production Camp\nRegister Now!! \n \n 
URL:https://ballethnic.org/event/production-camp/2025-06-20/
LOCATION:Ballethnic Dance Studio\, 2587 Ballethnic Way\, East Point\, GA\, 30344\, United States
CATEGORIES:Community Event,Open Classes
END:VEVENT
BEGIN:VEVENT
DTSTART;TZID=America/New_York:20250620T150000
DTEND;TZID=America/New_York:20250620T180000
DTSTAMP:20260419T222128
CREATED:20250108T174619Z
LAST-MODIFIED:20250527T190006Z
UID:10009378-1750431600-1750442400@ballethnic.org
SUMMARY:BAD Pre-Pointe & Young Men's Intensive 2025
DESCRIPTION:Ballethnic’s Summer Pre-Pointe & Young Men’s Intensive 2025\n15% Discount for Pre-Pointe and Teen Camp \nTo Register:  CLICK HERE
URL:https://ballethnic.org/event/bad-pre-pointe-young-mens-intensive-2025/2025-06-20/
LOCATION:Ballethnic Dance Studio\, 2587 Ballethnic Way\, East Point\, GA\, 30344\, United States
CATEGORIES:Community Event,Special Classes
END:VEVENT
BEGIN:VEVENT
DTSTART;TZID=America/New_York:20250621T110000
DTEND;TZID=America/New_York:20250621T140000
DTSTAMP:20260419T222128
CREATED:20250108T174619Z
LAST-MODIFIED:20250527T190006Z
UID:10009379-1750503600-1750514400@ballethnic.org
SUMMARY:BAD Pre-Pointe & Young Men's Intensive 2025
DESCRIPTION:Ballethnic’s Summer Pre-Pointe & Young Men’s Intensive 2025\n15% Discount for Pre-Pointe and Teen Camp \nTo Register:  CLICK HERE
URL:https://ballethnic.org/event/bad-pre-pointe-young-mens-intensive-2025/2025-06-21/
LOCATION:Ballethnic Dance Studio\, 2587 Ballethnic Way\, East Point\, GA\, 30344\, United States
CATEGORIES:Community Event,Special Classes
END:VEVENT
END:VCALENDAR