BEGIN:VCALENDAR
VERSION:2.0
PRODID:-//Ballethnic - ECPv6.15.17//NONSGML v1.0//EN
CALSCALE:GREGORIAN
METHOD:PUBLISH
X-WR-CALNAME:Ballethnic
X-ORIGINAL-URL:https://ballethnic.org
X-WR-CALDESC:Events for Ballethnic
REFRESH-INTERVAL;VALUE=DURATION:PT1H
X-Robots-Tag:noindex
X-PUBLISHED-TTL:PT1H
BEGIN:VTIMEZONE
TZID:America/New_York
BEGIN:DAYLIGHT
TZOFFSETFROM:-0500
TZOFFSETTO:-0400
TZNAME:EDT
DTSTART:20240310T070000
END:DAYLIGHT
BEGIN:STANDARD
TZOFFSETFROM:-0400
TZOFFSETTO:-0500
TZNAME:EST
DTSTART:20241103T060000
END:STANDARD
BEGIN:DAYLIGHT
TZOFFSETFROM:-0500
TZOFFSETTO:-0400
TZNAME:EDT
DTSTART:20250309T070000
END:DAYLIGHT
BEGIN:STANDARD
TZOFFSETFROM:-0400
TZOFFSETTO:-0500
TZNAME:EST
DTSTART:20251102T060000
END:STANDARD
BEGIN:DAYLIGHT
TZOFFSETFROM:-0500
TZOFFSETTO:-0400
TZNAME:EDT
DTSTART:20260308T070000
END:DAYLIGHT
BEGIN:STANDARD
TZOFFSETFROM:-0400
TZOFFSETTO:-0500
TZNAME:EST
DTSTART:20261101T060000
END:STANDARD
END:VTIMEZONE
BEGIN:VEVENT
DTSTART;TZID=America/New_York:20250623T083000
DTEND;TZID=America/New_York:20250623T164500
DTSTAMP:20260420T025043
CREATED:20250108T175713Z
LAST-MODIFIED:20250527T213900Z
UID:10009403-1750667400-1750697100@ballethnic.org
SUMMARY:BAD Summer Dance Diversity 2025
DESCRIPTION:Ballethnic’s Summer Dance Diversity 2025\nTo Register:  CLICK HERE
URL:https://ballethnic.org/event/bad-summer-dance-diversity-2025/2025-06-23/
LOCATION:Ballethnic Dance Studio\, 2587 Ballethnic Way\, East Point\, GA\, 30344\, United States
CATEGORIES:Community Event
ATTACH;FMTTYPE=image/jpeg:https://ballethnic.org/wp-content/uploads/2025/03/Pointe-Adv-Wksp.png-e1741487688161.jpeg
END:VEVENT
BEGIN:VEVENT
DTSTART;TZID=America/New_York:20250623T130000
DTEND;TZID=America/New_York:20250623T170000
DTSTAMP:20260420T025043
CREATED:20250320T041412Z
LAST-MODIFIED:20250527T214323Z
UID:10009432-1750683600-1750698000@ballethnic.org
SUMMARY:Production Camp
DESCRIPTION:Ballethnic Academy of Dance Production Camp\nRegister Now!! \n \n 
URL:https://ballethnic.org/event/production-camp/2025-06-23/
LOCATION:Ballethnic Dance Studio\, 2587 Ballethnic Way\, East Point\, GA\, 30344\, United States
CATEGORIES:Community Event,Open Classes
END:VEVENT
BEGIN:VEVENT
DTSTART;TZID=America/New_York:20250623T183000
DTEND;TZID=America/New_York:20250623T193000
DTSTAMP:20260420T025043
CREATED:20250615T155932Z
LAST-MODIFIED:20250615T164926Z
UID:10009617-1750703400-1750707000@ballethnic.org
SUMMARY:Summer Adult - African Dance
DESCRIPTION:Ballethnic Academy of Dance – Summer Adult Series\nAfrican Dance – Access Registration
URL:https://ballethnic.org/event/summer-adult-african-dance-2-2-2/2025-06-23/
LOCATION:Ballethnic Dance Studio\, 2587 Ballethnic Way\, East Point\, GA\, 30344\, United States
CATEGORIES:Community Event,Open Classes,Special Classes
END:VEVENT
BEGIN:VEVENT
DTSTART;TZID=America/New_York:20250623T193000
DTEND;TZID=America/New_York:20250623T203000
DTSTAMP:20260420T025043
CREATED:20250615T155817Z
LAST-MODIFIED:20250615T164738Z
UID:10009560-1750707000-1750710600@ballethnic.org
SUMMARY:Summer Adult - African Drum
DESCRIPTION:Ballethnic Academy of Dance – Summer Adult Series\nAfrican Drum – Access Registration
URL:https://ballethnic.org/event/summer-adult-african-drum-2/2025-06-23/
LOCATION:Ballethnic Dance Studio\, 2587 Ballethnic Way\, East Point\, GA\, 30344\, United States
CATEGORIES:Community Event,Open Classes,Special Classes
END:VEVENT
BEGIN:VEVENT
DTSTART;TZID=America/New_York:20250624T083000
DTEND;TZID=America/New_York:20250624T164500
DTSTAMP:20260420T025043
CREATED:20250108T175713Z
LAST-MODIFIED:20250527T213900Z
UID:10009404-1750753800-1750783500@ballethnic.org
SUMMARY:BAD Summer Dance Diversity 2025
DESCRIPTION:Ballethnic’s Summer Dance Diversity 2025\nTo Register:  CLICK HERE
URL:https://ballethnic.org/event/bad-summer-dance-diversity-2025/2025-06-24/
LOCATION:Ballethnic Dance Studio\, 2587 Ballethnic Way\, East Point\, GA\, 30344\, United States
CATEGORIES:Community Event
ATTACH;FMTTYPE=image/jpeg:https://ballethnic.org/wp-content/uploads/2025/03/Pointe-Adv-Wksp.png-e1741487688161.jpeg
END:VEVENT
BEGIN:VEVENT
DTSTART;TZID=America/New_York:20250624T130000
DTEND;TZID=America/New_York:20250624T170000
DTSTAMP:20260420T025043
CREATED:20250320T041412Z
LAST-MODIFIED:20250527T214323Z
UID:10009433-1750770000-1750784400@ballethnic.org
SUMMARY:Production Camp
DESCRIPTION:Ballethnic Academy of Dance Production Camp\nRegister Now!! \n \n 
URL:https://ballethnic.org/event/production-camp/2025-06-24/
LOCATION:Ballethnic Dance Studio\, 2587 Ballethnic Way\, East Point\, GA\, 30344\, United States
CATEGORIES:Community Event,Open Classes
END:VEVENT
BEGIN:VEVENT
DTSTART;TZID=America/New_York:20250624T183000
DTEND;TZID=America/New_York:20250624T193000
DTSTAMP:20260420T025043
CREATED:20250615T155708Z
LAST-MODIFIED:20250615T164646Z
UID:10009735-1750789800-1750793400@ballethnic.org
SUMMARY:Summer Adult - Ballet
DESCRIPTION:Ballethnic Academy of Dance – Summer Adult Series\nBallet – Access Registration
URL:https://ballethnic.org/event/summer-adult-ballet-3/2025-06-24/
LOCATION:Ballethnic Dance Studio\, 2587 Ballethnic Way\, East Point\, GA\, 30344\, United States
CATEGORIES:Community Event,Open Classes,Special Classes
END:VEVENT
BEGIN:VEVENT
DTSTART;TZID=America/New_York:20250624T193000
DTEND;TZID=America/New_York:20250624T203000
DTSTAMP:20260420T025043
CREATED:20250615T155614Z
LAST-MODIFIED:20250615T164555Z
UID:10009971-1750793400-1750797000@ballethnic.org
SUMMARY:Summer Adult - Ballethnicize
DESCRIPTION:Ballethnic Academy of Dance – Summer Adult Series\nBallethnicize – Access Registration
URL:https://ballethnic.org/event/summer-adult-ballethnicize-2/2025-06-24/
LOCATION:Ballethnic Dance Studio\, 2587 Ballethnic Way\, East Point\, GA\, 30344\, United States
CATEGORIES:Community Event,Open Classes,Special Classes
END:VEVENT
BEGIN:VEVENT
DTSTART;TZID=America/New_York:20250625T083000
DTEND;TZID=America/New_York:20250625T164500
DTSTAMP:20260420T025043
CREATED:20250108T175713Z
LAST-MODIFIED:20250527T213900Z
UID:10009405-1750840200-1750869900@ballethnic.org
SUMMARY:BAD Summer Dance Diversity 2025
DESCRIPTION:Ballethnic’s Summer Dance Diversity 2025\nTo Register:  CLICK HERE
URL:https://ballethnic.org/event/bad-summer-dance-diversity-2025/2025-06-25/
LOCATION:Ballethnic Dance Studio\, 2587 Ballethnic Way\, East Point\, GA\, 30344\, United States
CATEGORIES:Community Event
ATTACH;FMTTYPE=image/jpeg:https://ballethnic.org/wp-content/uploads/2025/03/Pointe-Adv-Wksp.png-e1741487688161.jpeg
END:VEVENT
BEGIN:VEVENT
DTSTART;TZID=America/New_York:20250625T130000
DTEND;TZID=America/New_York:20250625T170000
DTSTAMP:20260420T025043
CREATED:20250320T041412Z
LAST-MODIFIED:20250527T214323Z
UID:10009434-1750856400-1750870800@ballethnic.org
SUMMARY:Production Camp
DESCRIPTION:Ballethnic Academy of Dance Production Camp\nRegister Now!! \n \n 
URL:https://ballethnic.org/event/production-camp/2025-06-25/
LOCATION:Ballethnic Dance Studio\, 2587 Ballethnic Way\, East Point\, GA\, 30344\, United States
CATEGORIES:Community Event,Open Classes
END:VEVENT
BEGIN:VEVENT
DTSTART;TZID=America/New_York:20250625T183000
DTEND;TZID=America/New_York:20250625T193000
DTSTAMP:20260420T025043
CREATED:20250615T155457Z
LAST-MODIFIED:20250615T164507Z
UID:10009998-1750876200-1750879800@ballethnic.org
SUMMARY:Summer Adult - Modern
DESCRIPTION:Ballethnic Academy of Dance – Summer Adult Series\nModern – Access Registration
URL:https://ballethnic.org/event/summer-adult-modern-2-2/2025-06-25/
LOCATION:Ballethnic Dance Studio\, 2587 Ballethnic Way\, East Point\, GA\, 30344\, United States
CATEGORIES:Community Event,Open Classes,Special Classes
END:VEVENT
BEGIN:VEVENT
DTSTART;TZID=America/New_York:20250626T083000
DTEND;TZID=America/New_York:20250626T164500
DTSTAMP:20260420T025043
CREATED:20250108T175713Z
LAST-MODIFIED:20250527T213900Z
UID:10009406-1750926600-1750956300@ballethnic.org
SUMMARY:BAD Summer Dance Diversity 2025
DESCRIPTION:Ballethnic’s Summer Dance Diversity 2025\nTo Register:  CLICK HERE
URL:https://ballethnic.org/event/bad-summer-dance-diversity-2025/2025-06-26/
LOCATION:Ballethnic Dance Studio\, 2587 Ballethnic Way\, East Point\, GA\, 30344\, United States
CATEGORIES:Community Event
ATTACH;FMTTYPE=image/jpeg:https://ballethnic.org/wp-content/uploads/2025/03/Pointe-Adv-Wksp.png-e1741487688161.jpeg
END:VEVENT
BEGIN:VEVENT
DTSTART;TZID=America/New_York:20250626T130000
DTEND;TZID=America/New_York:20250626T170000
DTSTAMP:20260420T025043
CREATED:20250320T041412Z
LAST-MODIFIED:20250527T214323Z
UID:10009435-1750942800-1750957200@ballethnic.org
SUMMARY:Production Camp
DESCRIPTION:Ballethnic Academy of Dance Production Camp\nRegister Now!! \n \n 
URL:https://ballethnic.org/event/production-camp/2025-06-26/
LOCATION:Ballethnic Dance Studio\, 2587 Ballethnic Way\, East Point\, GA\, 30344\, United States
CATEGORIES:Community Event,Open Classes
END:VEVENT
BEGIN:VEVENT
DTSTART;TZID=America/New_York:20250626T183000
DTEND;TZID=America/New_York:20250626T193000
DTSTAMP:20260420T025043
CREATED:20250615T155327Z
LAST-MODIFIED:20250615T164414Z
UID:10010028-1750962600-1750966200@ballethnic.org
SUMMARY:Summer Adult - Yoga
DESCRIPTION:Ballethnic Academy of Dance – Summer Adult Series\nYoga – Access Registration
URL:https://ballethnic.org/event/summer-adult-yoga-3-2-2/2025-06-26/
LOCATION:Ballethnic Dance Studio\, 2587 Ballethnic Way\, East Point\, GA\, 30344\, United States
CATEGORIES:Community Event,Open Classes,Special Classes
END:VEVENT
BEGIN:VEVENT
DTSTART;TZID=America/New_York:20250626T193000
DTEND;TZID=America/New_York:20250626T203000
DTSTAMP:20260420T025043
CREATED:20250615T135517Z
LAST-MODIFIED:20250615T164259Z
UID:10009977-1750966200-1750969800@ballethnic.org
SUMMARY:Summer Adult - Ballet
DESCRIPTION:Ballethnic Academy of Dance – Summer Adult Series\nBallet – Access Registration
URL:https://ballethnic.org/event/summer-adult-ballet-2-2/2025-06-26/
LOCATION:Ballethnic Dance Studio\, 2587 Ballethnic Way\, East Point\, GA\, 30344\, United States
CATEGORIES:Community Event,Open Classes,Special Classes
END:VEVENT
BEGIN:VEVENT
DTSTART;TZID=America/New_York:20250627T083000
DTEND;TZID=America/New_York:20250627T164500
DTSTAMP:20260420T025043
CREATED:20250108T175713Z
LAST-MODIFIED:20250527T213900Z
UID:10009407-1751013000-1751042700@ballethnic.org
SUMMARY:BAD Summer Dance Diversity 2025
DESCRIPTION:Ballethnic’s Summer Dance Diversity 2025\nTo Register:  CLICK HERE
URL:https://ballethnic.org/event/bad-summer-dance-diversity-2025/2025-06-27/
LOCATION:Ballethnic Dance Studio\, 2587 Ballethnic Way\, East Point\, GA\, 30344\, United States
CATEGORIES:Community Event
ATTACH;FMTTYPE=image/jpeg:https://ballethnic.org/wp-content/uploads/2025/03/Pointe-Adv-Wksp.png-e1741487688161.jpeg
END:VEVENT
BEGIN:VEVENT
DTSTART;TZID=America/New_York:20250627T130000
DTEND;TZID=America/New_York:20250627T170000
DTSTAMP:20260420T025043
CREATED:20250320T041412Z
LAST-MODIFIED:20250527T214323Z
UID:10009436-1751029200-1751043600@ballethnic.org
SUMMARY:Production Camp
DESCRIPTION:Ballethnic Academy of Dance Production Camp\nRegister Now!! \n \n 
URL:https://ballethnic.org/event/production-camp/2025-06-27/
LOCATION:Ballethnic Dance Studio\, 2587 Ballethnic Way\, East Point\, GA\, 30344\, United States
CATEGORIES:Community Event,Open Classes
END:VEVENT
END:VCALENDAR