BEGIN:VCALENDAR
VERSION:2.0
PRODID:-//Ballethnic - ECPv6.15.17//NONSGML v1.0//EN
CALSCALE:GREGORIAN
METHOD:PUBLISH
X-ORIGINAL-URL:https://ballethnic.org
X-WR-CALDESC:Events for Ballethnic
REFRESH-INTERVAL;VALUE=DURATION:PT1H
X-Robots-Tag:noindex
X-PUBLISHED-TTL:PT1H
BEGIN:VTIMEZONE
TZID:America/New_York
BEGIN:DAYLIGHT
TZOFFSETFROM:-0500
TZOFFSETTO:-0400
TZNAME:EDT
DTSTART:20240310T070000
END:DAYLIGHT
BEGIN:STANDARD
TZOFFSETFROM:-0400
TZOFFSETTO:-0500
TZNAME:EST
DTSTART:20241103T060000
END:STANDARD
BEGIN:DAYLIGHT
TZOFFSETFROM:-0500
TZOFFSETTO:-0400
TZNAME:EDT
DTSTART:20250309T070000
END:DAYLIGHT
BEGIN:STANDARD
TZOFFSETFROM:-0400
TZOFFSETTO:-0500
TZNAME:EST
DTSTART:20251102T060000
END:STANDARD
BEGIN:DAYLIGHT
TZOFFSETFROM:-0500
TZOFFSETTO:-0400
TZNAME:EDT
DTSTART:20260308T070000
END:DAYLIGHT
BEGIN:STANDARD
TZOFFSETFROM:-0400
TZOFFSETTO:-0500
TZNAME:EST
DTSTART:20261101T060000
END:STANDARD
END:VTIMEZONE
BEGIN:VEVENT
DTSTART;TZID=America/New_York:20250630T183000
DTEND;TZID=America/New_York:20250630T193000
DTSTAMP:20260420T025223
CREATED:20250615T155932Z
LAST-MODIFIED:20250615T164926Z
UID:10009618-1751308200-1751311800@ballethnic.org
SUMMARY:Summer Adult - African Dance
DESCRIPTION:Ballethnic Academy of Dance – Summer Adult Series\nAfrican Dance – Access Registration
URL:https://ballethnic.org/event/summer-adult-african-dance-2-2-2/2025-06-30/
LOCATION:Ballethnic Dance Studio\, 2587 Ballethnic Way\, East Point\, GA\, 30344\, United States
CATEGORIES:Community Event,Open Classes,Special Classes
END:VEVENT
BEGIN:VEVENT
DTSTART;TZID=America/New_York:20250630T193000
DTEND;TZID=America/New_York:20250630T203000
DTSTAMP:20260420T025223
CREATED:20250615T155817Z
LAST-MODIFIED:20250615T164738Z
UID:10009561-1751311800-1751315400@ballethnic.org
SUMMARY:Summer Adult - African Drum
DESCRIPTION:Ballethnic Academy of Dance – Summer Adult Series\nAfrican Drum – Access Registration
URL:https://ballethnic.org/event/summer-adult-african-drum-2/2025-06-30/
LOCATION:Ballethnic Dance Studio\, 2587 Ballethnic Way\, East Point\, GA\, 30344\, United States
CATEGORIES:Community Event,Open Classes,Special Classes
END:VEVENT
BEGIN:VEVENT
DTSTART;TZID=America/New_York:20250701T183000
DTEND;TZID=America/New_York:20250701T193000
DTSTAMP:20260420T025223
CREATED:20250615T155708Z
LAST-MODIFIED:20250615T164646Z
UID:10009736-1751394600-1751398200@ballethnic.org
SUMMARY:Summer Adult - Ballet
DESCRIPTION:Ballethnic Academy of Dance – Summer Adult Series\nBallet – Access Registration
URL:https://ballethnic.org/event/summer-adult-ballet-3/2025-07-01/
LOCATION:Ballethnic Dance Studio\, 2587 Ballethnic Way\, East Point\, GA\, 30344\, United States
CATEGORIES:Community Event,Open Classes,Special Classes
END:VEVENT
BEGIN:VEVENT
DTSTART;TZID=America/New_York:20250701T193000
DTEND;TZID=America/New_York:20250701T203000
DTSTAMP:20260420T025223
CREATED:20250615T155614Z
LAST-MODIFIED:20250615T164555Z
UID:10009972-1751398200-1751401800@ballethnic.org
SUMMARY:Summer Adult - Ballethnicize
DESCRIPTION:Ballethnic Academy of Dance – Summer Adult Series\nBallethnicize – Access Registration
URL:https://ballethnic.org/event/summer-adult-ballethnicize-2/2025-07-01/
LOCATION:Ballethnic Dance Studio\, 2587 Ballethnic Way\, East Point\, GA\, 30344\, United States
CATEGORIES:Community Event,Open Classes,Special Classes
END:VEVENT
BEGIN:VEVENT
DTSTART;TZID=America/New_York:20250702T183000
DTEND;TZID=America/New_York:20250702T193000
DTSTAMP:20260420T025223
CREATED:20250615T155457Z
LAST-MODIFIED:20250615T164507Z
UID:10009999-1751481000-1751484600@ballethnic.org
SUMMARY:Summer Adult - Modern
DESCRIPTION:Ballethnic Academy of Dance – Summer Adult Series\nModern – Access Registration
URL:https://ballethnic.org/event/summer-adult-modern-2-2/2025-07-02/
LOCATION:Ballethnic Dance Studio\, 2587 Ballethnic Way\, East Point\, GA\, 30344\, United States
CATEGORIES:Community Event,Open Classes,Special Classes
END:VEVENT
BEGIN:VEVENT
DTSTART;TZID=America/New_York:20250703T183000
DTEND;TZID=America/New_York:20250703T193000
DTSTAMP:20260420T025223
CREATED:20250615T155327Z
LAST-MODIFIED:20250615T164414Z
UID:10010029-1751567400-1751571000@ballethnic.org
SUMMARY:Summer Adult - Yoga
DESCRIPTION:Ballethnic Academy of Dance – Summer Adult Series\nYoga – Access Registration
URL:https://ballethnic.org/event/summer-adult-yoga-3-2-2/2025-07-03/
LOCATION:Ballethnic Dance Studio\, 2587 Ballethnic Way\, East Point\, GA\, 30344\, United States
CATEGORIES:Community Event,Open Classes,Special Classes
END:VEVENT
BEGIN:VEVENT
DTSTART;TZID=America/New_York:20250703T193000
DTEND;TZID=America/New_York:20250703T203000
DTSTAMP:20260420T025223
CREATED:20250615T135517Z
LAST-MODIFIED:20250615T164259Z
UID:10009978-1751571000-1751574600@ballethnic.org
SUMMARY:Summer Adult - Ballet
DESCRIPTION:Ballethnic Academy of Dance – Summer Adult Series\nBallet – Access Registration
URL:https://ballethnic.org/event/summer-adult-ballet-2-2/2025-07-03/
LOCATION:Ballethnic Dance Studio\, 2587 Ballethnic Way\, East Point\, GA\, 30344\, United States
CATEGORIES:Community Event,Open Classes,Special Classes
END:VEVENT
END:VCALENDAR