BEGIN:VCALENDAR
VERSION:2.0
PRODID:-//Ballethnic - ECPv6.15.17//NONSGML v1.0//EN
CALSCALE:GREGORIAN
METHOD:PUBLISH
X-WR-CALNAME:Ballethnic
X-ORIGINAL-URL:https://ballethnic.org
X-WR-CALDESC:Events for Ballethnic
REFRESH-INTERVAL;VALUE=DURATION:PT1H
X-Robots-Tag:noindex
X-PUBLISHED-TTL:PT1H
BEGIN:VTIMEZONE
TZID:America/New_York
BEGIN:DAYLIGHT
TZOFFSETFROM:-0500
TZOFFSETTO:-0400
TZNAME:EDT
DTSTART:20240310T070000
END:DAYLIGHT
BEGIN:STANDARD
TZOFFSETFROM:-0400
TZOFFSETTO:-0500
TZNAME:EST
DTSTART:20241103T060000
END:STANDARD
BEGIN:DAYLIGHT
TZOFFSETFROM:-0500
TZOFFSETTO:-0400
TZNAME:EDT
DTSTART:20250309T070000
END:DAYLIGHT
BEGIN:STANDARD
TZOFFSETFROM:-0400
TZOFFSETTO:-0500
TZNAME:EST
DTSTART:20251102T060000
END:STANDARD
BEGIN:DAYLIGHT
TZOFFSETFROM:-0500
TZOFFSETTO:-0400
TZNAME:EDT
DTSTART:20260308T070000
END:DAYLIGHT
BEGIN:STANDARD
TZOFFSETFROM:-0400
TZOFFSETTO:-0500
TZNAME:EST
DTSTART:20261101T060000
END:STANDARD
END:VTIMEZONE
BEGIN:VEVENT
DTSTART;TZID=America/New_York:20250707T130000
DTEND;TZID=America/New_York:20250707T170000
DTSTAMP:20260420T025044
CREATED:20250108T174731Z
LAST-MODIFIED:20250527T214222Z
UID:10005747-1751893200-1751907600@ballethnic.org
SUMMARY:BAD Teen Camp 2025
DESCRIPTION:Ballethnic’s Summer Teen Camp\nJuly 7th – 18th / 1:00 PM – 5:00 PM \nRegister Now!
URL:https://ballethnic.org/event/bad-teen-camp-2025/2025-07-07/
LOCATION:Ballethnic Dance Studio\, 2587 Ballethnic Way\, East Point\, GA\, 30344\, United States
CATEGORIES:Community Event
ATTACH;FMTTYPE=image/png:https://ballethnic.org/wp-content/uploads/2025/04/Pointe-Adv-Wksp-2-e1744832584572.png
END:VEVENT
BEGIN:VEVENT
DTSTART;TZID=America/New_York:20250707T183000
DTEND;TZID=America/New_York:20250707T193000
DTSTAMP:20260420T025044
CREATED:20250615T155932Z
LAST-MODIFIED:20250615T164926Z
UID:10009619-1751913000-1751916600@ballethnic.org
SUMMARY:Summer Adult - African Dance
DESCRIPTION:Ballethnic Academy of Dance – Summer Adult Series\nAfrican Dance – Access Registration
URL:https://ballethnic.org/event/summer-adult-african-dance-2-2-2/2025-07-07/
LOCATION:Ballethnic Dance Studio\, 2587 Ballethnic Way\, East Point\, GA\, 30344\, United States
CATEGORIES:Community Event,Open Classes,Special Classes
END:VEVENT
BEGIN:VEVENT
DTSTART;TZID=America/New_York:20250707T193000
DTEND;TZID=America/New_York:20250707T203000
DTSTAMP:20260420T025044
CREATED:20250615T155817Z
LAST-MODIFIED:20250615T164738Z
UID:10009562-1751916600-1751920200@ballethnic.org
SUMMARY:Summer Adult - African Drum
DESCRIPTION:Ballethnic Academy of Dance – Summer Adult Series\nAfrican Drum – Access Registration
URL:https://ballethnic.org/event/summer-adult-african-drum-2/2025-07-07/
LOCATION:Ballethnic Dance Studio\, 2587 Ballethnic Way\, East Point\, GA\, 30344\, United States
CATEGORIES:Community Event,Open Classes,Special Classes
END:VEVENT
BEGIN:VEVENT
DTSTART;TZID=America/New_York:20250708T130000
DTEND;TZID=America/New_York:20250708T170000
DTSTAMP:20260420T025044
CREATED:20250108T174731Z
LAST-MODIFIED:20250527T214222Z
UID:10009380-1751979600-1751994000@ballethnic.org
SUMMARY:BAD Teen Camp 2025
DESCRIPTION:Ballethnic’s Summer Teen Camp\nJuly 7th – 18th / 1:00 PM – 5:00 PM \nRegister Now!
URL:https://ballethnic.org/event/bad-teen-camp-2025/2025-07-08/
LOCATION:Ballethnic Dance Studio\, 2587 Ballethnic Way\, East Point\, GA\, 30344\, United States
CATEGORIES:Community Event
ATTACH;FMTTYPE=image/png:https://ballethnic.org/wp-content/uploads/2025/04/Pointe-Adv-Wksp-2-e1744832584572.png
END:VEVENT
BEGIN:VEVENT
DTSTART;TZID=America/New_York:20250708T183000
DTEND;TZID=America/New_York:20250708T193000
DTSTAMP:20260420T025044
CREATED:20250615T155708Z
LAST-MODIFIED:20250615T164646Z
UID:10009737-1751999400-1752003000@ballethnic.org
SUMMARY:Summer Adult - Ballet
DESCRIPTION:Ballethnic Academy of Dance – Summer Adult Series\nBallet – Access Registration
URL:https://ballethnic.org/event/summer-adult-ballet-3/2025-07-08/
LOCATION:Ballethnic Dance Studio\, 2587 Ballethnic Way\, East Point\, GA\, 30344\, United States
CATEGORIES:Community Event,Open Classes,Special Classes
END:VEVENT
BEGIN:VEVENT
DTSTART;TZID=America/New_York:20250708T193000
DTEND;TZID=America/New_York:20250708T203000
DTSTAMP:20260420T025044
CREATED:20250615T155614Z
LAST-MODIFIED:20250615T164555Z
UID:10009973-1752003000-1752006600@ballethnic.org
SUMMARY:Summer Adult - Ballethnicize
DESCRIPTION:Ballethnic Academy of Dance – Summer Adult Series\nBallethnicize – Access Registration
URL:https://ballethnic.org/event/summer-adult-ballethnicize-2/2025-07-08/
LOCATION:Ballethnic Dance Studio\, 2587 Ballethnic Way\, East Point\, GA\, 30344\, United States
CATEGORIES:Community Event,Open Classes,Special Classes
END:VEVENT
BEGIN:VEVENT
DTSTART;TZID=America/New_York:20250709T130000
DTEND;TZID=America/New_York:20250709T170000
DTSTAMP:20260420T025044
CREATED:20250108T174731Z
LAST-MODIFIED:20250527T214222Z
UID:10009381-1752066000-1752080400@ballethnic.org
SUMMARY:BAD Teen Camp 2025
DESCRIPTION:Ballethnic’s Summer Teen Camp\nJuly 7th – 18th / 1:00 PM – 5:00 PM \nRegister Now!
URL:https://ballethnic.org/event/bad-teen-camp-2025/2025-07-09/
LOCATION:Ballethnic Dance Studio\, 2587 Ballethnic Way\, East Point\, GA\, 30344\, United States
CATEGORIES:Community Event
ATTACH;FMTTYPE=image/png:https://ballethnic.org/wp-content/uploads/2025/04/Pointe-Adv-Wksp-2-e1744832584572.png
END:VEVENT
BEGIN:VEVENT
DTSTART;TZID=America/New_York:20250709T183000
DTEND;TZID=America/New_York:20250709T193000
DTSTAMP:20260420T025044
CREATED:20250615T155457Z
LAST-MODIFIED:20250615T164507Z
UID:10010000-1752085800-1752089400@ballethnic.org
SUMMARY:Summer Adult - Modern
DESCRIPTION:Ballethnic Academy of Dance – Summer Adult Series\nModern – Access Registration
URL:https://ballethnic.org/event/summer-adult-modern-2-2/2025-07-09/
LOCATION:Ballethnic Dance Studio\, 2587 Ballethnic Way\, East Point\, GA\, 30344\, United States
CATEGORIES:Community Event,Open Classes,Special Classes
END:VEVENT
BEGIN:VEVENT
DTSTART;TZID=America/New_York:20250710T130000
DTEND;TZID=America/New_York:20250710T170000
DTSTAMP:20260420T025044
CREATED:20250108T174731Z
LAST-MODIFIED:20250527T214222Z
UID:10009382-1752152400-1752166800@ballethnic.org
SUMMARY:BAD Teen Camp 2025
DESCRIPTION:Ballethnic’s Summer Teen Camp\nJuly 7th – 18th / 1:00 PM – 5:00 PM \nRegister Now!
URL:https://ballethnic.org/event/bad-teen-camp-2025/2025-07-10/
LOCATION:Ballethnic Dance Studio\, 2587 Ballethnic Way\, East Point\, GA\, 30344\, United States
CATEGORIES:Community Event
ATTACH;FMTTYPE=image/png:https://ballethnic.org/wp-content/uploads/2025/04/Pointe-Adv-Wksp-2-e1744832584572.png
END:VEVENT
BEGIN:VEVENT
DTSTART;TZID=America/New_York:20250710T183000
DTEND;TZID=America/New_York:20250710T193000
DTSTAMP:20260420T025044
CREATED:20250615T155327Z
LAST-MODIFIED:20250615T164414Z
UID:10010030-1752172200-1752175800@ballethnic.org
SUMMARY:Summer Adult - Yoga
DESCRIPTION:Ballethnic Academy of Dance – Summer Adult Series\nYoga – Access Registration
URL:https://ballethnic.org/event/summer-adult-yoga-3-2-2/2025-07-10/
LOCATION:Ballethnic Dance Studio\, 2587 Ballethnic Way\, East Point\, GA\, 30344\, United States
CATEGORIES:Community Event,Open Classes,Special Classes
END:VEVENT
BEGIN:VEVENT
DTSTART;TZID=America/New_York:20250710T193000
DTEND;TZID=America/New_York:20250710T203000
DTSTAMP:20260420T025044
CREATED:20250615T135517Z
LAST-MODIFIED:20250615T164259Z
UID:10009979-1752175800-1752179400@ballethnic.org
SUMMARY:Summer Adult - Ballet
DESCRIPTION:Ballethnic Academy of Dance – Summer Adult Series\nBallet – Access Registration
URL:https://ballethnic.org/event/summer-adult-ballet-2-2/2025-07-10/
LOCATION:Ballethnic Dance Studio\, 2587 Ballethnic Way\, East Point\, GA\, 30344\, United States
CATEGORIES:Community Event,Open Classes,Special Classes
END:VEVENT
BEGIN:VEVENT
DTSTART;TZID=America/New_York:20250711T130000
DTEND;TZID=America/New_York:20250711T170000
DTSTAMP:20260420T025044
CREATED:20250108T174731Z
LAST-MODIFIED:20250527T214222Z
UID:10009383-1752238800-1752253200@ballethnic.org
SUMMARY:BAD Teen Camp 2025
DESCRIPTION:Ballethnic’s Summer Teen Camp\nJuly 7th – 18th / 1:00 PM – 5:00 PM \nRegister Now!
URL:https://ballethnic.org/event/bad-teen-camp-2025/2025-07-11/
LOCATION:Ballethnic Dance Studio\, 2587 Ballethnic Way\, East Point\, GA\, 30344\, United States
CATEGORIES:Community Event
ATTACH;FMTTYPE=image/png:https://ballethnic.org/wp-content/uploads/2025/04/Pointe-Adv-Wksp-2-e1744832584572.png
END:VEVENT
BEGIN:VEVENT
DTSTART;TZID=America/New_York:20250712T120000
DTEND;TZID=America/New_York:20250712T130000
DTSTAMP:20260420T025044
CREATED:20250706T005613Z
LAST-MODIFIED:20250706T005736Z
UID:10010040-1752321600-1752325200@ballethnic.org
SUMMARY:Academy Registration 2025
DESCRIPTION:Academy of Dance Registration | 12:00 PM – 1:00 PM
URL:https://ballethnic.org/event/academy-registration-2025/
LOCATION:Ballethnic Dance Studio\, 2587 Ballethnic Way\, East Point\, GA\, 30344\, United States
CATEGORIES:Community Event,Open Classes,Productions,Special Classes
END:VEVENT
BEGIN:VEVENT
DTSTART;TZID=America/New_York:20250712T150000
DTEND;TZID=America/New_York:20250712T174500
DTSTAMP:20260420T025044
CREATED:20250706T004651Z
LAST-MODIFIED:20250706T004651Z
UID:10010039-1752332400-1752342300@ballethnic.org
SUMMARY:Urban Nutcracker Auditions 2025
DESCRIPTION:3:00 PM – 3:45 PM | Ages: 6 -11 yrs\n3:45 PM – 4:30 PM | Ages: 12 & Up\n4:45 PM – 5:45 PM | Adults & Professionals
URL:https://ballethnic.org/event/urban-nutcracker-auditions-2025/
LOCATION:Ballethnic Dance Studio\, 2587 Ballethnic Way\, East Point\, GA\, 30344\, United States
CATEGORIES:Community Event,Open Classes,Productions,Special Classes
END:VEVENT
END:VCALENDAR